BEGIN:VCALENDAR
VERSION:2.0
PRODID:-//Hill Library, Strafford, NH - ECPv6.15.20//NONSGML v1.0//EN
CALSCALE:GREGORIAN
METHOD:PUBLISH
X-ORIGINAL-URL:https://hilllibrary.org
X-WR-CALDESC:Events for Hill Library, Strafford, NH
REFRESH-INTERVAL;VALUE=DURATION:PT1H
X-Robots-Tag:noindex
X-PUBLISHED-TTL:PT1H
BEGIN:VTIMEZONE
TZID:America/New_York
BEGIN:DAYLIGHT
TZOFFSETFROM:-0500
TZOFFSETTO:-0400
TZNAME:EDT
DTSTART:20250309T070000
END:DAYLIGHT
BEGIN:STANDARD
TZOFFSETFROM:-0400
TZOFFSETTO:-0500
TZNAME:EST
DTSTART:20251102T060000
END:STANDARD
BEGIN:DAYLIGHT
TZOFFSETFROM:-0500
TZOFFSETTO:-0400
TZNAME:EDT
DTSTART:20260308T070000
END:DAYLIGHT
BEGIN:STANDARD
TZOFFSETFROM:-0400
TZOFFSETTO:-0500
TZNAME:EST
DTSTART:20261101T060000
END:STANDARD
BEGIN:DAYLIGHT
TZOFFSETFROM:-0500
TZOFFSETTO:-0400
TZNAME:EDT
DTSTART:20270314T070000
END:DAYLIGHT
BEGIN:STANDARD
TZOFFSETFROM:-0400
TZOFFSETTO:-0500
TZNAME:EST
DTSTART:20271107T060000
END:STANDARD
END:VTIMEZONE
BEGIN:VEVENT
DTSTART;TZID=America/New_York:20260518T100000
DTEND;TZID=America/New_York:20260518T103000
DTSTAMP:20260423T190053
CREATED:20240916T151257Z
LAST-MODIFIED:20260325T212321Z
UID:10000085-1779098400-1779100200@hilllibrary.org
SUMMARY:Story Time
DESCRIPTION:Join us at 10 am on Mondays for some songs\, stories\, and a craft! All ages welcome.
URL:https://hilllibrary.org/event/story-time/2026-05-18/
LOCATION:Hill Library\, 1151 Parker Mountain Road\, Strafford\, NH\, 03884
CATEGORIES:Ages 0-5
ATTACH;FMTTYPE=image/png:https://hilllibrary.org/wp-content/uploads/2024/04/Storytime.png
ORGANIZER;CN="Hill Library":MAILTO:lmolloy@hilllibrary.org
END:VEVENT
BEGIN:VEVENT
DTSTART;TZID=America/New_York:20260518T100000
DTEND;TZID=America/New_York:20260518T110000
DTSTAMP:20260423T190053
CREATED:20260422T182003Z
LAST-MODIFIED:20260422T182003Z
UID:10006829-1779098400-1779102000@hilllibrary.org
SUMMARY:Story Time Hike
DESCRIPTION:Join us for a fun hike at the Story Book Trail! We’ll meet at the Isinglass River Conservation Reserve parking lot off of New Road.
URL:https://hilllibrary.org/event/story-time-hike-3/
LOCATION:Hill Library\, 1151 Parker Mountain Road\, Strafford\, NH\, 03884
CATEGORIES:Ages 0-5
ATTACH;FMTTYPE=image/png:https://hilllibrary.org/wp-content/uploads/2026/04/Copy-of-Copy-of-Story-Time-Hike.png
ORGANIZER;CN="Hill Library":MAILTO:lmolloy@hilllibrary.org
END:VEVENT
BEGIN:VEVENT
DTSTART;TZID=America/New_York:20260519T100000
DTEND;TZID=America/New_York:20260519T110000
DTSTAMP:20260423T190053
CREATED:20250815T204732Z
LAST-MODIFIED:20260113T122132Z
UID:10006130-1779184800-1779188400@hilllibrary.org
SUMMARY:Balance Exercise class
DESCRIPTION:Balance exercise class is staring back up on Tuesday and Friday mornings at 10 am. Join us for an hour of gentle stretching\, balance exercises and strength training. Registration is required.
URL:https://hilllibrary.org/event/better-balance-exercise-class-2/2026-05-19/
LOCATION:Hill Library\, 1151 Parker Mountain Road\, Strafford\, NH\, 03884
CATEGORIES:Adult programs
ATTACH;FMTTYPE=image/png:https://hilllibrary.org/wp-content/uploads/2025/04/Balance-cancelled.png
ORGANIZER;CN="Hill Library":MAILTO:lmolloy@hilllibrary.org
END:VEVENT
BEGIN:VEVENT
DTSTART;TZID=America/New_York:20260519T120000
DTEND;TZID=America/New_York:20260519T140000
DTSTAMP:20260423T190053
CREATED:20240918T195441Z
LAST-MODIFIED:20251215T155612Z
UID:10000926-1779192000-1779199200@hilllibrary.org
SUMMARY:Handy Crafters
DESCRIPTION:
URL:https://hilllibrary.org/event/handy-crafters/2026-05-19/
LOCATION:Hill Library\, 1151 Parker Mountain Road\, Strafford\, NH\, 03884
CATEGORIES:Adult programs
ATTACH;FMTTYPE=image/png:https://hilllibrary.org/wp-content/uploads/2024/09/Copy-of-If-youre-handy-join-the-Handy-Crafters-as-they-work-on-crafting-hats-and-scarves-for-members-of-the-military.-Stop-by-for-a-pattern.png
ORGANIZER;CN="Hill Library":MAILTO:lmolloy@hilllibrary.org
END:VEVENT
BEGIN:VEVENT
DTSTART;TZID=America/New_York:20260519T153000
DTEND;TZID=America/New_York:20260519T163000
DTSTAMP:20260423T190053
CREATED:20250520T192420Z
LAST-MODIFIED:20260422T182132Z
UID:10003945-1779204600-1779208200@hilllibrary.org
SUMMARY:Read to Toby
DESCRIPTION:Read to Toby\, our reading dog! Email cbeihl.hl@gmail.com to register.
URL:https://hilllibrary.org/event/read-to-toby-2-4/
LOCATION:Hill Library\, 1151 Parker Mountain Road\, Strafford\, NH\, 03884
CATEGORIES:K-4 Programs
ATTACH;FMTTYPE=image/png:https://hilllibrary.org/wp-content/uploads/2026/04/Read-to-Toby-2.png
ORGANIZER;CN="Hill Library":MAILTO:lmolloy@hilllibrary.org
END:VEVENT
BEGIN:VEVENT
DTSTART;TZID=America/New_York:20260519T180000
DTEND;TZID=America/New_York:20260519T190000
DTSTAMP:20260423T190053
CREATED:20260326T144409Z
LAST-MODIFIED:20260326T144425Z
UID:10002153-1779213600-1779217200@hilllibrary.org
SUMMARY:New Library Meeting
DESCRIPTION:
URL:https://hilllibrary.org/event/new-library-meeting-2-3/2026-05-19/
LOCATION:Hill Library\, 1151 Parker Mountain Road\, Strafford\, NH\, 03884
CATEGORIES:Adult programs
ATTACH;FMTTYPE=image/png:https://hilllibrary.org/wp-content/uploads/2024/09/Copy-of-New-Library-MTGInstagram-Post.png
ORGANIZER;CN="Hill Library":MAILTO:lmolloy@hilllibrary.org
END:VEVENT
BEGIN:VEVENT
DTSTART;TZID=America/New_York:20260520T140000
DTEND;TZID=America/New_York:20260520T143000
DTSTAMP:20260423T190053
CREATED:20250917T194926Z
LAST-MODIFIED:20251212T183633Z
UID:10004991-1779285600-1779287400@hilllibrary.org
SUMMARY:Book Buddies
DESCRIPTION:The Book Buddies is a program that unites residents with Strafford School classes. Please call the library for more information. Fingerprinting is required.
URL:https://hilllibrary.org/event/book-buddies-2-2-2/2026-05-20/
LOCATION:Hill Library\, 1151 Parker Mountain Road\, Strafford\, NH\, 03884
CATEGORIES:All Ages Youth and Adult
ATTACH;FMTTYPE=image/png:https://hilllibrary.org/wp-content/uploads/2025/02/Copy-of-Book-Buddies.png
ORGANIZER;CN="Hill Library":MAILTO:lmolloy@hilllibrary.org
END:VEVENT
BEGIN:VEVENT
DTSTART;TZID=America/New_York:20260520T180000
DTEND;TZID=America/New_York:20260520T193000
DTSTAMP:20260423T190053
CREATED:20260423T180954Z
LAST-MODIFIED:20260423T180954Z
UID:10006835-1779300000-1779305400@hilllibrary.org
SUMMARY:Board of Trustees Meeting
DESCRIPTION:
URL:https://hilllibrary.org/event/board-of-trustees-meeting-5-20-26/
LOCATION:Hill Library\, 1151 Parker Mountain Road\, Strafford\, NH\, 03884
CATEGORIES:Adult programs
ATTACH;FMTTYPE=image/png:https://hilllibrary.org/wp-content/uploads/2023/08/Trustees-1080-×-400-px-1.png
ORGANIZER;CN="Hill Library":MAILTO:lmolloy@hilllibrary.org
END:VEVENT
BEGIN:VEVENT
DTSTART;TZID=America/New_York:20260521T100000
DTEND;TZID=America/New_York:20260521T103000
DTSTAMP:20260423T190053
CREATED:20250915T173938Z
LAST-MODIFIED:20260218T171142Z
UID:10001708-1779357600-1779359400@hilllibrary.org
SUMMARY:Music and Movement
DESCRIPTION:Let’s move and groove with songs\, scarves\, egg shakers\, and our parachute! All ages welcome. Music and Movement meets on alternate Thursdays.
URL:https://hilllibrary.org/event/music-and-movement-2-4/2026-05-21/
LOCATION:Hill Library\, 1151 Parker Mountain Road\, Strafford\, NH\, 03884
CATEGORIES:Ages 0-5
ATTACH;FMTTYPE=image/png:https://hilllibrary.org/wp-content/uploads/2024/09/MM.png
ORGANIZER;CN="Hill Library":MAILTO:lmolloy@hilllibrary.org
END:VEVENT
BEGIN:VEVENT
DTSTART;TZID=America/New_York:20260521T130000
DTEND;TZID=America/New_York:20260521T150000
DTSTAMP:20260423T190053
CREATED:20241229T224919Z
LAST-MODIFIED:20251021T174443Z
UID:10002803-1779368400-1779375600@hilllibrary.org
SUMMARY:Mah Jongg Club
DESCRIPTION:
URL:https://hilllibrary.org/event/mah-jongg-club-2/2026-05-21/
LOCATION:Hill Library\, 1151 Parker Mountain Road\, Strafford\, NH\, 03884
CATEGORIES:Adult programs
ATTACH;FMTTYPE=image/png:https://hilllibrary.org/wp-content/uploads/2022/08/mahjong-1080-×-400-px.png
ORGANIZER;CN="Hill Library":MAILTO:lmolloy@hilllibrary.org
END:VEVENT
BEGIN:VEVENT
DTSTART;TZID=America/New_York:20260521T173000
DTEND;TZID=America/New_York:20260521T183000
DTSTAMP:20260423T190053
CREATED:20251202T144722Z
LAST-MODIFIED:20260422T182658Z
UID:10005749-1779384600-1779388200@hilllibrary.org
SUMMARY:3D Printing Demo
DESCRIPTION:Learn how 3D printing works and watch a demo of the library’s new 3D printer\, made possible by the NH Charitable Foundation’s technology grant! Adults and youth welcome.
URL:https://hilllibrary.org/event/3d-printing-demo/
LOCATION:Hill Library\, 1151 Parker Mountain Road\, Strafford\, NH\, 03884
CATEGORIES:All Ages Youth and Adult
ATTACH;FMTTYPE=image/png:https://hilllibrary.org/wp-content/uploads/2026/04/Copy-of-3d-PRINTER.png
ORGANIZER;CN="Hill Library":MAILTO:lmolloy@hilllibrary.org
END:VEVENT
BEGIN:VEVENT
DTSTART;TZID=America/New_York:20260522T100000
DTEND;TZID=America/New_York:20260522T110000
DTSTAMP:20260423T190053
CREATED:20250815T205028Z
LAST-MODIFIED:20251215T155000Z
UID:10005873-1779444000-1779447600@hilllibrary.org
SUMMARY:Balance Exercise class
DESCRIPTION:Balance exercise class is staring back up on Tuesday and Friday mornings at 10 am. Join us for an hour of gentle stretching\, balance exercises and strength training. Registration is required. \n 
URL:https://hilllibrary.org/event/balance-exercise-class/2026-05-22/
LOCATION:Hill Library\, 1151 Parker Mountain Road\, Strafford\, NH\, 03884
CATEGORIES:Adult programs
ATTACH;FMTTYPE=image/png:https://hilllibrary.org/wp-content/uploads/2025/04/Balance-cancelled.png
ORGANIZER;CN="Hill Library":MAILTO:lmolloy@hilllibrary.org
END:VEVENT
BEGIN:VEVENT
DTSTART;TZID=America/New_York:20260522T153000
DTEND;TZID=America/New_York:20260522T163000
DTSTAMP:20260423T190053
CREATED:20250821T153609Z
LAST-MODIFIED:20260325T212449Z
UID:10004708-1779463800-1779467400@hilllibrary.org
SUMMARY:Grade 5+ Games
DESCRIPTION:Join us for some fun games and snacks! All youth in grades 5 and up are welcome. No registration needed.
URL:https://hilllibrary.org/event/grade-5-games-2-3/2026-05-22/
LOCATION:Hill Library\, 1151 Parker Mountain Road\, Strafford\, NH\, 03884
CATEGORIES:Grades 5 and Up
ATTACH;FMTTYPE=image/png:https://hilllibrary.org/wp-content/uploads/2024/09/Grade-5-Games.png
ORGANIZER;CN="Hill Library":MAILTO:lmolloy@hilllibrary.org
END:VEVENT
BEGIN:VEVENT
DTSTART;TZID=America/New_York:20260522T153000
DTEND;TZID=America/New_York:20260522T163000
DTSTAMP:20260423T190053
CREATED:20251222T194701Z
LAST-MODIFIED:20260422T182416Z
UID:10006388-1779463800-1779467400@hilllibrary.org
SUMMARY:Grade 5+ Scavenger Hunt
DESCRIPTION:Do you have what it takes to complete our outdoor scavenger hunt? Join us and put your observation skills to the test! For youth in grades 5+\, no registration needed.
URL:https://hilllibrary.org/event/grade-5-crafternoon/
LOCATION:Hill Library\, 1151 Parker Mountain Road\, Strafford\, NH\, 03884
CATEGORIES:Grades 5 and Up
ATTACH;FMTTYPE=image/png:https://hilllibrary.org/wp-content/uploads/2026/04/Grade-5-Program-Flyer-Melissa.png
ORGANIZER;CN="Hill Library":MAILTO:lmolloy@hilllibrary.org
END:VEVENT
BEGIN:VEVENT
DTSTART;TZID=America/New_York:20260522T173000
DTEND;TZID=America/New_York:20260522T183000
DTSTAMP:20260423T190053
CREATED:20260423T181859Z
LAST-MODIFIED:20260423T182206Z
UID:10006849-1779471000-1779474600@hilllibrary.org
SUMMARY:Cookbook Club
DESCRIPTION:Cookbook Club
URL:https://hilllibrary.org/event/cookbook-club-14/
LOCATION:Hill Library\, 1151 Parker Mountain Road\, Strafford\, NH\, 03884
CATEGORIES:Book Clubs
ORGANIZER;CN="Hill Library":MAILTO:lmolloy@hilllibrary.org
END:VEVENT
BEGIN:VEVENT
DTSTART;TZID=America/New_York:20260523T090000
DTEND;TZID=America/New_York:20260523T100000
DTSTAMP:20260423T190053
CREATED:20241005T161420Z
LAST-MODIFIED:20260206T193134Z
UID:10004152-1779526800-1779530400@hilllibrary.org
SUMMARY:Gentle Flow Yoga 9am-10am
DESCRIPTION:
URL:https://hilllibrary.org/event/gentle-flow-yoga-2-2/2026-05-23/
LOCATION:Hill Library\, 1151 Parker Mountain Road\, Strafford\, NH\, 03884
CATEGORIES:Adult programs
ATTACH;FMTTYPE=image/png:https://hilllibrary.org/wp-content/uploads/2024/03/Copy-of-Copy-of-Copy-of-Copy-of-GENTLE-FLOW-YOGA.png
ORGANIZER;CN="Hill Library":MAILTO:lmolloy@hilllibrary.org
END:VEVENT
BEGIN:VEVENT
DTSTART;TZID=America/New_York:20260523T110000
DTEND;TZID=America/New_York:20260523T120000
DTSTAMP:20260423T190053
CREATED:20240920T210120Z
LAST-MODIFIED:20260422T182251Z
UID:10002003-1779534000-1779537600@hilllibrary.org
SUMMARY:Children's Garden Club
DESCRIPTION:Help us plant\, weed\, and more in the Community Garden! All ages welcome\, no registration needed.
URL:https://hilllibrary.org/event/garden-club-2/
LOCATION:Hill Library\, 1151 Parker Mountain Road\, Strafford\, NH\, 03884
CATEGORIES:K-4 Programs
ATTACH;FMTTYPE=image/png:https://hilllibrary.org/wp-content/uploads/2026/04/Copy-of-HILL-LIBRARY-GARDEN-CLUB.png
ORGANIZER;CN="Hill Library":MAILTO:lmolloy@hilllibrary.org
END:VEVENT
END:VCALENDAR