BEGIN:VCALENDAR
VERSION:2.0
PRODID:-//Hill Library, Strafford, NH - ECPv6.15.20//NONSGML v1.0//EN
CALSCALE:GREGORIAN
METHOD:PUBLISH
X-ORIGINAL-URL:https://hilllibrary.org
X-WR-CALDESC:Events for Hill Library, Strafford, NH
REFRESH-INTERVAL;VALUE=DURATION:PT1H
X-Robots-Tag:noindex
X-PUBLISHED-TTL:PT1H
BEGIN:VTIMEZONE
TZID:America/New_York
BEGIN:DAYLIGHT
TZOFFSETFROM:-0500
TZOFFSETTO:-0400
TZNAME:EDT
DTSTART:20240310T070000
END:DAYLIGHT
BEGIN:STANDARD
TZOFFSETFROM:-0400
TZOFFSETTO:-0500
TZNAME:EST
DTSTART:20241103T060000
END:STANDARD
BEGIN:DAYLIGHT
TZOFFSETFROM:-0500
TZOFFSETTO:-0400
TZNAME:EDT
DTSTART:20250309T070000
END:DAYLIGHT
BEGIN:STANDARD
TZOFFSETFROM:-0400
TZOFFSETTO:-0500
TZNAME:EST
DTSTART:20251102T060000
END:STANDARD
BEGIN:DAYLIGHT
TZOFFSETFROM:-0500
TZOFFSETTO:-0400
TZNAME:EDT
DTSTART:20260308T070000
END:DAYLIGHT
BEGIN:STANDARD
TZOFFSETFROM:-0400
TZOFFSETTO:-0500
TZNAME:EST
DTSTART:20261101T060000
END:STANDARD
END:VTIMEZONE
BEGIN:VEVENT
DTSTART;TZID=America/New_York:20251117T100000
DTEND;TZID=America/New_York:20251117T103000
DTSTAMP:20260424T013938
CREATED:20240916T151257Z
LAST-MODIFIED:20260325T212321Z
UID:10000059-1763373600-1763375400@hilllibrary.org
SUMMARY:Story Time
DESCRIPTION:Join us at 10 am on Mondays for some songs\, stories\, and a craft! All ages welcome.
URL:https://hilllibrary.org/event/story-time/2025-11-17/
LOCATION:Hill Library\, 1151 Parker Mountain Road\, Strafford\, NH\, 03884
CATEGORIES:Ages 0-5
ATTACH;FMTTYPE=image/png:https://hilllibrary.org/wp-content/uploads/2024/04/Storytime.png
ORGANIZER;CN="Hill Library":MAILTO:lmolloy@hilllibrary.org
END:VEVENT
BEGIN:VEVENT
DTSTART;TZID=America/New_York:20251117T153000
DTEND;TZID=America/New_York:20251117T163000
DTSTAMP:20260424T013938
CREATED:20251020T185344Z
LAST-MODIFIED:20251020T185344Z
UID:10005575-1763393400-1763397000@hilllibrary.org
SUMMARY:Grades 1-2 Library Club
DESCRIPTION:November- December registration opens October 20th at 6pm. \nEmail cbeihl.hl@gmail.com to get the registration links\, or be added to the Library Club email list for future sign-ups.
URL:https://hilllibrary.org/event/grades-1-2-library-club-2/2025-11-17/
LOCATION:Hill Library\, 1151 Parker Mountain Road\, Strafford\, NH\, 03884
CATEGORIES:K-4 Programs
ATTACH;FMTTYPE=image/png:https://hilllibrary.org/wp-content/uploads/2025/10/Copy-of-Copy-of-Library-Club-Poster-Instagram-Post.png
ORGANIZER;CN="Hill Library":MAILTO:lmolloy@hilllibrary.org
END:VEVENT
BEGIN:VEVENT
DTSTART;TZID=America/New_York:20251118T100000
DTEND;TZID=America/New_York:20251118T110000
DTSTAMP:20260424T013938
CREATED:20250815T204732Z
LAST-MODIFIED:20260113T122132Z
UID:10004720-1763460000-1763463600@hilllibrary.org
SUMMARY:Balance Exercise class
DESCRIPTION:Balance exercise class is staring back up on Tuesday and Friday mornings at 10 am. Join us for an hour of gentle stretching\, balance exercises and strength training. Registration is required.
URL:https://hilllibrary.org/event/better-balance-exercise-class-2/2025-11-18/
LOCATION:Hill Library\, 1151 Parker Mountain Road\, Strafford\, NH\, 03884
CATEGORIES:Adult programs
ATTACH;FMTTYPE=image/png:https://hilllibrary.org/wp-content/uploads/2025/04/Balance-cancelled.png
ORGANIZER;CN="Hill Library":MAILTO:lmolloy@hilllibrary.org
END:VEVENT
BEGIN:VEVENT
DTSTART;TZID=America/New_York:20251118T120000
DTEND;TZID=America/New_York:20251118T140000
DTSTAMP:20260424T013938
CREATED:20240918T195441Z
LAST-MODIFIED:20251215T155612Z
UID:10000900-1763467200-1763474400@hilllibrary.org
SUMMARY:Handy Crafters
DESCRIPTION:
URL:https://hilllibrary.org/event/handy-crafters/2025-11-18/
LOCATION:Hill Library\, 1151 Parker Mountain Road\, Strafford\, NH\, 03884
CATEGORIES:Adult programs
ATTACH;FMTTYPE=image/png:https://hilllibrary.org/wp-content/uploads/2024/09/Copy-of-If-youre-handy-join-the-Handy-Crafters-as-they-work-on-crafting-hats-and-scarves-for-members-of-the-military.-Stop-by-for-a-pattern.png
ORGANIZER;CN="Hill Library":MAILTO:lmolloy@hilllibrary.org
END:VEVENT
BEGIN:VEVENT
DTSTART;TZID=America/New_York:20251119T140000
DTEND;TZID=America/New_York:20251119T143000
DTSTAMP:20260424T013938
CREATED:20250917T194926Z
LAST-MODIFIED:20251212T183633Z
UID:10004969-1763560800-1763562600@hilllibrary.org
SUMMARY:Book Buddies
DESCRIPTION:The Book Buddies is a program that unites residents with Strafford School classes. Please call the library for more information. Fingerprinting is required.
URL:https://hilllibrary.org/event/book-buddies-2-2-2/2025-11-19/
LOCATION:Hill Library\, 1151 Parker Mountain Road\, Strafford\, NH\, 03884
CATEGORIES:All Ages Youth and Adult
ATTACH;FMTTYPE=image/png:https://hilllibrary.org/wp-content/uploads/2025/02/Copy-of-Book-Buddies.png
ORGANIZER;CN="Hill Library":MAILTO:lmolloy@hilllibrary.org
END:VEVENT
BEGIN:VEVENT
DTSTART;TZID=America/New_York:20251119T153000
DTEND;TZID=America/New_York:20251119T163000
DTSTAMP:20260424T013938
CREATED:20251020T185536Z
LAST-MODIFIED:20251020T185536Z
UID:10005581-1763566200-1763569800@hilllibrary.org
SUMMARY:Grades 3+ Library Club
DESCRIPTION:November- December registration opens October 20th at 6pm. \nEmail cbeihl.hl@gmail.com to get the registration links\, or be added to the Library Club email list for future sign-ups.
URL:https://hilllibrary.org/event/grades-3-library-club-2/2025-11-19/
LOCATION:Hill Library\, 1151 Parker Mountain Road\, Strafford\, NH\, 03884
CATEGORIES:K-4 Programs
ATTACH;FMTTYPE=image/png:https://hilllibrary.org/wp-content/uploads/2025/10/Copy-of-Copy-of-Library-Club-Poster-Instagram-Post.png
ORGANIZER;CN="Hill Library":MAILTO:lmolloy@hilllibrary.org
END:VEVENT
BEGIN:VEVENT
DTSTART;TZID=America/New_York:20251120T100000
DTEND;TZID=America/New_York:20251120T103000
DTSTAMP:20260424T013938
CREATED:20250915T173938Z
LAST-MODIFIED:20260218T171142Z
UID:10001682-1763632800-1763634600@hilllibrary.org
SUMMARY:Music and Movement
DESCRIPTION:Let’s move and groove with songs\, scarves\, egg shakers\, and our parachute! All ages welcome. Music and Movement meets on alternate Thursdays.
URL:https://hilllibrary.org/event/music-and-movement-2-4/2025-11-20/
LOCATION:Hill Library\, 1151 Parker Mountain Road\, Strafford\, NH\, 03884
CATEGORIES:Ages 0-5
ATTACH;FMTTYPE=image/png:https://hilllibrary.org/wp-content/uploads/2024/09/MM.png
ORGANIZER;CN="Hill Library":MAILTO:lmolloy@hilllibrary.org
END:VEVENT
BEGIN:VEVENT
DTSTART;TZID=America/New_York:20251120T130000
DTEND;TZID=America/New_York:20251120T150000
DTSTAMP:20260424T013938
CREATED:20241229T224919Z
LAST-MODIFIED:20251021T174443Z
UID:10002777-1763643600-1763650800@hilllibrary.org
SUMMARY:Mah Jongg Club
DESCRIPTION:
URL:https://hilllibrary.org/event/mah-jongg-club-2/2025-11-20/
LOCATION:Hill Library\, 1151 Parker Mountain Road\, Strafford\, NH\, 03884
CATEGORIES:Adult programs
ATTACH;FMTTYPE=image/png:https://hilllibrary.org/wp-content/uploads/2022/08/mahjong-1080-×-400-px.png
ORGANIZER;CN="Hill Library":MAILTO:lmolloy@hilllibrary.org
END:VEVENT
BEGIN:VEVENT
DTSTART;TZID=America/New_York:20251120T180000
DTEND;TZID=America/New_York:20251120T190000
DTSTAMP:20260424T013938
CREATED:20250820T201006Z
LAST-MODIFIED:20250820T201018Z
UID:10004666-1763661600-1763665200@hilllibrary.org
SUMMARY:The Art of Bonsai and Creating Miniature Trees
DESCRIPTION:Steven will cover all of the basics\, from potting soil to pots\, tools\, horticulture\, seasonal care and styling a tree. \n\n\nLastly\, there will be a demonstration of transforming a garden juniper shrub into a bonsai tree. \nEmail Larisa or call 603-664-2800 to register!
URL:https://hilllibrary.org/event/the-art-of-bonsai-and-creating-miniature-trees/
LOCATION:Hill Library\, 1151 Parker Mountain Road\, Strafford\, NH\, 03884
CATEGORIES:All Ages Youth and Adult
ATTACH;FMTTYPE=application/pdf:https://hilllibrary.org/wp-content/uploads/2025/08/Copy-of-Bonsai-Post.pdf
ORGANIZER;CN="Hill Library":MAILTO:lmolloy@hilllibrary.org
END:VEVENT
BEGIN:VEVENT
DTSTART;TZID=America/New_York:20251121T100000
DTEND;TZID=America/New_York:20251121T110000
DTSTAMP:20260424T013938
CREATED:20250815T205028Z
LAST-MODIFIED:20251215T155000Z
UID:10004418-1763719200-1763722800@hilllibrary.org
SUMMARY:Balance Exercise class
DESCRIPTION:Balance exercise class is staring back up on Tuesday and Friday mornings at 10 am. Join us for an hour of gentle stretching\, balance exercises and strength training. Registration is required. \n 
URL:https://hilllibrary.org/event/balance-exercise-class/2025-11-21/
LOCATION:Hill Library\, 1151 Parker Mountain Road\, Strafford\, NH\, 03884
CATEGORIES:Adult programs
ATTACH;FMTTYPE=image/png:https://hilllibrary.org/wp-content/uploads/2025/04/Balance-cancelled.png
ORGANIZER;CN="Hill Library":MAILTO:lmolloy@hilllibrary.org
END:VEVENT
BEGIN:VEVENT
DTSTART;TZID=America/New_York:20251121T153000
DTEND;TZID=America/New_York:20251121T163000
DTSTAMP:20260424T013938
CREATED:20250821T153609Z
LAST-MODIFIED:20260325T212449Z
UID:10004684-1763739000-1763742600@hilllibrary.org
SUMMARY:Grade 5+ Games
DESCRIPTION:Join us for some fun games and snacks! All youth in grades 5 and up are welcome. No registration needed.
URL:https://hilllibrary.org/event/grade-5-games-2-3/2025-11-21/
LOCATION:Hill Library\, 1151 Parker Mountain Road\, Strafford\, NH\, 03884
CATEGORIES:Grades 5 and Up
ATTACH;FMTTYPE=image/png:https://hilllibrary.org/wp-content/uploads/2024/09/Grade-5-Games.png
ORGANIZER;CN="Hill Library":MAILTO:lmolloy@hilllibrary.org
END:VEVENT
BEGIN:VEVENT
DTSTART;TZID=America/New_York:20251122T090000
DTEND;TZID=America/New_York:20251122T100000
DTSTAMP:20260424T013938
CREATED:20241005T161420Z
LAST-MODIFIED:20260206T193134Z
UID:10004126-1763802000-1763805600@hilllibrary.org
SUMMARY:Gentle Flow Yoga 9am-10am
DESCRIPTION:
URL:https://hilllibrary.org/event/gentle-flow-yoga-2-2/2025-11-22/
LOCATION:Hill Library\, 1151 Parker Mountain Road\, Strafford\, NH\, 03884
CATEGORIES:Adult programs
ATTACH;FMTTYPE=image/png:https://hilllibrary.org/wp-content/uploads/2024/03/Copy-of-Copy-of-Copy-of-Copy-of-GENTLE-FLOW-YOGA.png
ORGANIZER;CN="Hill Library":MAILTO:lmolloy@hilllibrary.org
END:VEVENT
BEGIN:VEVENT
DTSTART;TZID=America/New_York:20251123T120000
DTEND;TZID=America/New_York:20251123T160000
DTSTAMP:20260424T013938
CREATED:20250917T170900Z
LAST-MODIFIED:20260124T160450Z
UID:10004901-1763899200-1763913600@hilllibrary.org
SUMMARY:Spinners & Fiber Arts Group
DESCRIPTION:Spinning and Fiber Arts Drop in is back! Bring your projects and meet some new people.
URL:https://hilllibrary.org/event/spinners-fiber-arts-group-2-3/2025-11-23/
LOCATION:Hill Library\, 1151 Parker Mountain Road\, Strafford\, NH\, 03884
CATEGORIES:Adult programs
ATTACH;FMTTYPE=image/png:https://hilllibrary.org/wp-content/uploads/2025/09/Copy-of-Spinners-and-Fiber-Art.png
ORGANIZER;CN="Hill Library":MAILTO:lmolloy@hilllibrary.org
END:VEVENT
END:VCALENDAR