BEGIN:VCALENDAR
VERSION:2.0
PRODID:-//Hill Library, Strafford, NH - ECPv6.15.20//NONSGML v1.0//EN
CALSCALE:GREGORIAN
METHOD:PUBLISH
X-WR-CALNAME:Hill Library, Strafford, NH
X-ORIGINAL-URL:https://hilllibrary.org
X-WR-CALDESC:Events for Hill Library, Strafford, NH
REFRESH-INTERVAL;VALUE=DURATION:PT1H
X-Robots-Tag:noindex
X-PUBLISHED-TTL:PT1H
BEGIN:VTIMEZONE
TZID:America/New_York
BEGIN:DAYLIGHT
TZOFFSETFROM:-0500
TZOFFSETTO:-0400
TZNAME:EDT
DTSTART:20240310T070000
END:DAYLIGHT
BEGIN:STANDARD
TZOFFSETFROM:-0400
TZOFFSETTO:-0500
TZNAME:EST
DTSTART:20241103T060000
END:STANDARD
BEGIN:DAYLIGHT
TZOFFSETFROM:-0500
TZOFFSETTO:-0400
TZNAME:EDT
DTSTART:20250309T070000
END:DAYLIGHT
BEGIN:STANDARD
TZOFFSETFROM:-0400
TZOFFSETTO:-0500
TZNAME:EST
DTSTART:20251102T060000
END:STANDARD
BEGIN:DAYLIGHT
TZOFFSETFROM:-0500
TZOFFSETTO:-0400
TZNAME:EDT
DTSTART:20260308T070000
END:DAYLIGHT
BEGIN:STANDARD
TZOFFSETFROM:-0400
TZOFFSETTO:-0500
TZNAME:EST
DTSTART:20261101T060000
END:STANDARD
END:VTIMEZONE
BEGIN:VEVENT
DTSTART;TZID=America/New_York:20250317T100000
DTEND;TZID=America/New_York:20250317T103000
DTSTAMP:20260424T150929
CREATED:20240916T151257Z
LAST-MODIFIED:20260325T212321Z
UID:10000024-1742205600-1742207400@hilllibrary.org
SUMMARY:Story Time
DESCRIPTION:Join us at 10 am on Mondays for some songs\, stories\, and a craft! All ages welcome.
URL:https://hilllibrary.org/event/story-time/2025-03-17/
LOCATION:Hill Library\, 1151 Parker Mountain Road\, Strafford\, NH\, 03884
CATEGORIES:Ages 0-5
ATTACH;FMTTYPE=image/png:https://hilllibrary.org/wp-content/uploads/2024/04/Storytime.png
ORGANIZER;CN="Hill Library":MAILTO:lmolloy@hilllibrary.org
END:VEVENT
BEGIN:VEVENT
DTSTART;TZID=America/New_York:20250317T123000
DTEND;TZID=America/New_York:20250317T133000
DTSTAMP:20260424T150929
CREATED:20250223T234526Z
LAST-MODIFIED:20250223T234526Z
UID:10003258-1742214600-1742218200@hilllibrary.org
SUMMARY:Lunch & Laughs
DESCRIPTION:Lunch & Laughs: a time of food and fellowship will meet from 12:30 – 1:30 pm.
URL:https://hilllibrary.org/event/lunch-laughs/
LOCATION:Hill Library\, 1151 Parker Mountain Road\, Strafford\, NH\, 03884
CATEGORIES:Adult programs
ATTACH;FMTTYPE=image/png:https://hilllibrary.org/wp-content/uploads/2025/02/Lunch-and-Laughs.png
ORGANIZER;CN="Hill Library":MAILTO:lmolloy@hilllibrary.org
END:VEVENT
BEGIN:VEVENT
DTSTART;TZID=America/New_York:20250317T153000
DTEND;TZID=America/New_York:20250317T163000
DTSTAMP:20260424T150929
CREATED:20250224T193807Z
LAST-MODIFIED:20250224T195024Z
UID:10003320-1742225400-1742229000@hilllibrary.org
SUMMARY:K-1 Library Club
DESCRIPTION:Please email cbeihl.hl@gmail.com for the registration links.
URL:https://hilllibrary.org/event/k-1-library-club-2-2-2/2025-03-17/
LOCATION:Hill Library\, 1151 Parker Mountain Road\, Strafford\, NH\, 03884
CATEGORIES:K-4 Programs
ATTACH;FMTTYPE=image/png:https://hilllibrary.org/wp-content/uploads/2025/02/Copy-of-Library-Club-Poster-Instagram-Post.png
ORGANIZER;CN="Hill Library":MAILTO:lmolloy@hilllibrary.org
END:VEVENT
BEGIN:VEVENT
DTSTART;TZID=America/New_York:20250318T120000
DTEND;TZID=America/New_York:20250318T140000
DTSTAMP:20260424T150929
CREATED:20240918T195441Z
LAST-MODIFIED:20251215T155612Z
UID:10000865-1742299200-1742306400@hilllibrary.org
SUMMARY:Handy Crafters
DESCRIPTION:
URL:https://hilllibrary.org/event/handy-crafters/2025-03-18/
LOCATION:Hill Library\, 1151 Parker Mountain Road\, Strafford\, NH\, 03884
CATEGORIES:Adult programs
ATTACH;FMTTYPE=image/png:https://hilllibrary.org/wp-content/uploads/2024/09/Copy-of-If-youre-handy-join-the-Handy-Crafters-as-they-work-on-crafting-hats-and-scarves-for-members-of-the-military.-Stop-by-for-a-pattern.png
ORGANIZER;CN="Hill Library":MAILTO:lmolloy@hilllibrary.org
END:VEVENT
BEGIN:VEVENT
DTSTART;TZID=America/New_York:20250319T080000
DTEND;TZID=America/New_York:20250319T170000
DTSTAMP:20260424T150929
CREATED:20250319T161649Z
LAST-MODIFIED:20250319T161649Z
UID:10003516-1742371200-1742403600@hilllibrary.org
SUMMARY:Lunch & Laughs
DESCRIPTION:Lunch & Laughs: a time of food and fellowship will meet from 12:30 – 1:30 pm.
URL:https://hilllibrary.org/event/lunch-laughs-2-2/2025-03-19/
LOCATION:Hill Library\, 1151 Parker Mountain Road\, Strafford\, NH\, 03884
CATEGORIES:Adult programs
ATTACH;FMTTYPE=image/png:https://hilllibrary.org/wp-content/uploads/2025/02/Lunch-and-Laughs.png
ORGANIZER;CN="Hill Library":MAILTO:lmolloy@hilllibrary.org
END:VEVENT
BEGIN:VEVENT
DTSTART;TZID=America/New_York:20250319T140000
DTEND;TZID=America/New_York:20250319T143000
DTSTAMP:20260424T150929
CREATED:20250223T223906Z
LAST-MODIFIED:20250223T223906Z
UID:10003186-1742392800-1742394600@hilllibrary.org
SUMMARY:Book Buddies
DESCRIPTION:The Book Buddies is a program that unites residents with Strafford School classes. Please call the library for more information. Fingerprinting is required.
URL:https://hilllibrary.org/event/book-buddies/2025-03-19/
LOCATION:Hill Library\, 1151 Parker Mountain Road\, Strafford\, NH\, 03884
CATEGORIES:All Ages Youth and Adult
ATTACH;FMTTYPE=image/png:https://hilllibrary.org/wp-content/uploads/2025/02/Copy-of-Book-Buddies.png
ORGANIZER;CN="Hill Library":MAILTO:lmolloy@hilllibrary.org
END:VEVENT
BEGIN:VEVENT
DTSTART;TZID=America/New_York:20250319T153000
DTEND;TZID=America/New_York:20250319T163000
DTSTAMP:20260424T150929
CREATED:20250224T193641Z
LAST-MODIFIED:20250224T195125Z
UID:10003378-1742398200-1742401800@hilllibrary.org
SUMMARY:Grades 2+ Library Club
DESCRIPTION:Email cbeihl.hl@gmail.com for the registration links.
URL:https://hilllibrary.org/event/grades-2-library-club-2-2-2/2025-03-19/
LOCATION:Hill Library\, 1151 Parker Mountain Road\, Strafford\, NH\, 03884
CATEGORIES:K-4 Programs
ATTACH;FMTTYPE=image/png:https://hilllibrary.org/wp-content/uploads/2025/02/Copy-of-Library-Club-Poster-Instagram-Post.png
ORGANIZER;CN="Hill Library":MAILTO:lmolloy@hilllibrary.org
END:VEVENT
BEGIN:VEVENT
DTSTART;TZID=America/New_York:20250320T100000
DTEND;TZID=America/New_York:20250320T103000
DTSTAMP:20260424T150929
CREATED:20240920T193243Z
LAST-MODIFIED:20250915T174145Z
UID:10001647-1742464800-1742466600@hilllibrary.org
SUMMARY:Music and Movement
DESCRIPTION:Let’s move and groove with songs\, scarves\, egg shakers\, and our parachute! All ages welcome. Starting in October\, Music and Movement will be alternating every other week with our new program\, Sensory Playtime!
URL:https://hilllibrary.org/event/music-and-movement-2/2025-03-20/
LOCATION:Hill Library\, 1151 Parker Mountain Road\, Strafford\, NH\, 03884
CATEGORIES:Ages 0-5
ATTACH;FMTTYPE=image/png:https://hilllibrary.org/wp-content/uploads/2024/09/MM.png
ORGANIZER;CN="Hill Library":MAILTO:lmolloy@hilllibrary.org
END:VEVENT
BEGIN:VEVENT
DTSTART;TZID=America/New_York:20250320T130000
DTEND;TZID=America/New_York:20250320T150000
DTSTAMP:20260424T150929
CREATED:20241229T224919Z
LAST-MODIFIED:20251021T174443Z
UID:10002742-1742475600-1742482800@hilllibrary.org
SUMMARY:Mah Jongg Club
DESCRIPTION:
URL:https://hilllibrary.org/event/mah-jongg-club-2/2025-03-20/
LOCATION:Hill Library\, 1151 Parker Mountain Road\, Strafford\, NH\, 03884
CATEGORIES:Adult programs
ATTACH;FMTTYPE=image/png:https://hilllibrary.org/wp-content/uploads/2022/08/mahjong-1080-×-400-px.png
ORGANIZER;CN="Hill Library":MAILTO:lmolloy@hilllibrary.org
END:VEVENT
BEGIN:VEVENT
DTSTART;TZID=America/New_York:20250320T153000
DTEND;TZID=America/New_York:20250320T163000
DTSTAMP:20260424T150929
CREATED:20241017T163605Z
LAST-MODIFIED:20250224T195705Z
UID:10002463-1742484600-1742488200@hilllibrary.org
SUMMARY:Grades 5+ Cookie Decorating
DESCRIPTION:Decorate some delicious cookies with Leah from Cookie Bear Baking! Spaces are limited\, so please register. Email cbeihl.hl@gmail.com. This program is open to youth in grade 5 and up. 
URL:https://hilllibrary.org/event/fall-cookie-decorating-2/
LOCATION:Hill Library\, 1151 Parker Mountain Road\, Strafford\, NH\, 03884
CATEGORIES:Grades 5 and Up
ATTACH;FMTTYPE=image/png:https://hilllibrary.org/wp-content/uploads/2024/10/Gr-5-Cookie-Decorating.png
ORGANIZER;CN="Hill Library":MAILTO:lmolloy@hilllibrary.org
END:VEVENT
BEGIN:VEVENT
DTSTART;TZID=America/New_York:20250321T140000
DTEND;TZID=America/New_York:20250321T150000
DTSTAMP:20260424T150929
CREATED:20250221T235303Z
LAST-MODIFIED:20250318T191411Z
UID:10002215-1742565600-1742569200@hilllibrary.org
SUMMARY:Better Balance Chair Exercise class
DESCRIPTION:
URL:https://hilllibrary.org/event/better-balance-chair-exercise-class-2-2/2025-03-21/
LOCATION:Hill Library\, 1151 Parker Mountain Road\, Strafford\, NH\, 03884
CATEGORIES:Adult programs
ORGANIZER;CN="Hill Library":MAILTO:lmolloy@hilllibrary.org
END:VEVENT
BEGIN:VEVENT
DTSTART;TZID=America/New_York:20250321T183000
DTEND;TZID=America/New_York:20250321T193000
DTSTAMP:20260424T150929
CREATED:20250223T235136Z
LAST-MODIFIED:20250223T235136Z
UID:10003318-1742581800-1742585400@hilllibrary.org
SUMMARY:New Hampshire Humanities program: New Hampshire Cemeteries & Gravestones
DESCRIPTION:A rich variety of cemeteries and gravestones can be found in town cemeteries all across our state and the forgotten aspects of our history that is therein revealed. They not only tell stories of such historical events as the Great Awakening\, the Throat Distemper epidemic\, the American Revolution\, and the battles of the Civil War\, but also reveal how aspects of society in the Granite State. Join Glenn to find out more about these deeply personal works of art and learn how to read the stone “pages” that give insight into the vast genealogical book of New Hampshire through the ages.
URL:https://hilllibrary.org/event/new-hampshire-humanities-program-new-hampshire-cemeteries-gravestones/
LOCATION:Hill Library\, 1151 Parker Mountain Road\, Strafford\, NH\, 03884
CATEGORIES:All Ages Youth and Adult
ATTACH;FMTTYPE=image/png:https://hilllibrary.org/wp-content/uploads/2025/02/Copy-of-Copy-of-New-Hampshire-Cemeteries-and-Gravestones-A-rich-variety-of-cemeteries-and-gravestones-can-be-found-in-town-cemeteries-all-across-our-state-and-the-forgotten-aspects-of-our-history-.png
ORGANIZER;CN="Hill Library":MAILTO:lmolloy@hilllibrary.org
END:VEVENT
BEGIN:VEVENT
DTSTART;TZID=America/New_York:20250322T090000
DTEND;TZID=America/New_York:20250322T100000
DTSTAMP:20260424T150929
CREATED:20241005T161420Z
LAST-MODIFIED:20260206T193134Z
UID:10004092-1742634000-1742637600@hilllibrary.org
SUMMARY:Gentle Flow Yoga 9am-10am
DESCRIPTION:
URL:https://hilllibrary.org/event/gentle-flow-yoga-2-2/2025-03-22/
LOCATION:Hill Library\, 1151 Parker Mountain Road\, Strafford\, NH\, 03884
CATEGORIES:Adult programs
ATTACH;FMTTYPE=image/png:https://hilllibrary.org/wp-content/uploads/2024/03/Copy-of-Copy-of-Copy-of-Copy-of-GENTLE-FLOW-YOGA.png
ORGANIZER;CN="Hill Library":MAILTO:lmolloy@hilllibrary.org
END:VEVENT
END:VCALENDAR