BEGIN:VCALENDAR
VERSION:2.0
PRODID:-//Hill Library, Strafford, NH - ECPv6.15.20//NONSGML v1.0//EN
CALSCALE:GREGORIAN
METHOD:PUBLISH
X-ORIGINAL-URL:https://hilllibrary.org
X-WR-CALDESC:Events for Hill Library, Strafford, NH
REFRESH-INTERVAL;VALUE=DURATION:PT1H
X-Robots-Tag:noindex
X-PUBLISHED-TTL:PT1H
BEGIN:VTIMEZONE
TZID:America/New_York
BEGIN:DAYLIGHT
TZOFFSETFROM:-0500
TZOFFSETTO:-0400
TZNAME:EDT
DTSTART:20240310T070000
END:DAYLIGHT
BEGIN:STANDARD
TZOFFSETFROM:-0400
TZOFFSETTO:-0500
TZNAME:EST
DTSTART:20241103T060000
END:STANDARD
BEGIN:DAYLIGHT
TZOFFSETFROM:-0500
TZOFFSETTO:-0400
TZNAME:EDT
DTSTART:20250309T070000
END:DAYLIGHT
BEGIN:STANDARD
TZOFFSETFROM:-0400
TZOFFSETTO:-0500
TZNAME:EST
DTSTART:20251102T060000
END:STANDARD
BEGIN:DAYLIGHT
TZOFFSETFROM:-0500
TZOFFSETTO:-0400
TZNAME:EDT
DTSTART:20260308T070000
END:DAYLIGHT
BEGIN:STANDARD
TZOFFSETFROM:-0400
TZOFFSETTO:-0500
TZNAME:EST
DTSTART:20261101T060000
END:STANDARD
END:VTIMEZONE
BEGIN:VEVENT
DTSTART;VALUE=DATE:20250217
DTEND;VALUE=DATE:20250218
DTSTAMP:20260424T165840
CREATED:20250127T183152Z
LAST-MODIFIED:20250127T183235Z
UID:10003079-1739750400-1739836799@hilllibrary.org
SUMMARY:Library Closed for Presidents' Day
DESCRIPTION:
URL:https://hilllibrary.org/event/library-closed-for-presidents-day/
LOCATION:Hill Library\, 1151 Parker Mountain Road\, Strafford\, NH\, 03884
ORGANIZER;CN="Hill Library":MAILTO:lmolloy@hilllibrary.org
END:VEVENT
BEGIN:VEVENT
DTSTART;TZID=America/New_York:20250217T100000
DTEND;TZID=America/New_York:20250217T103000
DTSTAMP:20260424T165840
CREATED:20240916T151257Z
LAST-MODIFIED:20260325T212321Z
UID:10004378-1739786400-1739788200@hilllibrary.org
SUMMARY:Story Time
DESCRIPTION:Join us at 10 am on Mondays for some songs\, stories\, and a craft! All ages welcome.
URL:https://hilllibrary.org/event/story-time/2025-02-17/
LOCATION:Hill Library\, 1151 Parker Mountain Road\, Strafford\, NH\, 03884
CATEGORIES:Ages 0-5
ATTACH;FMTTYPE=image/png:https://hilllibrary.org/wp-content/uploads/2024/04/Storytime.png
ORGANIZER;CN="Hill Library":MAILTO:lmolloy@hilllibrary.org
END:VEVENT
BEGIN:VEVENT
DTSTART;TZID=America/New_York:20250218T120000
DTEND;TZID=America/New_York:20250218T140000
DTSTAMP:20260424T165840
CREATED:20240918T195441Z
LAST-MODIFIED:20251215T155612Z
UID:10000861-1739880000-1739887200@hilllibrary.org
SUMMARY:Handy Crafters
DESCRIPTION:
URL:https://hilllibrary.org/event/handy-crafters/2025-02-18/
LOCATION:Hill Library\, 1151 Parker Mountain Road\, Strafford\, NH\, 03884
CATEGORIES:Adult programs
ATTACH;FMTTYPE=image/png:https://hilllibrary.org/wp-content/uploads/2024/09/Copy-of-If-youre-handy-join-the-Handy-Crafters-as-they-work-on-crafting-hats-and-scarves-for-members-of-the-military.-Stop-by-for-a-pattern.png
ORGANIZER;CN="Hill Library":MAILTO:lmolloy@hilllibrary.org
END:VEVENT
BEGIN:VEVENT
DTSTART;TZID=America/New_York:20250218T153000
DTEND;TZID=America/New_York:20250218T163000
DTSTAMP:20260424T165840
CREATED:20241223T205340Z
LAST-MODIFIED:20250127T183454Z
UID:10002593-1739892600-1739896200@hilllibrary.org
SUMMARY:Read to Toby
DESCRIPTION:Read to Toby\, our reading dog! Email cbeihl.hl@gmail.com to register.
URL:https://hilllibrary.org/event/read-with-toby/
LOCATION:Hill Library\, 1151 Parker Mountain Road\, Strafford\, NH\, 03884
CATEGORIES:K-4 Programs
ATTACH;FMTTYPE=image/png:https://hilllibrary.org/wp-content/uploads/2024/03/Read-to-Toby-March24.png
ORGANIZER;CN="Hill Library":MAILTO:lmolloy@hilllibrary.org
END:VEVENT
BEGIN:VEVENT
DTSTART;TZID=America/New_York:20250218T180000
DTEND;TZID=America/New_York:20250218T190000
DTSTAMP:20260424T165840
CREATED:20240926T161508Z
LAST-MODIFIED:20260326T144328Z
UID:10006498-1739901600-1739905200@hilllibrary.org
SUMMARY:New Library Meeting
DESCRIPTION:
URL:https://hilllibrary.org/event/new-library-meeting/2025-02-18/
LOCATION:Hill Library\, 1151 Parker Mountain Road\, Strafford\, NH\, 03884
CATEGORIES:Adult programs
ATTACH;FMTTYPE=image/png:https://hilllibrary.org/wp-content/uploads/2024/09/Copy-of-New-Library-MTGInstagram-Post.png
ORGANIZER;CN="Hill Library":MAILTO:lmolloy@hilllibrary.org
END:VEVENT
BEGIN:VEVENT
DTSTART;TZID=America/New_York:20250218T180000
DTEND;TZID=America/New_York:20250218T190000
DTSTAMP:20260424T165840
CREATED:20250127T180931Z
LAST-MODIFIED:20250130T194650Z
UID:10003001-1739901600-1739905200@hilllibrary.org
SUMMARY:Grades 4-6 Graphic Novel Club
DESCRIPTION:Join us for some book club fun! We’ll be discussing Ghost Book by Remy Lai. Copies will be available at the library.
URL:https://hilllibrary.org/event/grades-4-6-graphic-novel-club-3/
LOCATION:Hill Library\, 1151 Parker Mountain Road\, Strafford\, NH\, 03884
CATEGORIES:Grades 5 and Up,K-4 Programs
ATTACH;FMTTYPE=application/pdf:https://hilllibrary.org/wp-content/uploads/2025/01/Copy-of-Copy-of-Grades-4-6-Graphic-Novel-Club.pdf
ORGANIZER;CN="Hill Library":MAILTO:lmolloy@hilllibrary.org
END:VEVENT
BEGIN:VEVENT
DTSTART;TZID=America/New_York:20250219T153000
DTEND;TZID=America/New_York:20250219T163000
DTSTAMP:20260424T165840
CREATED:20250127T181040Z
LAST-MODIFIED:20250127T181216Z
UID:10003002-1739979000-1739982600@hilllibrary.org
SUMMARY:Hot Cocoa Party
DESCRIPTION:Help us celebrate the end of Winter Reading with some delicious hot cocoa! We’ll have games\, crafts\, and a hot cocoa bar! No registration needed. All ages welcome!
URL:https://hilllibrary.org/event/hot-cocoa-party-2/
LOCATION:Hill Library\, 1151 Parker Mountain Road\, Strafford\, NH\, 03884
CATEGORIES:K-4 Programs
ATTACH;FMTTYPE=image/png:https://hilllibrary.org/wp-content/uploads/2025/01/Hot-Cocoa-Party.png
ORGANIZER;CN="Hill Library":MAILTO:lmolloy@hilllibrary.org
END:VEVENT
BEGIN:VEVENT
DTSTART;TZID=America/New_York:20250220T100000
DTEND;TZID=America/New_York:20250220T103000
DTSTAMP:20260424T165840
CREATED:20240920T193243Z
LAST-MODIFIED:20250915T174145Z
UID:10001643-1740045600-1740047400@hilllibrary.org
SUMMARY:Music and Movement
DESCRIPTION:Let’s move and groove with songs\, scarves\, egg shakers\, and our parachute! All ages welcome. Starting in October\, Music and Movement will be alternating every other week with our new program\, Sensory Playtime!
URL:https://hilllibrary.org/event/music-and-movement-2/2025-02-20/
LOCATION:Hill Library\, 1151 Parker Mountain Road\, Strafford\, NH\, 03884
CATEGORIES:Ages 0-5
ATTACH;FMTTYPE=image/png:https://hilllibrary.org/wp-content/uploads/2024/09/MM.png
ORGANIZER;CN="Hill Library":MAILTO:lmolloy@hilllibrary.org
END:VEVENT
BEGIN:VEVENT
DTSTART;TZID=America/New_York:20250220T130000
DTEND;TZID=America/New_York:20250220T150000
DTSTAMP:20260424T165840
CREATED:20241229T224919Z
LAST-MODIFIED:20251021T174443Z
UID:10002738-1740056400-1740063600@hilllibrary.org
SUMMARY:Mah Jongg Club
DESCRIPTION:
URL:https://hilllibrary.org/event/mah-jongg-club-2/2025-02-20/
LOCATION:Hill Library\, 1151 Parker Mountain Road\, Strafford\, NH\, 03884
CATEGORIES:Adult programs
ATTACH;FMTTYPE=image/png:https://hilllibrary.org/wp-content/uploads/2022/08/mahjong-1080-×-400-px.png
ORGANIZER;CN="Hill Library":MAILTO:lmolloy@hilllibrary.org
END:VEVENT
BEGIN:VEVENT
DTSTART;TZID=America/New_York:20250220T153000
DTEND;TZID=America/New_York:20250220T163000
DTSTAMP:20260424T165840
CREATED:20240920T194456Z
LAST-MODIFIED:20250527T144640Z
UID:10001902-1740065400-1740069000@hilllibrary.org
SUMMARY:Grade 5+ Games
DESCRIPTION:Join us for some fun games and snacks! All youth in grades 5 and up are welcome. No registration needed.
URL:https://hilllibrary.org/event/grade-5-games/2025-02-20/
LOCATION:Hill Library\, 1151 Parker Mountain Road\, Strafford\, NH\, 03884
CATEGORIES:Grades 5 and Up
ATTACH;FMTTYPE=image/png:https://hilllibrary.org/wp-content/uploads/2024/08/Copy-of-Copy-of-Grade-5-Game.png
ORGANIZER;CN="Hill Library":MAILTO:lmolloy@hilllibrary.org
END:VEVENT
BEGIN:VEVENT
DTSTART;TZID=America/New_York:20250220T153000
DTEND;TZID=America/New_York:20250220T163000
DTSTAMP:20260424T165840
CREATED:20250213T124302Z
LAST-MODIFIED:20250213T124302Z
UID:10003114-1740065400-1740069000@hilllibrary.org
SUMMARY:Grades 5+ Valentines Cupcake Decorating
DESCRIPTION:Decorate tasty Valentine’s Day cupcakes! Email cbeihl.hl@gmail.com to register. This program is for youth in grades 5 and up.
URL:https://hilllibrary.org/event/grades-5-valentines-cupcake-decorating-2/
LOCATION:Hill Library\, 1151 Parker Mountain Road\, Strafford\, NH\, 03884
CATEGORIES:Grades 5 and Up
ATTACH;FMTTYPE=image/png:https://hilllibrary.org/wp-content/uploads/2025/01/Valentines-Cupcake-Decorating.png
ORGANIZER;CN="Hill Library":MAILTO:lmolloy@hilllibrary.org
END:VEVENT
BEGIN:VEVENT
DTSTART;TZID=America/New_York:20250220T183000
DTEND;TZID=America/New_York:20250220T193000
DTSTAMP:20260424T165840
CREATED:20241215T231858Z
LAST-MODIFIED:20250211T165717Z
UID:10002567-1740076200-1740079800@hilllibrary.org
SUMMARY:Black Bear Happenings in NH- with NH Fish & Game Stewards
DESCRIPTION:
URL:https://hilllibrary.org/event/black-bear-happenings-in-nh-with-nh-fish-game-stewards/
LOCATION:NH
CATEGORIES:All Ages Youth and Adult
END:VEVENT
BEGIN:VEVENT
DTSTART;TZID=America/New_York:20250221T140000
DTEND;TZID=America/New_York:20250221T150000
DTSTAMP:20260424T165840
CREATED:20241014T190412Z
LAST-MODIFIED:20241229T224624Z
UID:10002211-1740146400-1740150000@hilllibrary.org
SUMMARY:Better Balance Chair Exercise class
DESCRIPTION:
URL:https://hilllibrary.org/event/better-balance-chair-exercise-class/2025-02-21/
LOCATION:Hill Library\, 1151 Parker Mountain Road\, Strafford\, NH\, 03884
CATEGORIES:Adult programs
ORGANIZER;CN="Hill Library":MAILTO:lmolloy@hilllibrary.org
END:VEVENT
BEGIN:VEVENT
DTSTART;TZID=America/New_York:20250222T090000
DTEND;TZID=America/New_York:20250222T100000
DTSTAMP:20260424T165840
CREATED:20241005T161420Z
LAST-MODIFIED:20260206T193134Z
UID:10004088-1740214800-1740218400@hilllibrary.org
SUMMARY:Gentle Flow Yoga 9am-10am
DESCRIPTION:
URL:https://hilllibrary.org/event/gentle-flow-yoga-2-2/2025-02-22/
LOCATION:Hill Library\, 1151 Parker Mountain Road\, Strafford\, NH\, 03884
CATEGORIES:Adult programs
ATTACH;FMTTYPE=image/png:https://hilllibrary.org/wp-content/uploads/2024/03/Copy-of-Copy-of-Copy-of-Copy-of-GENTLE-FLOW-YOGA.png
ORGANIZER;CN="Hill Library":MAILTO:lmolloy@hilllibrary.org
END:VEVENT
BEGIN:VEVENT
DTSTART;TZID=America/New_York:20250223T120000
DTEND;TZID=America/New_York:20250223T160000
DTSTAMP:20260424T165840
CREATED:20250213T193821Z
LAST-MODIFIED:20250213T193822Z
UID:10002467-1740312000-1740326400@hilllibrary.org
SUMMARY:Spinners & Fiber Arts Group
DESCRIPTION:
URL:https://hilllibrary.org/event/spinners-fiber-arts-group-2-2/
LOCATION:Hill Library\, 1151 Parker Mountain Road\, Strafford\, NH\, 03884
CATEGORIES:Adult programs
ATTACH;FMTTYPE=image/png:https://hilllibrary.org/wp-content/uploads/2024/09/Copy-of-Copy-of-Spinners-Collage-1080-x-400-px.png
ORGANIZER;CN="Hill Library":MAILTO:lmolloy@hilllibrary.org
END:VEVENT
END:VCALENDAR