BEGIN:VCALENDAR
VERSION:2.0
PRODID:-//Hill Library, Strafford, NH - ECPv6.15.20//NONSGML v1.0//EN
CALSCALE:GREGORIAN
METHOD:PUBLISH
X-ORIGINAL-URL:https://hilllibrary.org
X-WR-CALDESC:Events for Hill Library, Strafford, NH
REFRESH-INTERVAL;VALUE=DURATION:PT1H
X-Robots-Tag:noindex
X-PUBLISHED-TTL:PT1H
BEGIN:VTIMEZONE
TZID:America/New_York
BEGIN:DAYLIGHT
TZOFFSETFROM:-0500
TZOFFSETTO:-0400
TZNAME:EDT
DTSTART:20230312T070000
END:DAYLIGHT
BEGIN:STANDARD
TZOFFSETFROM:-0400
TZOFFSETTO:-0500
TZNAME:EST
DTSTART:20231105T060000
END:STANDARD
BEGIN:DAYLIGHT
TZOFFSETFROM:-0500
TZOFFSETTO:-0400
TZNAME:EDT
DTSTART:20240310T070000
END:DAYLIGHT
BEGIN:STANDARD
TZOFFSETFROM:-0400
TZOFFSETTO:-0500
TZNAME:EST
DTSTART:20241103T060000
END:STANDARD
BEGIN:DAYLIGHT
TZOFFSETFROM:-0500
TZOFFSETTO:-0400
TZNAME:EDT
DTSTART:20250309T070000
END:DAYLIGHT
BEGIN:STANDARD
TZOFFSETFROM:-0400
TZOFFSETTO:-0500
TZNAME:EST
DTSTART:20251102T060000
END:STANDARD
END:VTIMEZONE
BEGIN:VEVENT
DTSTART;TZID=America/New_York:20241216T100000
DTEND;TZID=America/New_York:20241216T103000
DTSTAMP:20260424T200835
CREATED:20240916T151257Z
LAST-MODIFIED:20260325T212321Z
UID:10000013-1734343200-1734345000@hilllibrary.org
SUMMARY:Story Time
DESCRIPTION:Join us at 10 am on Mondays for some songs\, stories\, and a craft! All ages welcome.
URL:https://hilllibrary.org/event/story-time/2024-12-16/
LOCATION:Hill Library\, 1151 Parker Mountain Road\, Strafford\, NH\, 03884
CATEGORIES:Ages 0-5
ATTACH;FMTTYPE=image/png:https://hilllibrary.org/wp-content/uploads/2024/04/Storytime.png
ORGANIZER;CN="Hill Library":MAILTO:lmolloy@hilllibrary.org
END:VEVENT
BEGIN:VEVENT
DTSTART;TZID=America/New_York:20241217T120000
DTEND;TZID=America/New_York:20241217T140000
DTSTAMP:20260424T200835
CREATED:20240918T195441Z
LAST-MODIFIED:20251215T155612Z
UID:10000852-1734436800-1734444000@hilllibrary.org
SUMMARY:Handy Crafters
DESCRIPTION:
URL:https://hilllibrary.org/event/handy-crafters/2024-12-17/
LOCATION:Hill Library\, 1151 Parker Mountain Road\, Strafford\, NH\, 03884
CATEGORIES:Adult programs
ATTACH;FMTTYPE=image/png:https://hilllibrary.org/wp-content/uploads/2024/09/Copy-of-If-youre-handy-join-the-Handy-Crafters-as-they-work-on-crafting-hats-and-scarves-for-members-of-the-military.-Stop-by-for-a-pattern.png
ORGANIZER;CN="Hill Library":MAILTO:lmolloy@hilllibrary.org
END:VEVENT
BEGIN:VEVENT
DTSTART;TZID=America/New_York:20241217T153000
DTEND;TZID=America/New_York:20241217T163000
DTSTAMP:20260424T200835
CREATED:20240920T202223Z
LAST-MODIFIED:20241118T003826Z
UID:10002527-1734449400-1734453000@hilllibrary.org
SUMMARY:Read to Toby
DESCRIPTION:Sign up to Read to Toby\, our Reading Dog! Email cbeihl.hl@gmail.com to sign up for a time slot between 3:30pm and 4:30pm.
URL:https://hilllibrary.org/event/read-to-toby/2024-12-17/
LOCATION:Hill Library\, 1151 Parker Mountain Road\, Strafford\, NH\, 03884
CATEGORIES:K-4 Programs
ATTACH;FMTTYPE=image/png:https://hilllibrary.org/wp-content/uploads/2024/03/Read-to-Toby-March24.png
ORGANIZER;CN="Hill Library":MAILTO:lmolloy@hilllibrary.org
END:VEVENT
BEGIN:VEVENT
DTSTART;TZID=America/New_York:20241218T130000
DTEND;TZID=America/New_York:20241218T150000
DTSTAMP:20260424T200835
CREATED:20240918T195907Z
LAST-MODIFIED:20241124T235444Z
UID:10001376-1734526800-1734534000@hilllibrary.org
SUMMARY:Mah Jongg Club
DESCRIPTION:
URL:https://hilllibrary.org/event/mah-jongg-club/2024-12-18/
LOCATION:Hill Library\, 1151 Parker Mountain Road\, Strafford\, NH\, 03884
CATEGORIES:Adult programs
ATTACH;FMTTYPE=image/png:https://hilllibrary.org/wp-content/uploads/2022/08/mahjong-1080-×-400-px.png
ORGANIZER;CN="Hill Library":MAILTO:lmolloy@hilllibrary.org
END:VEVENT
BEGIN:VEVENT
DTSTART;TZID=America/New_York:20241218T153000
DTEND;TZID=America/New_York:20241218T170000
DTSTAMP:20260424T200835
CREATED:20241121T174842Z
LAST-MODIFIED:20241121T174842Z
UID:10002551-1734535800-1734541200@hilllibrary.org
SUMMARY:Polar Bear Party
DESCRIPTION:Join us for some polar bear fun! We’ll have games\, crafts\, and other fun and festive activities! No registration needed.
URL:https://hilllibrary.org/event/polar-bear-party-2/
LOCATION:Hill Library\, 1151 Parker Mountain Road\, Strafford\, NH\, 03884
CATEGORIES:K-4 Programs
ATTACH;FMTTYPE=image/png:https://hilllibrary.org/wp-content/uploads/2024/11/Polar-Bear-Party.png
ORGANIZER;CN="Hill Library":MAILTO:lmolloy@hilllibrary.org
END:VEVENT
BEGIN:VEVENT
DTSTART;TZID=America/New_York:20241219T100000
DTEND;TZID=America/New_York:20241219T103000
DTSTAMP:20260424T200835
CREATED:20240920T193243Z
LAST-MODIFIED:20250915T174145Z
UID:10001635-1734602400-1734604200@hilllibrary.org
SUMMARY:Music and Movement
DESCRIPTION:Let’s move and groove with songs\, scarves\, egg shakers\, and our parachute! All ages welcome. Starting in October\, Music and Movement will be alternating every other week with our new program\, Sensory Playtime!
URL:https://hilllibrary.org/event/music-and-movement-2/2024-12-19/
LOCATION:Hill Library\, 1151 Parker Mountain Road\, Strafford\, NH\, 03884
CATEGORIES:Ages 0-5
ATTACH;FMTTYPE=image/png:https://hilllibrary.org/wp-content/uploads/2024/09/MM.png
ORGANIZER;CN="Hill Library":MAILTO:lmolloy@hilllibrary.org
END:VEVENT
BEGIN:VEVENT
DTSTART;TZID=America/New_York:20241219T153000
DTEND;TZID=America/New_York:20241219T163000
DTSTAMP:20260424T200835
CREATED:20240920T194456Z
LAST-MODIFIED:20250527T144640Z
UID:10001894-1734622200-1734625800@hilllibrary.org
SUMMARY:Grade 5+ Games
DESCRIPTION:Join us for some fun games and snacks! All youth in grades 5 and up are welcome. No registration needed.
URL:https://hilllibrary.org/event/grade-5-games/2024-12-19/
LOCATION:Hill Library\, 1151 Parker Mountain Road\, Strafford\, NH\, 03884
CATEGORIES:Grades 5 and Up
ATTACH;FMTTYPE=image/png:https://hilllibrary.org/wp-content/uploads/2024/08/Copy-of-Copy-of-Grade-5-Game.png
ORGANIZER;CN="Hill Library":MAILTO:lmolloy@hilllibrary.org
END:VEVENT
BEGIN:VEVENT
DTSTART;TZID=America/New_York:20241219T153000
DTEND;TZID=America/New_York:20241219T163000
DTSTAMP:20260424T200835
CREATED:20241121T174956Z
LAST-MODIFIED:20241121T175204Z
UID:10002552-1734622200-1734625800@hilllibrary.org
SUMMARY:Grade 5+ Cupcake Decorating
DESCRIPTION:Decorate some delicious seasonal and festive cupcakes! This program is for youth in grades 5 and up. Email cbeihl.hl@gmail.com to register.
URL:https://hilllibrary.org/event/grade-5-cupcake-decorating/
LOCATION:Hill Library\, 1151 Parker Mountain Road\, Strafford\, NH\, 03884
CATEGORIES:Grades 5 and Up
ATTACH;FMTTYPE=image/png:https://hilllibrary.org/wp-content/uploads/2024/11/Cupcake-Decorating.png
ORGANIZER;CN="Hill Library":MAILTO:lmolloy@hilllibrary.org
END:VEVENT
BEGIN:VEVENT
DTSTART;TZID=America/New_York:20241220T140000
DTEND;TZID=America/New_York:20241220T150000
DTSTAMP:20260424T200835
CREATED:20241014T190412Z
LAST-MODIFIED:20241229T224624Z
UID:10002202-1734703200-1734706800@hilllibrary.org
SUMMARY:Better Balance Chair Exercise class
DESCRIPTION:
URL:https://hilllibrary.org/event/better-balance-chair-exercise-class/2024-12-20/
LOCATION:Hill Library\, 1151 Parker Mountain Road\, Strafford\, NH\, 03884
CATEGORIES:Adult programs
ORGANIZER;CN="Hill Library":MAILTO:lmolloy@hilllibrary.org
END:VEVENT
BEGIN:VEVENT
DTSTART;TZID=America/New_York:20241221T090000
DTEND;TZID=America/New_York:20241221T100000
DTSTAMP:20260424T200835
CREATED:20241005T161420Z
LAST-MODIFIED:20260206T193134Z
UID:10004079-1734771600-1734775200@hilllibrary.org
SUMMARY:Gentle Flow Yoga 9am-10am
DESCRIPTION:
URL:https://hilllibrary.org/event/gentle-flow-yoga-2-2/2024-12-21/
LOCATION:Hill Library\, 1151 Parker Mountain Road\, Strafford\, NH\, 03884
CATEGORIES:Adult programs
ATTACH;FMTTYPE=image/png:https://hilllibrary.org/wp-content/uploads/2024/03/Copy-of-Copy-of-Copy-of-Copy-of-GENTLE-FLOW-YOGA.png
ORGANIZER;CN="Hill Library":MAILTO:lmolloy@hilllibrary.org
END:VEVENT
END:VCALENDAR