BEGIN:VCALENDAR
VERSION:2.0
PRODID:-//Hill Library, Strafford, NH - ECPv6.15.20//NONSGML v1.0//EN
CALSCALE:GREGORIAN
METHOD:PUBLISH
X-ORIGINAL-URL:https://hilllibrary.org
X-WR-CALDESC:Events for Hill Library, Strafford, NH
REFRESH-INTERVAL;VALUE=DURATION:PT1H
X-Robots-Tag:noindex
X-PUBLISHED-TTL:PT1H
BEGIN:VTIMEZONE
TZID:America/New_York
BEGIN:DAYLIGHT
TZOFFSETFROM:-0500
TZOFFSETTO:-0400
TZNAME:EDT
DTSTART:20250309T070000
END:DAYLIGHT
BEGIN:STANDARD
TZOFFSETFROM:-0400
TZOFFSETTO:-0500
TZNAME:EST
DTSTART:20251102T060000
END:STANDARD
BEGIN:DAYLIGHT
TZOFFSETFROM:-0500
TZOFFSETTO:-0400
TZNAME:EDT
DTSTART:20260308T070000
END:DAYLIGHT
BEGIN:STANDARD
TZOFFSETFROM:-0400
TZOFFSETTO:-0500
TZNAME:EST
DTSTART:20261101T060000
END:STANDARD
BEGIN:DAYLIGHT
TZOFFSETFROM:-0500
TZOFFSETTO:-0400
TZNAME:EDT
DTSTART:20270314T070000
END:DAYLIGHT
BEGIN:STANDARD
TZOFFSETFROM:-0400
TZOFFSETTO:-0500
TZNAME:EST
DTSTART:20271107T060000
END:STANDARD
END:VTIMEZONE
BEGIN:VEVENT
DTSTART;TZID=America/New_York:20260601T100000
DTEND;TZID=America/New_York:20260601T103000
DTSTAMP:20260423T172228
CREATED:20240916T151257Z
LAST-MODIFIED:20260325T212321Z
UID:10000087-1780308000-1780309800@hilllibrary.org
SUMMARY:Story Time
DESCRIPTION:Join us at 10 am on Mondays for some songs\, stories\, and a craft! All ages welcome.
URL:https://hilllibrary.org/event/story-time/2026-06-01/
LOCATION:Hill Library\, 1151 Parker Mountain Road\, Strafford\, NH\, 03884
CATEGORIES:Ages 0-5
ATTACH;FMTTYPE=image/png:https://hilllibrary.org/wp-content/uploads/2024/04/Storytime.png
ORGANIZER;CN="Hill Library":MAILTO:lmolloy@hilllibrary.org
END:VEVENT
BEGIN:VEVENT
DTSTART;TZID=America/New_York:20260602T100000
DTEND;TZID=America/New_York:20260602T110000
DTSTAMP:20260423T172228
CREATED:20250815T204732Z
LAST-MODIFIED:20260113T122132Z
UID:10006132-1780394400-1780398000@hilllibrary.org
SUMMARY:Balance Exercise class
DESCRIPTION:Balance exercise class is staring back up on Tuesday and Friday mornings at 10 am. Join us for an hour of gentle stretching\, balance exercises and strength training. Registration is required.
URL:https://hilllibrary.org/event/better-balance-exercise-class-2/2026-06-02/
LOCATION:Hill Library\, 1151 Parker Mountain Road\, Strafford\, NH\, 03884
CATEGORIES:Adult programs
ATTACH;FMTTYPE=image/png:https://hilllibrary.org/wp-content/uploads/2025/04/Balance-cancelled.png
ORGANIZER;CN="Hill Library":MAILTO:lmolloy@hilllibrary.org
END:VEVENT
BEGIN:VEVENT
DTSTART;TZID=America/New_York:20260602T120000
DTEND;TZID=America/New_York:20260602T140000
DTSTAMP:20260423T172228
CREATED:20240918T195441Z
LAST-MODIFIED:20251215T155612Z
UID:10000928-1780401600-1780408800@hilllibrary.org
SUMMARY:Handy Crafters
DESCRIPTION:
URL:https://hilllibrary.org/event/handy-crafters/2026-06-02/
LOCATION:Hill Library\, 1151 Parker Mountain Road\, Strafford\, NH\, 03884
CATEGORIES:Adult programs
ATTACH;FMTTYPE=image/png:https://hilllibrary.org/wp-content/uploads/2024/09/Copy-of-If-youre-handy-join-the-Handy-Crafters-as-they-work-on-crafting-hats-and-scarves-for-members-of-the-military.-Stop-by-for-a-pattern.png
ORGANIZER;CN="Hill Library":MAILTO:lmolloy@hilllibrary.org
END:VEVENT
BEGIN:VEVENT
DTSTART;TZID=America/New_York:20260603T103000
DTEND;TZID=America/New_York:20260603T113000
DTSTAMP:20260423T172228
CREATED:20250127T182435Z
LAST-MODIFIED:20260107T131201Z
UID:10003024-1780482600-1780486200@hilllibrary.org
SUMMARY:Caregiver Café
DESCRIPTION:
URL:https://hilllibrary.org/event/caregiver-cafe-4-2/2026-06-03/
LOCATION:Hill Library\, 1151 Parker Mountain Road\, Strafford\, NH\, 03884
CATEGORIES:Adult programs
ATTACH;FMTTYPE=image/png:https://hilllibrary.org/wp-content/uploads/2025/01/Copy-of-Untitled-design.png
ORGANIZER;CN="Hill Library":MAILTO:lmolloy@hilllibrary.org
END:VEVENT
BEGIN:VEVENT
DTSTART;TZID=America/New_York:20260603T140000
DTEND;TZID=America/New_York:20260603T143000
DTSTAMP:20260423T172228
CREATED:20250917T194926Z
LAST-MODIFIED:20251212T183633Z
UID:10004993-1780495200-1780497000@hilllibrary.org
SUMMARY:Book Buddies
DESCRIPTION:The Book Buddies is a program that unites residents with Strafford School classes. Please call the library for more information. Fingerprinting is required.
URL:https://hilllibrary.org/event/book-buddies-2-2-2/2026-06-03/
LOCATION:Hill Library\, 1151 Parker Mountain Road\, Strafford\, NH\, 03884
CATEGORIES:All Ages Youth and Adult
ATTACH;FMTTYPE=image/png:https://hilllibrary.org/wp-content/uploads/2025/02/Copy-of-Book-Buddies.png
ORGANIZER;CN="Hill Library":MAILTO:lmolloy@hilllibrary.org
END:VEVENT
BEGIN:VEVENT
DTSTART;TZID=America/New_York:20260604T100000
DTEND;TZID=America/New_York:20260604T103000
DTSTAMP:20260423T172228
CREATED:20250915T173938Z
LAST-MODIFIED:20260218T171142Z
UID:10001710-1780567200-1780569000@hilllibrary.org
SUMMARY:Music and Movement
DESCRIPTION:Let’s move and groove with songs\, scarves\, egg shakers\, and our parachute! All ages welcome. Music and Movement meets on alternate Thursdays.
URL:https://hilllibrary.org/event/music-and-movement-2-4/2026-06-04/
LOCATION:Hill Library\, 1151 Parker Mountain Road\, Strafford\, NH\, 03884
CATEGORIES:Ages 0-5
ATTACH;FMTTYPE=image/png:https://hilllibrary.org/wp-content/uploads/2024/09/MM.png
ORGANIZER;CN="Hill Library":MAILTO:lmolloy@hilllibrary.org
END:VEVENT
BEGIN:VEVENT
DTSTART;TZID=America/New_York:20260604T130000
DTEND;TZID=America/New_York:20260604T150000
DTSTAMP:20260423T172228
CREATED:20241229T224919Z
LAST-MODIFIED:20251021T174443Z
UID:10002805-1780578000-1780585200@hilllibrary.org
SUMMARY:Mah Jongg Club
DESCRIPTION:
URL:https://hilllibrary.org/event/mah-jongg-club-2/2026-06-04/
LOCATION:Hill Library\, 1151 Parker Mountain Road\, Strafford\, NH\, 03884
CATEGORIES:Adult programs
ATTACH;FMTTYPE=image/png:https://hilllibrary.org/wp-content/uploads/2022/08/mahjong-1080-×-400-px.png
ORGANIZER;CN="Hill Library":MAILTO:lmolloy@hilllibrary.org
END:VEVENT
BEGIN:VEVENT
DTSTART;TZID=America/New_York:20260604T183000
DTEND;TZID=America/New_York:20260604T193000
DTSTAMP:20260423T172228
CREATED:20240916T172355Z
LAST-MODIFIED:20260326T143759Z
UID:10000280-1780597800-1780601400@hilllibrary.org
SUMMARY:Hill Library Book Club
DESCRIPTION:
URL:https://hilllibrary.org/event/hill-library-book-club/2026-06-04/
LOCATION:Hill Library\, 1151 Parker Mountain Road\, Strafford\, NH\, 03884
CATEGORIES:Book Clubs
ATTACH;FMTTYPE=image/png:https://hilllibrary.org/wp-content/uploads/2023/07/book-club-1080-×-400-px-1.png
ORGANIZER;CN="Hill Library":MAILTO:lmolloy@hilllibrary.org
END:VEVENT
BEGIN:VEVENT
DTSTART;TZID=America/New_York:20260605T100000
DTEND;TZID=America/New_York:20260605T110000
DTSTAMP:20260423T172228
CREATED:20250815T205028Z
LAST-MODIFIED:20251215T155000Z
UID:10005875-1780653600-1780657200@hilllibrary.org
SUMMARY:Balance Exercise class
DESCRIPTION:Balance exercise class is staring back up on Tuesday and Friday mornings at 10 am. Join us for an hour of gentle stretching\, balance exercises and strength training. Registration is required. \n 
URL:https://hilllibrary.org/event/balance-exercise-class/2026-06-05/
LOCATION:Hill Library\, 1151 Parker Mountain Road\, Strafford\, NH\, 03884
CATEGORIES:Adult programs
ATTACH;FMTTYPE=image/png:https://hilllibrary.org/wp-content/uploads/2025/04/Balance-cancelled.png
ORGANIZER;CN="Hill Library":MAILTO:lmolloy@hilllibrary.org
END:VEVENT
BEGIN:VEVENT
DTSTART;TZID=America/New_York:20260605T153000
DTEND;TZID=America/New_York:20260605T163000
DTSTAMP:20260423T172228
CREATED:20250821T153609Z
LAST-MODIFIED:20260325T212449Z
UID:10004710-1780673400-1780677000@hilllibrary.org
SUMMARY:Grade 5+ Games
DESCRIPTION:Join us for some fun games and snacks! All youth in grades 5 and up are welcome. No registration needed.
URL:https://hilllibrary.org/event/grade-5-games-2-3/2026-06-05/
LOCATION:Hill Library\, 1151 Parker Mountain Road\, Strafford\, NH\, 03884
CATEGORIES:Grades 5 and Up
ATTACH;FMTTYPE=image/png:https://hilllibrary.org/wp-content/uploads/2024/09/Grade-5-Games.png
ORGANIZER;CN="Hill Library":MAILTO:lmolloy@hilllibrary.org
END:VEVENT
BEGIN:VEVENT
DTSTART;TZID=America/New_York:20260606T090000
DTEND;TZID=America/New_York:20260606T100000
DTSTAMP:20260423T172228
CREATED:20241005T161420Z
LAST-MODIFIED:20260206T193134Z
UID:10004154-1780736400-1780740000@hilllibrary.org
SUMMARY:Gentle Flow Yoga 9am-10am
DESCRIPTION:
URL:https://hilllibrary.org/event/gentle-flow-yoga-2-2/2026-06-06/
LOCATION:Hill Library\, 1151 Parker Mountain Road\, Strafford\, NH\, 03884
CATEGORIES:Adult programs
ATTACH;FMTTYPE=image/png:https://hilllibrary.org/wp-content/uploads/2024/03/Copy-of-Copy-of-Copy-of-Copy-of-GENTLE-FLOW-YOGA.png
ORGANIZER;CN="Hill Library":MAILTO:lmolloy@hilllibrary.org
END:VEVENT
BEGIN:VEVENT
DTSTART;TZID=America/New_York:20260608T100000
DTEND;TZID=America/New_York:20260608T103000
DTSTAMP:20260423T172228
CREATED:20240916T151257Z
LAST-MODIFIED:20260325T212321Z
UID:10000088-1780912800-1780914600@hilllibrary.org
SUMMARY:Story Time
DESCRIPTION:Join us at 10 am on Mondays for some songs\, stories\, and a craft! All ages welcome.
URL:https://hilllibrary.org/event/story-time/2026-06-08/
LOCATION:Hill Library\, 1151 Parker Mountain Road\, Strafford\, NH\, 03884
CATEGORIES:Ages 0-5
ATTACH;FMTTYPE=image/png:https://hilllibrary.org/wp-content/uploads/2024/04/Storytime.png
ORGANIZER;CN="Hill Library":MAILTO:lmolloy@hilllibrary.org
END:VEVENT
BEGIN:VEVENT
DTSTART;TZID=America/New_York:20260609T100000
DTEND;TZID=America/New_York:20260609T110000
DTSTAMP:20260423T172228
CREATED:20250815T204732Z
LAST-MODIFIED:20260113T122132Z
UID:10006133-1780999200-1781002800@hilllibrary.org
SUMMARY:Balance Exercise class
DESCRIPTION:Balance exercise class is staring back up on Tuesday and Friday mornings at 10 am. Join us for an hour of gentle stretching\, balance exercises and strength training. Registration is required.
URL:https://hilllibrary.org/event/better-balance-exercise-class-2/2026-06-09/
LOCATION:Hill Library\, 1151 Parker Mountain Road\, Strafford\, NH\, 03884
CATEGORIES:Adult programs
ATTACH;FMTTYPE=image/png:https://hilllibrary.org/wp-content/uploads/2025/04/Balance-cancelled.png
ORGANIZER;CN="Hill Library":MAILTO:lmolloy@hilllibrary.org
END:VEVENT
BEGIN:VEVENT
DTSTART;TZID=America/New_York:20260609T120000
DTEND;TZID=America/New_York:20260609T140000
DTSTAMP:20260423T172228
CREATED:20240918T195441Z
LAST-MODIFIED:20251215T155612Z
UID:10000929-1781006400-1781013600@hilllibrary.org
SUMMARY:Handy Crafters
DESCRIPTION:
URL:https://hilllibrary.org/event/handy-crafters/2026-06-09/
LOCATION:Hill Library\, 1151 Parker Mountain Road\, Strafford\, NH\, 03884
CATEGORIES:Adult programs
ATTACH;FMTTYPE=image/png:https://hilllibrary.org/wp-content/uploads/2024/09/Copy-of-If-youre-handy-join-the-Handy-Crafters-as-they-work-on-crafting-hats-and-scarves-for-members-of-the-military.-Stop-by-for-a-pattern.png
ORGANIZER;CN="Hill Library":MAILTO:lmolloy@hilllibrary.org
END:VEVENT
BEGIN:VEVENT
DTSTART;TZID=America/New_York:20260609T140000
DTEND;TZID=America/New_York:20260609T160000
DTSTAMP:20260423T172228
CREATED:20240916T193239Z
LAST-MODIFIED:20251020T180237Z
UID:10000462-1781013600-1781020800@hilllibrary.org
SUMMARY:Computer Clinic
DESCRIPTION:
URL:https://hilllibrary.org/event/computer-clinic/2026-06-09/
LOCATION:Hill Library\, 1151 Parker Mountain Road\, Strafford\, NH\, 03884
CATEGORIES:Adult programs
ATTACH;FMTTYPE=image/png:https://hilllibrary.org/wp-content/uploads/2023/10/Copy-of-Computer-Clinic-1080-×-400-px-1.png
ORGANIZER;CN="Hill Library":MAILTO:lmolloy@hilllibrary.org
END:VEVENT
BEGIN:VEVENT
DTSTART;TZID=America/New_York:20260609T180000
DTEND;TZID=America/New_York:20260609T190000
DTSTAMP:20260423T172228
CREATED:20240916T173137Z
LAST-MODIFIED:20251020T182354Z
UID:10000341-1781028000-1781031600@hilllibrary.org
SUMMARY:Usual Suspects Thriller Book Club
DESCRIPTION:
URL:https://hilllibrary.org/event/usual-suspects-thriller-book-club/2026-06-09/
LOCATION:Hill Library\, 1151 Parker Mountain Road\, Strafford\, NH\, 03884
CATEGORIES:Book Clubs
ATTACH;FMTTYPE=image/png:https://hilllibrary.org/wp-content/uploads/2024/09/Copy-of-Copy-of-The-Ususal-Suspect-May.png
ORGANIZER;CN="Hill Library":MAILTO:lmolloy@hilllibrary.org
END:VEVENT
BEGIN:VEVENT
DTSTART;TZID=America/New_York:20260610T140000
DTEND;TZID=America/New_York:20260610T143000
DTSTAMP:20260423T172228
CREATED:20250917T194926Z
LAST-MODIFIED:20251212T183633Z
UID:10004994-1781100000-1781101800@hilllibrary.org
SUMMARY:Book Buddies
DESCRIPTION:The Book Buddies is a program that unites residents with Strafford School classes. Please call the library for more information. Fingerprinting is required.
URL:https://hilllibrary.org/event/book-buddies-2-2-2/2026-06-10/
LOCATION:Hill Library\, 1151 Parker Mountain Road\, Strafford\, NH\, 03884
CATEGORIES:All Ages Youth and Adult
ATTACH;FMTTYPE=image/png:https://hilllibrary.org/wp-content/uploads/2025/02/Copy-of-Book-Buddies.png
ORGANIZER;CN="Hill Library":MAILTO:lmolloy@hilllibrary.org
END:VEVENT
BEGIN:VEVENT
DTSTART;TZID=America/New_York:20260611T100000
DTEND;TZID=America/New_York:20260611T110000
DTSTAMP:20260423T172228
CREATED:20250915T174457Z
LAST-MODIFIED:20260325T212358Z
UID:10004780-1781172000-1781175600@hilllibrary.org
SUMMARY:Sensory Playtime
DESCRIPTION:﻿Join us every other Thursday for some sensory play fun! We’ll have playdough\, kinetic sand\, pom-poms\, and all sorts of other rotating activities. Practice fine motor skills and explore the world!
URL:https://hilllibrary.org/event/sensory-playtime-2/2026-06-11/
LOCATION:Hill Library\, 1151 Parker Mountain Road\, Strafford\, NH\, 03884
CATEGORIES:Ages 0-5
ATTACH;FMTTYPE=image/jpeg:https://hilllibrary.org/wp-content/uploads/2025/09/Sensory-Playtime.jpg
ORGANIZER;CN="Hill Library":MAILTO:lmolloy@hilllibrary.org
END:VEVENT
BEGIN:VEVENT
DTSTART;TZID=America/New_York:20260611T130000
DTEND;TZID=America/New_York:20260611T150000
DTSTAMP:20260423T172228
CREATED:20241229T224919Z
LAST-MODIFIED:20251021T174443Z
UID:10002806-1781182800-1781190000@hilllibrary.org
SUMMARY:Mah Jongg Club
DESCRIPTION:
URL:https://hilllibrary.org/event/mah-jongg-club-2/2026-06-11/
LOCATION:Hill Library\, 1151 Parker Mountain Road\, Strafford\, NH\, 03884
CATEGORIES:Adult programs
ATTACH;FMTTYPE=image/png:https://hilllibrary.org/wp-content/uploads/2022/08/mahjong-1080-×-400-px.png
ORGANIZER;CN="Hill Library":MAILTO:lmolloy@hilllibrary.org
END:VEVENT
BEGIN:VEVENT
DTSTART;TZID=America/New_York:20260612T100000
DTEND;TZID=America/New_York:20260612T110000
DTSTAMP:20260423T172228
CREATED:20250815T205028Z
LAST-MODIFIED:20251215T155000Z
UID:10005876-1781258400-1781262000@hilllibrary.org
SUMMARY:Balance Exercise class
DESCRIPTION:Balance exercise class is staring back up on Tuesday and Friday mornings at 10 am. Join us for an hour of gentle stretching\, balance exercises and strength training. Registration is required. \n 
URL:https://hilllibrary.org/event/balance-exercise-class/2026-06-12/
LOCATION:Hill Library\, 1151 Parker Mountain Road\, Strafford\, NH\, 03884
CATEGORIES:Adult programs
ATTACH;FMTTYPE=image/png:https://hilllibrary.org/wp-content/uploads/2025/04/Balance-cancelled.png
ORGANIZER;CN="Hill Library":MAILTO:lmolloy@hilllibrary.org
END:VEVENT
BEGIN:VEVENT
DTSTART;TZID=America/New_York:20260613T090000
DTEND;TZID=America/New_York:20260613T100000
DTSTAMP:20260423T172228
CREATED:20241005T161420Z
LAST-MODIFIED:20260206T193134Z
UID:10004155-1781341200-1781344800@hilllibrary.org
SUMMARY:Gentle Flow Yoga 9am-10am
DESCRIPTION:
URL:https://hilllibrary.org/event/gentle-flow-yoga-2-2/2026-06-13/
LOCATION:Hill Library\, 1151 Parker Mountain Road\, Strafford\, NH\, 03884
CATEGORIES:Adult programs
ATTACH;FMTTYPE=image/png:https://hilllibrary.org/wp-content/uploads/2024/03/Copy-of-Copy-of-Copy-of-Copy-of-GENTLE-FLOW-YOGA.png
ORGANIZER;CN="Hill Library":MAILTO:lmolloy@hilllibrary.org
END:VEVENT
BEGIN:VEVENT
DTSTART;TZID=America/New_York:20260615T100000
DTEND;TZID=America/New_York:20260615T103000
DTSTAMP:20260423T172228
CREATED:20240916T151257Z
LAST-MODIFIED:20260325T212321Z
UID:10000089-1781517600-1781519400@hilllibrary.org
SUMMARY:Story Time
DESCRIPTION:Join us at 10 am on Mondays for some songs\, stories\, and a craft! All ages welcome.
URL:https://hilllibrary.org/event/story-time/2026-06-15/
LOCATION:Hill Library\, 1151 Parker Mountain Road\, Strafford\, NH\, 03884
CATEGORIES:Ages 0-5
ATTACH;FMTTYPE=image/png:https://hilllibrary.org/wp-content/uploads/2024/04/Storytime.png
ORGANIZER;CN="Hill Library":MAILTO:lmolloy@hilllibrary.org
END:VEVENT
BEGIN:VEVENT
DTSTART;TZID=America/New_York:20260616T100000
DTEND;TZID=America/New_York:20260616T110000
DTSTAMP:20260423T172228
CREATED:20250815T204732Z
LAST-MODIFIED:20260113T122132Z
UID:10006134-1781604000-1781607600@hilllibrary.org
SUMMARY:Balance Exercise class
DESCRIPTION:Balance exercise class is staring back up on Tuesday and Friday mornings at 10 am. Join us for an hour of gentle stretching\, balance exercises and strength training. Registration is required.
URL:https://hilllibrary.org/event/better-balance-exercise-class-2/2026-06-16/
LOCATION:Hill Library\, 1151 Parker Mountain Road\, Strafford\, NH\, 03884
CATEGORIES:Adult programs
ATTACH;FMTTYPE=image/png:https://hilllibrary.org/wp-content/uploads/2025/04/Balance-cancelled.png
ORGANIZER;CN="Hill Library":MAILTO:lmolloy@hilllibrary.org
END:VEVENT
BEGIN:VEVENT
DTSTART;TZID=America/New_York:20260616T120000
DTEND;TZID=America/New_York:20260616T140000
DTSTAMP:20260423T172228
CREATED:20240918T195441Z
LAST-MODIFIED:20251215T155612Z
UID:10000930-1781611200-1781618400@hilllibrary.org
SUMMARY:Handy Crafters
DESCRIPTION:
URL:https://hilllibrary.org/event/handy-crafters/2026-06-16/
LOCATION:Hill Library\, 1151 Parker Mountain Road\, Strafford\, NH\, 03884
CATEGORIES:Adult programs
ATTACH;FMTTYPE=image/png:https://hilllibrary.org/wp-content/uploads/2024/09/Copy-of-If-youre-handy-join-the-Handy-Crafters-as-they-work-on-crafting-hats-and-scarves-for-members-of-the-military.-Stop-by-for-a-pattern.png
ORGANIZER;CN="Hill Library":MAILTO:lmolloy@hilllibrary.org
END:VEVENT
BEGIN:VEVENT
DTSTART;TZID=America/New_York:20260617T140000
DTEND;TZID=America/New_York:20260617T143000
DTSTAMP:20260423T172228
CREATED:20250917T194926Z
LAST-MODIFIED:20251212T183633Z
UID:10004995-1781704800-1781706600@hilllibrary.org
SUMMARY:Book Buddies
DESCRIPTION:The Book Buddies is a program that unites residents with Strafford School classes. Please call the library for more information. Fingerprinting is required.
URL:https://hilllibrary.org/event/book-buddies-2-2-2/2026-06-17/
LOCATION:Hill Library\, 1151 Parker Mountain Road\, Strafford\, NH\, 03884
CATEGORIES:All Ages Youth and Adult
ATTACH;FMTTYPE=image/png:https://hilllibrary.org/wp-content/uploads/2025/02/Copy-of-Book-Buddies.png
ORGANIZER;CN="Hill Library":MAILTO:lmolloy@hilllibrary.org
END:VEVENT
BEGIN:VEVENT
DTSTART;TZID=America/New_York:20260618T100000
DTEND;TZID=America/New_York:20260618T103000
DTSTAMP:20260423T172228
CREATED:20250915T173938Z
LAST-MODIFIED:20260218T171142Z
UID:10001712-1781776800-1781778600@hilllibrary.org
SUMMARY:Music and Movement
DESCRIPTION:Let’s move and groove with songs\, scarves\, egg shakers\, and our parachute! All ages welcome. Music and Movement meets on alternate Thursdays.
URL:https://hilllibrary.org/event/music-and-movement-2-4/2026-06-18/
LOCATION:Hill Library\, 1151 Parker Mountain Road\, Strafford\, NH\, 03884
CATEGORIES:Ages 0-5
ATTACH;FMTTYPE=image/png:https://hilllibrary.org/wp-content/uploads/2024/09/MM.png
ORGANIZER;CN="Hill Library":MAILTO:lmolloy@hilllibrary.org
END:VEVENT
BEGIN:VEVENT
DTSTART;TZID=America/New_York:20260618T130000
DTEND;TZID=America/New_York:20260618T150000
DTSTAMP:20260423T172228
CREATED:20241229T224919Z
LAST-MODIFIED:20251021T174443Z
UID:10002807-1781787600-1781794800@hilllibrary.org
SUMMARY:Mah Jongg Club
DESCRIPTION:
URL:https://hilllibrary.org/event/mah-jongg-club-2/2026-06-18/
LOCATION:Hill Library\, 1151 Parker Mountain Road\, Strafford\, NH\, 03884
CATEGORIES:Adult programs
ATTACH;FMTTYPE=image/png:https://hilllibrary.org/wp-content/uploads/2022/08/mahjong-1080-×-400-px.png
ORGANIZER;CN="Hill Library":MAILTO:lmolloy@hilllibrary.org
END:VEVENT
BEGIN:VEVENT
DTSTART;TZID=America/New_York:20260619T100000
DTEND;TZID=America/New_York:20260619T110000
DTSTAMP:20260423T172228
CREATED:20250815T205028Z
LAST-MODIFIED:20251215T155000Z
UID:10005877-1781863200-1781866800@hilllibrary.org
SUMMARY:Balance Exercise class
DESCRIPTION:Balance exercise class is staring back up on Tuesday and Friday mornings at 10 am. Join us for an hour of gentle stretching\, balance exercises and strength training. Registration is required. \n 
URL:https://hilllibrary.org/event/balance-exercise-class/2026-06-19/
LOCATION:Hill Library\, 1151 Parker Mountain Road\, Strafford\, NH\, 03884
CATEGORIES:Adult programs
ATTACH;FMTTYPE=image/png:https://hilllibrary.org/wp-content/uploads/2025/04/Balance-cancelled.png
ORGANIZER;CN="Hill Library":MAILTO:lmolloy@hilllibrary.org
END:VEVENT
BEGIN:VEVENT
DTSTART;TZID=America/New_York:20260620T090000
DTEND;TZID=America/New_York:20260620T100000
DTSTAMP:20260423T172228
CREATED:20241005T161420Z
LAST-MODIFIED:20260206T193134Z
UID:10004156-1781946000-1781949600@hilllibrary.org
SUMMARY:Gentle Flow Yoga 9am-10am
DESCRIPTION:
URL:https://hilllibrary.org/event/gentle-flow-yoga-2-2/2026-06-20/
LOCATION:Hill Library\, 1151 Parker Mountain Road\, Strafford\, NH\, 03884
CATEGORIES:Adult programs
ATTACH;FMTTYPE=image/png:https://hilllibrary.org/wp-content/uploads/2024/03/Copy-of-Copy-of-Copy-of-Copy-of-GENTLE-FLOW-YOGA.png
ORGANIZER;CN="Hill Library":MAILTO:lmolloy@hilllibrary.org
END:VEVENT
BEGIN:VEVENT
DTSTART;TZID=America/New_York:20260622T100000
DTEND;TZID=America/New_York:20260622T103000
DTSTAMP:20260423T172228
CREATED:20240916T151257Z
LAST-MODIFIED:20260325T212321Z
UID:10000090-1782122400-1782124200@hilllibrary.org
SUMMARY:Story Time
DESCRIPTION:Join us at 10 am on Mondays for some songs\, stories\, and a craft! All ages welcome.
URL:https://hilllibrary.org/event/story-time/2026-06-22/
LOCATION:Hill Library\, 1151 Parker Mountain Road\, Strafford\, NH\, 03884
CATEGORIES:Ages 0-5
ATTACH;FMTTYPE=image/png:https://hilllibrary.org/wp-content/uploads/2024/04/Storytime.png
ORGANIZER;CN="Hill Library":MAILTO:lmolloy@hilllibrary.org
END:VEVENT
END:VCALENDAR