BEGIN:VCALENDAR
VERSION:2.0
PRODID:-//Hill Library, Strafford, NH - ECPv6.15.20//NONSGML v1.0//EN
CALSCALE:GREGORIAN
METHOD:PUBLISH
X-WR-CALNAME:Hill Library, Strafford, NH
X-ORIGINAL-URL:https://hilllibrary.org
X-WR-CALDESC:Events for Hill Library, Strafford, NH
REFRESH-INTERVAL;VALUE=DURATION:PT1H
X-Robots-Tag:noindex
X-PUBLISHED-TTL:PT1H
BEGIN:VTIMEZONE
TZID:America/New_York
BEGIN:DAYLIGHT
TZOFFSETFROM:-0500
TZOFFSETTO:-0400
TZNAME:EDT
DTSTART:20250309T070000
END:DAYLIGHT
BEGIN:STANDARD
TZOFFSETFROM:-0400
TZOFFSETTO:-0500
TZNAME:EST
DTSTART:20251102T060000
END:STANDARD
BEGIN:DAYLIGHT
TZOFFSETFROM:-0500
TZOFFSETTO:-0400
TZNAME:EDT
DTSTART:20260308T070000
END:DAYLIGHT
BEGIN:STANDARD
TZOFFSETFROM:-0400
TZOFFSETTO:-0500
TZNAME:EST
DTSTART:20261101T060000
END:STANDARD
BEGIN:DAYLIGHT
TZOFFSETFROM:-0500
TZOFFSETTO:-0400
TZNAME:EDT
DTSTART:20270314T070000
END:DAYLIGHT
BEGIN:STANDARD
TZOFFSETFROM:-0400
TZOFFSETTO:-0500
TZNAME:EST
DTSTART:20271107T060000
END:STANDARD
END:VTIMEZONE
BEGIN:VEVENT
DTSTART;VALUE=DATE:20260101
DTEND;VALUE=DATE:20260102
DTSTAMP:20260423T203041
CREATED:20251202T145810Z
LAST-MODIFIED:20251202T145810Z
UID:10005819-1767225600-1767311999@hilllibrary.org
SUMMARY:Library Closed New Year's Day
DESCRIPTION:The library will be closed on 1/1 for New Year’s Day.
URL:https://hilllibrary.org/event/library-closed-new-years-day/
LOCATION:Hill Library\, 1151 Parker Mountain Road\, Strafford\, NH\, 03884
CATEGORIES:Holiday/Closing
ORGANIZER;CN="Hill Library":MAILTO:lmolloy@hilllibrary.org
END:VEVENT
BEGIN:VEVENT
DTSTART;TZID=America/New_York:20260103T090000
DTEND;TZID=America/New_York:20260103T100000
DTSTAMP:20260423T203041
CREATED:20241005T161420Z
LAST-MODIFIED:20260206T193134Z
UID:10004132-1767430800-1767434400@hilllibrary.org
SUMMARY:Gentle Flow Yoga 9am-10am
DESCRIPTION:
URL:https://hilllibrary.org/event/gentle-flow-yoga-2-2/2026-01-03/
LOCATION:Hill Library\, 1151 Parker Mountain Road\, Strafford\, NH\, 03884
CATEGORIES:Adult programs
ATTACH;FMTTYPE=image/png:https://hilllibrary.org/wp-content/uploads/2024/03/Copy-of-Copy-of-Copy-of-Copy-of-GENTLE-FLOW-YOGA.png
ORGANIZER;CN="Hill Library":MAILTO:lmolloy@hilllibrary.org
END:VEVENT
BEGIN:VEVENT
DTSTART;TZID=America/New_York:20260105T100000
DTEND;TZID=America/New_York:20260105T103000
DTSTAMP:20260423T203041
CREATED:20240916T151257Z
LAST-MODIFIED:20260325T212321Z
UID:10000066-1767607200-1767609000@hilllibrary.org
SUMMARY:Story Time
DESCRIPTION:Join us at 10 am on Mondays for some songs\, stories\, and a craft! All ages welcome.
URL:https://hilllibrary.org/event/story-time/2026-01-05/
LOCATION:Hill Library\, 1151 Parker Mountain Road\, Strafford\, NH\, 03884
CATEGORIES:Ages 0-5
ATTACH;FMTTYPE=image/png:https://hilllibrary.org/wp-content/uploads/2024/04/Storytime.png
ORGANIZER;CN="Hill Library":MAILTO:lmolloy@hilllibrary.org
END:VEVENT
BEGIN:VEVENT
DTSTART;TZID=America/New_York:20260105T153000
DTEND;TZID=America/New_York:20260105T163000
DTSTAMP:20260423T203041
CREATED:20251222T194541Z
LAST-MODIFIED:20260125T213211Z
UID:10005578-1767627000-1767630600@hilllibrary.org
SUMMARY:Grades 1-2 Library Club
DESCRIPTION:Email cbeihl.hl@gmail.com to get the registration links\, or be added to the Library Club email list for future sign-ups.
URL:https://hilllibrary.org/event/grades-1-2-library-club-2-2-2/2026-01-05/
LOCATION:Hill Library\, 1151 Parker Mountain Road\, Strafford\, NH\, 03884
CATEGORIES:K-4 Programs
ATTACH;FMTTYPE=image/png:https://hilllibrary.org/wp-content/uploads/2025/10/Copy-of-Copy-of-Copy-of-Copy-of-Copy-of-Library-Club-Poster-Instagram-Post.png
ORGANIZER;CN="Hill Library":MAILTO:lmolloy@hilllibrary.org
END:VEVENT
BEGIN:VEVENT
DTSTART;TZID=America/New_York:20260106T100000
DTEND;TZID=America/New_York:20260106T110000
DTSTAMP:20260423T203041
CREATED:20250815T204732Z
LAST-MODIFIED:20260113T122132Z
UID:10006112-1767693600-1767697200@hilllibrary.org
SUMMARY:Balance Exercise class
DESCRIPTION:Balance exercise class is staring back up on Tuesday and Friday mornings at 10 am. Join us for an hour of gentle stretching\, balance exercises and strength training. Registration is required.
URL:https://hilllibrary.org/event/better-balance-exercise-class-2/2026-01-06/
LOCATION:Hill Library\, 1151 Parker Mountain Road\, Strafford\, NH\, 03884
CATEGORIES:Adult programs
ATTACH;FMTTYPE=image/png:https://hilllibrary.org/wp-content/uploads/2025/04/Balance-cancelled.png
ORGANIZER;CN="Hill Library":MAILTO:lmolloy@hilllibrary.org
END:VEVENT
BEGIN:VEVENT
DTSTART;TZID=America/New_York:20260106T120000
DTEND;TZID=America/New_York:20260106T140000
DTSTAMP:20260423T203041
CREATED:20240918T195441Z
LAST-MODIFIED:20251215T155612Z
UID:10000907-1767700800-1767708000@hilllibrary.org
SUMMARY:Handy Crafters
DESCRIPTION:
URL:https://hilllibrary.org/event/handy-crafters/2026-01-06/
LOCATION:Hill Library\, 1151 Parker Mountain Road\, Strafford\, NH\, 03884
CATEGORIES:Adult programs
ATTACH;FMTTYPE=image/png:https://hilllibrary.org/wp-content/uploads/2024/09/Copy-of-If-youre-handy-join-the-Handy-Crafters-as-they-work-on-crafting-hats-and-scarves-for-members-of-the-military.-Stop-by-for-a-pattern.png
ORGANIZER;CN="Hill Library":MAILTO:lmolloy@hilllibrary.org
END:VEVENT
BEGIN:VEVENT
DTSTART;TZID=America/New_York:20260106T130000
DTEND;TZID=America/New_York:20260106T140000
DTSTAMP:20260423T203041
CREATED:20251222T200010Z
LAST-MODIFIED:20251222T200010Z
UID:10006409-1767704400-1767708000@hilllibrary.org
SUMMARY:Medicaid/care Info Session
DESCRIPTION:Join Health Insurance Enrollment Specialists Ginny Mayo and Mary Moynihan from Greater Seacoast Community Health for an informational session on Medicaid\, Medicare and the Health Insurance Marketplace.
URL:https://hilllibrary.org/event/medicaid-care-info-session/
LOCATION:Hill Library\, 1151 Parker Mountain Road\, Strafford\, NH\, 03884
CATEGORIES:Adult programs
ATTACH;FMTTYPE=image/png:https://hilllibrary.org/wp-content/uploads/2025/12/Copy-of-Medicaid-Health-Insurance-Post.png
ORGANIZER;CN="Hill Library":MAILTO:lmolloy@hilllibrary.org
END:VEVENT
BEGIN:VEVENT
DTSTART;TZID=America/New_York:20260107T140000
DTEND;TZID=America/New_York:20260107T143000
DTSTAMP:20260423T203041
CREATED:20250917T194926Z
LAST-MODIFIED:20251212T183633Z
UID:10005841-1767794400-1767796200@hilllibrary.org
SUMMARY:Book Buddies
DESCRIPTION:The Book Buddies is a program that unites residents with Strafford School classes. Please call the library for more information. Fingerprinting is required.
URL:https://hilllibrary.org/event/book-buddies-2-2-2/2026-01-07/
LOCATION:Hill Library\, 1151 Parker Mountain Road\, Strafford\, NH\, 03884
CATEGORIES:All Ages Youth and Adult
ATTACH;FMTTYPE=image/png:https://hilllibrary.org/wp-content/uploads/2025/02/Copy-of-Book-Buddies.png
ORGANIZER;CN="Hill Library":MAILTO:lmolloy@hilllibrary.org
END:VEVENT
BEGIN:VEVENT
DTSTART;TZID=America/New_York:20260107T153000
DTEND;TZID=America/New_York:20260107T163000
DTSTAMP:20260423T203041
CREATED:20251222T194438Z
LAST-MODIFIED:20251222T195211Z
UID:10005583-1767799800-1767803400@hilllibrary.org
SUMMARY:Grades 3+ Library Club
DESCRIPTION:Email cbeihl.hl@gmail.com to get the registration links\, or be added to the Library Club email list for future sign-ups.
URL:https://hilllibrary.org/event/grades-3-library-club-2-2-2/2026-01-07/
LOCATION:Hill Library\, 1151 Parker Mountain Road\, Strafford\, NH\, 03884
CATEGORIES:K-4 Programs
ATTACH;FMTTYPE=image/png:https://hilllibrary.org/wp-content/uploads/2025/10/Copy-of-Copy-of-Copy-of-Copy-of-Copy-of-Library-Club-Poster-Instagram-Post.png
ORGANIZER;CN="Hill Library":MAILTO:lmolloy@hilllibrary.org
END:VEVENT
BEGIN:VEVENT
DTSTART;TZID=America/New_York:20260108T100000
DTEND;TZID=America/New_York:20260108T110000
DTSTAMP:20260423T203041
CREATED:20251222T193726Z
LAST-MODIFIED:20251222T193726Z
UID:10006385-1767866400-1767870000@hilllibrary.org
SUMMARY:Story Time and Nature Play with Four Winds Nature Institute
DESCRIPTION:Join Four Winds Nature Institute for another nature based play session! Stop by to play with ice gems and sip hot cocoa! All ages welcome\, no registration needed.
URL:https://hilllibrary.org/event/story-time-and-nature-play-with-four-winds-nature-institute/
LOCATION:Hill Library\, 1151 Parker Mountain Road\, Strafford\, NH\, 03884
CATEGORIES:Ages 0-5
ATTACH;FMTTYPE=image/png:https://hilllibrary.org/wp-content/uploads/2025/12/Story-Time-and-Nature-Based-Play.png
ORGANIZER;CN="Hill Library":MAILTO:lmolloy@hilllibrary.org
END:VEVENT
BEGIN:VEVENT
DTSTART;TZID=America/New_York:20260108T130000
DTEND;TZID=America/New_York:20260108T150000
DTSTAMP:20260423T203041
CREATED:20241229T224919Z
LAST-MODIFIED:20251021T174443Z
UID:10002784-1767877200-1767884400@hilllibrary.org
SUMMARY:Mah Jongg Club
DESCRIPTION:
URL:https://hilllibrary.org/event/mah-jongg-club-2/2026-01-08/
LOCATION:Hill Library\, 1151 Parker Mountain Road\, Strafford\, NH\, 03884
CATEGORIES:Adult programs
ATTACH;FMTTYPE=image/png:https://hilllibrary.org/wp-content/uploads/2022/08/mahjong-1080-×-400-px.png
ORGANIZER;CN="Hill Library":MAILTO:lmolloy@hilllibrary.org
END:VEVENT
BEGIN:VEVENT
DTSTART;TZID=America/New_York:20260108T183000
DTEND;TZID=America/New_York:20260108T193000
DTSTAMP:20260423T203041
CREATED:20250615T013743Z
LAST-MODIFIED:20251202T230542Z
UID:10005837-1767897000-1767900600@hilllibrary.org
SUMMARY:Hill Library Book Club
DESCRIPTION:
URL:https://hilllibrary.org/event/hill-library-book-club-2-3/2026-01-08/
LOCATION:Hill Library\, 1151 Parker Mountain Road\, Strafford\, NH\, 03884
CATEGORIES:Book Clubs
ATTACH;FMTTYPE=image/png:https://hilllibrary.org/wp-content/uploads/2025/06/Copy-of-Book-Club.png
ORGANIZER;CN="Hill Library":MAILTO:lmolloy@hilllibrary.org
END:VEVENT
BEGIN:VEVENT
DTSTART;TZID=America/New_York:20260108T183000
DTEND;TZID=America/New_York:20260108T193000
DTSTAMP:20260423T203041
CREATED:20260326T143330Z
LAST-MODIFIED:20260326T143330Z
UID:10006766-1767897000-1767900600@hilllibrary.org
SUMMARY:Hill Library Book Club
DESCRIPTION:
URL:https://hilllibrary.org/event/hill-library-book-club-2-4/2026-01-08/
LOCATION:Hill Library\, 1151 Parker Mountain Road\, Strafford\, NH\, 03884
CATEGORIES:Book Clubs
ATTACH;FMTTYPE=image/png:https://hilllibrary.org/wp-content/uploads/2025/06/Copy-of-Book-Club.png
ORGANIZER;CN="Hill Library":MAILTO:lmolloy@hilllibrary.org
END:VEVENT
BEGIN:VEVENT
DTSTART;TZID=America/New_York:20260109T153000
DTEND;TZID=America/New_York:20260109T163000
DTSTAMP:20260423T203041
CREATED:20250821T153609Z
LAST-MODIFIED:20260325T212449Z
UID:10004689-1767972600-1767976200@hilllibrary.org
SUMMARY:Grade 5+ Games
DESCRIPTION:Join us for some fun games and snacks! All youth in grades 5 and up are welcome. No registration needed.
URL:https://hilllibrary.org/event/grade-5-games-2-3/2026-01-09/
LOCATION:Hill Library\, 1151 Parker Mountain Road\, Strafford\, NH\, 03884
CATEGORIES:Grades 5 and Up
ATTACH;FMTTYPE=image/png:https://hilllibrary.org/wp-content/uploads/2024/09/Grade-5-Games.png
ORGANIZER;CN="Hill Library":MAILTO:lmolloy@hilllibrary.org
END:VEVENT
BEGIN:VEVENT
DTSTART;TZID=America/New_York:20260109T180000
DTEND;TZID=America/New_York:20260109T190000
DTSTAMP:20260423T203041
CREATED:20251202T231034Z
LAST-MODIFIED:20251202T232022Z
UID:10005838-1767981600-1767985200@hilllibrary.org
SUMMARY:Birds All Around Us
DESCRIPTION:Birds All Around Us\, presented by the NH Audubon on Friday\, January 9 at 6 pm. \nDiscover what unique traits birds have in this birding class. Learn the basics of bird\nidentification\, the wide diversity of New Hampshire’s birds\, and how to name the\nbirds around you.
URL:https://hilllibrary.org/event/birds-all-around-us/
LOCATION:Hill Library\, 1151 Parker Mountain Road\, Strafford\, NH\, 03884
CATEGORIES:All Ages Youth and Adult
ATTACH;FMTTYPE=image/png:https://hilllibrary.org/wp-content/uploads/2025/12/Copy-of-Birds-All-Around-Us-1.png
ORGANIZER;CN="Hill Library":MAILTO:lmolloy@hilllibrary.org
END:VEVENT
BEGIN:VEVENT
DTSTART;TZID=America/New_York:20260110T090000
DTEND;TZID=America/New_York:20260110T100000
DTSTAMP:20260423T203041
CREATED:20241005T161420Z
LAST-MODIFIED:20260206T193134Z
UID:10004133-1768035600-1768039200@hilllibrary.org
SUMMARY:Gentle Flow Yoga 9am-10am
DESCRIPTION:
URL:https://hilllibrary.org/event/gentle-flow-yoga-2-2/2026-01-10/
LOCATION:Hill Library\, 1151 Parker Mountain Road\, Strafford\, NH\, 03884
CATEGORIES:Adult programs
ATTACH;FMTTYPE=image/png:https://hilllibrary.org/wp-content/uploads/2024/03/Copy-of-Copy-of-Copy-of-Copy-of-GENTLE-FLOW-YOGA.png
ORGANIZER;CN="Hill Library":MAILTO:lmolloy@hilllibrary.org
END:VEVENT
BEGIN:VEVENT
DTSTART;TZID=America/New_York:20260112T100000
DTEND;TZID=America/New_York:20260112T103000
DTSTAMP:20260423T203041
CREATED:20240916T151257Z
LAST-MODIFIED:20260325T212321Z
UID:10000067-1768212000-1768213800@hilllibrary.org
SUMMARY:Story Time
DESCRIPTION:Join us at 10 am on Mondays for some songs\, stories\, and a craft! All ages welcome.
URL:https://hilllibrary.org/event/story-time/2026-01-12/
LOCATION:Hill Library\, 1151 Parker Mountain Road\, Strafford\, NH\, 03884
CATEGORIES:Ages 0-5
ATTACH;FMTTYPE=image/png:https://hilllibrary.org/wp-content/uploads/2024/04/Storytime.png
ORGANIZER;CN="Hill Library":MAILTO:lmolloy@hilllibrary.org
END:VEVENT
BEGIN:VEVENT
DTSTART;TZID=America/New_York:20260112T153000
DTEND;TZID=America/New_York:20260112T163000
DTSTAMP:20260423T203041
CREATED:20251222T194541Z
LAST-MODIFIED:20260125T213211Z
UID:10006389-1768231800-1768235400@hilllibrary.org
SUMMARY:Grades 1-2 Library Club
DESCRIPTION:Email cbeihl.hl@gmail.com to get the registration links\, or be added to the Library Club email list for future sign-ups.
URL:https://hilllibrary.org/event/grades-1-2-library-club-2-2-2/2026-01-12/
LOCATION:Hill Library\, 1151 Parker Mountain Road\, Strafford\, NH\, 03884
CATEGORIES:K-4 Programs
ATTACH;FMTTYPE=image/png:https://hilllibrary.org/wp-content/uploads/2025/10/Copy-of-Copy-of-Copy-of-Copy-of-Copy-of-Library-Club-Poster-Instagram-Post.png
ORGANIZER;CN="Hill Library":MAILTO:lmolloy@hilllibrary.org
END:VEVENT
BEGIN:VEVENT
DTSTART;TZID=America/New_York:20260113T120000
DTEND;TZID=America/New_York:20260113T140000
DTSTAMP:20260423T203041
CREATED:20240918T195441Z
LAST-MODIFIED:20251215T155612Z
UID:10000908-1768305600-1768312800@hilllibrary.org
SUMMARY:Handy Crafters
DESCRIPTION:
URL:https://hilllibrary.org/event/handy-crafters/2026-01-13/
LOCATION:Hill Library\, 1151 Parker Mountain Road\, Strafford\, NH\, 03884
CATEGORIES:Adult programs
ATTACH;FMTTYPE=image/png:https://hilllibrary.org/wp-content/uploads/2024/09/Copy-of-If-youre-handy-join-the-Handy-Crafters-as-they-work-on-crafting-hats-and-scarves-for-members-of-the-military.-Stop-by-for-a-pattern.png
ORGANIZER;CN="Hill Library":MAILTO:lmolloy@hilllibrary.org
END:VEVENT
BEGIN:VEVENT
DTSTART;TZID=America/New_York:20260113T140000
DTEND;TZID=America/New_York:20260113T160000
DTSTAMP:20260423T203041
CREATED:20240916T193239Z
LAST-MODIFIED:20251020T180237Z
UID:10000457-1768312800-1768320000@hilllibrary.org
SUMMARY:Computer Clinic
DESCRIPTION:
URL:https://hilllibrary.org/event/computer-clinic/2026-01-13/
LOCATION:Hill Library\, 1151 Parker Mountain Road\, Strafford\, NH\, 03884
CATEGORIES:Adult programs
ATTACH;FMTTYPE=image/png:https://hilllibrary.org/wp-content/uploads/2023/10/Copy-of-Computer-Clinic-1080-×-400-px-1.png
ORGANIZER;CN="Hill Library":MAILTO:lmolloy@hilllibrary.org
END:VEVENT
BEGIN:VEVENT
DTSTART;TZID=America/New_York:20260113T180000
DTEND;TZID=America/New_York:20260113T190000
DTSTAMP:20260423T203041
CREATED:20240916T173137Z
LAST-MODIFIED:20251020T182354Z
UID:10000336-1768327200-1768330800@hilllibrary.org
SUMMARY:Usual Suspects Thriller Book Club
DESCRIPTION:
URL:https://hilllibrary.org/event/usual-suspects-thriller-book-club/2026-01-13/
LOCATION:Hill Library\, 1151 Parker Mountain Road\, Strafford\, NH\, 03884
CATEGORIES:Book Clubs
ATTACH;FMTTYPE=image/png:https://hilllibrary.org/wp-content/uploads/2024/09/Copy-of-Copy-of-The-Ususal-Suspect-May.png
ORGANIZER;CN="Hill Library":MAILTO:lmolloy@hilllibrary.org
END:VEVENT
BEGIN:VEVENT
DTSTART;TZID=America/New_York:20260114T140000
DTEND;TZID=America/New_York:20260114T143000
DTSTAMP:20260423T203041
CREATED:20250917T194926Z
LAST-MODIFIED:20251212T183633Z
UID:10004973-1768399200-1768401000@hilllibrary.org
SUMMARY:Book Buddies
DESCRIPTION:The Book Buddies is a program that unites residents with Strafford School classes. Please call the library for more information. Fingerprinting is required.
URL:https://hilllibrary.org/event/book-buddies-2-2-2/2026-01-14/
LOCATION:Hill Library\, 1151 Parker Mountain Road\, Strafford\, NH\, 03884
CATEGORIES:All Ages Youth and Adult
ATTACH;FMTTYPE=image/png:https://hilllibrary.org/wp-content/uploads/2025/02/Copy-of-Book-Buddies.png
ORGANIZER;CN="Hill Library":MAILTO:lmolloy@hilllibrary.org
END:VEVENT
BEGIN:VEVENT
DTSTART;TZID=America/New_York:20260114T153000
DTEND;TZID=America/New_York:20260114T163000
DTSTAMP:20260423T203041
CREATED:20251222T194438Z
LAST-MODIFIED:20251222T195211Z
UID:10006393-1768404600-1768408200@hilllibrary.org
SUMMARY:Grades 3+ Library Club
DESCRIPTION:Email cbeihl.hl@gmail.com to get the registration links\, or be added to the Library Club email list for future sign-ups.
URL:https://hilllibrary.org/event/grades-3-library-club-2-2-2/2026-01-14/
LOCATION:Hill Library\, 1151 Parker Mountain Road\, Strafford\, NH\, 03884
CATEGORIES:K-4 Programs
ATTACH;FMTTYPE=image/png:https://hilllibrary.org/wp-content/uploads/2025/10/Copy-of-Copy-of-Copy-of-Copy-of-Copy-of-Library-Club-Poster-Instagram-Post.png
ORGANIZER;CN="Hill Library":MAILTO:lmolloy@hilllibrary.org
END:VEVENT
BEGIN:VEVENT
DTSTART;TZID=America/New_York:20260115T100000
DTEND;TZID=America/New_York:20260115T103000
DTSTAMP:20260423T203041
CREATED:20250915T173938Z
LAST-MODIFIED:20260218T171142Z
UID:10001690-1768471200-1768473000@hilllibrary.org
SUMMARY:Music and Movement
DESCRIPTION:Let’s move and groove with songs\, scarves\, egg shakers\, and our parachute! All ages welcome. Music and Movement meets on alternate Thursdays.
URL:https://hilllibrary.org/event/music-and-movement-2-4/2026-01-15/
LOCATION:Hill Library\, 1151 Parker Mountain Road\, Strafford\, NH\, 03884
CATEGORIES:Ages 0-5
ATTACH;FMTTYPE=image/png:https://hilllibrary.org/wp-content/uploads/2024/09/MM.png
ORGANIZER;CN="Hill Library":MAILTO:lmolloy@hilllibrary.org
END:VEVENT
BEGIN:VEVENT
DTSTART;TZID=America/New_York:20260115T130000
DTEND;TZID=America/New_York:20260115T150000
DTSTAMP:20260423T203041
CREATED:20241229T224919Z
LAST-MODIFIED:20251021T174443Z
UID:10002785-1768482000-1768489200@hilllibrary.org
SUMMARY:Mah Jongg Club
DESCRIPTION:
URL:https://hilllibrary.org/event/mah-jongg-club-2/2026-01-15/
LOCATION:Hill Library\, 1151 Parker Mountain Road\, Strafford\, NH\, 03884
CATEGORIES:Adult programs
ATTACH;FMTTYPE=image/png:https://hilllibrary.org/wp-content/uploads/2022/08/mahjong-1080-×-400-px.png
ORGANIZER;CN="Hill Library":MAILTO:lmolloy@hilllibrary.org
END:VEVENT
BEGIN:VEVENT
DTSTART;TZID=America/New_York:20260115T180000
DTEND;TZID=America/New_York:20260115T190000
DTSTAMP:20260423T203041
CREATED:20251222T194231Z
LAST-MODIFIED:20251222T194231Z
UID:10006387-1768500000-1768503600@hilllibrary.org
SUMMARY:Amazing Animal Adaptations
DESCRIPTION:Join Center for Wildlife and some of their live animal ambassadors to learn about how animals adapt to the cold. Adults and children welcome. Registration is appreciated\, please email cbeihl.hl@gmail.com to sign up.
URL:https://hilllibrary.org/event/amazing-animal-adaptations/
LOCATION:Hill Library\, 1151 Parker Mountain Road\, Strafford\, NH\, 03884
CATEGORIES:All Ages Youth and Adult
ATTACH;FMTTYPE=image/png:https://hilllibrary.org/wp-content/uploads/2025/12/Winter.png
ORGANIZER;CN="Hill Library":MAILTO:lmolloy@hilllibrary.org
END:VEVENT
BEGIN:VEVENT
DTSTART;TZID=America/New_York:20260116T100000
DTEND;TZID=America/New_York:20260116T110000
DTSTAMP:20260423T203041
CREATED:20250815T205028Z
LAST-MODIFIED:20251215T155000Z
UID:10005856-1768557600-1768561200@hilllibrary.org
SUMMARY:Balance Exercise class
DESCRIPTION:Balance exercise class is staring back up on Tuesday and Friday mornings at 10 am. Join us for an hour of gentle stretching\, balance exercises and strength training. Registration is required. \n 
URL:https://hilllibrary.org/event/balance-exercise-class/2026-01-16/
LOCATION:Hill Library\, 1151 Parker Mountain Road\, Strafford\, NH\, 03884
CATEGORIES:Adult programs
ATTACH;FMTTYPE=image/png:https://hilllibrary.org/wp-content/uploads/2025/04/Balance-cancelled.png
ORGANIZER;CN="Hill Library":MAILTO:lmolloy@hilllibrary.org
END:VEVENT
BEGIN:VEVENT
DTSTART;TZID=America/New_York:20260116T153000
DTEND;TZID=America/New_York:20260116T163000
DTSTAMP:20260423T203041
CREATED:20250821T153609Z
LAST-MODIFIED:20260325T212449Z
UID:10004690-1768577400-1768581000@hilllibrary.org
SUMMARY:Grade 5+ Games
DESCRIPTION:Join us for some fun games and snacks! All youth in grades 5 and up are welcome. No registration needed.
URL:https://hilllibrary.org/event/grade-5-games-2-3/2026-01-16/
LOCATION:Hill Library\, 1151 Parker Mountain Road\, Strafford\, NH\, 03884
CATEGORIES:Grades 5 and Up
ATTACH;FMTTYPE=image/png:https://hilllibrary.org/wp-content/uploads/2024/09/Grade-5-Games.png
ORGANIZER;CN="Hill Library":MAILTO:lmolloy@hilllibrary.org
END:VEVENT
BEGIN:VEVENT
DTSTART;VALUE=DATE:20260119
DTEND;VALUE=DATE:20260120
DTSTAMP:20260423T203041
CREATED:20251212T183338Z
LAST-MODIFIED:20251212T183338Z
UID:10005839-1768780800-1768867199@hilllibrary.org
SUMMARY:Closed in observance of Martin Luther King\, Jr. Day
DESCRIPTION:
URL:https://hilllibrary.org/event/closed-in-observance-of-martin-luther-king-jr-day-2/
LOCATION:Hill Library\, 1151 Parker Mountain Road\, Strafford\, NH\, 03884
CATEGORIES:Holiday/Closing
ATTACH;FMTTYPE=image/png:https://hilllibrary.org/wp-content/uploads/2025/12/Copy-of-Copy-of-closed-MLK-1080-x-400-px.png
ORGANIZER;CN="Hill Library":MAILTO:lmolloy@hilllibrary.org
END:VEVENT
BEGIN:VEVENT
DTSTART;TZID=America/New_York:20260120T100000
DTEND;TZID=America/New_York:20260120T110000
DTSTAMP:20260423T203041
CREATED:20250815T204732Z
LAST-MODIFIED:20260113T122132Z
UID:10006114-1768903200-1768906800@hilllibrary.org
SUMMARY:Balance Exercise class
DESCRIPTION:Balance exercise class is staring back up on Tuesday and Friday mornings at 10 am. Join us for an hour of gentle stretching\, balance exercises and strength training. Registration is required.
URL:https://hilllibrary.org/event/better-balance-exercise-class-2/2026-01-20/
LOCATION:Hill Library\, 1151 Parker Mountain Road\, Strafford\, NH\, 03884
CATEGORIES:Adult programs
ATTACH;FMTTYPE=image/png:https://hilllibrary.org/wp-content/uploads/2025/04/Balance-cancelled.png
ORGANIZER;CN="Hill Library":MAILTO:lmolloy@hilllibrary.org
END:VEVENT
END:VCALENDAR