BEGIN:VCALENDAR
VERSION:2.0
PRODID:-//Hill Library, Strafford, NH - ECPv6.15.20//NONSGML v1.0//EN
CALSCALE:GREGORIAN
METHOD:PUBLISH
X-WR-CALNAME:Hill Library, Strafford, NH
X-ORIGINAL-URL:https://hilllibrary.org
X-WR-CALDESC:Events for Hill Library, Strafford, NH
REFRESH-INTERVAL;VALUE=DURATION:PT1H
X-Robots-Tag:noindex
X-PUBLISHED-TTL:PT1H
BEGIN:VTIMEZONE
TZID:America/New_York
BEGIN:DAYLIGHT
TZOFFSETFROM:-0500
TZOFFSETTO:-0400
TZNAME:EDT
DTSTART:20240310T070000
END:DAYLIGHT
BEGIN:STANDARD
TZOFFSETFROM:-0400
TZOFFSETTO:-0500
TZNAME:EST
DTSTART:20241103T060000
END:STANDARD
BEGIN:DAYLIGHT
TZOFFSETFROM:-0500
TZOFFSETTO:-0400
TZNAME:EDT
DTSTART:20250309T070000
END:DAYLIGHT
BEGIN:STANDARD
TZOFFSETFROM:-0400
TZOFFSETTO:-0500
TZNAME:EST
DTSTART:20251102T060000
END:STANDARD
BEGIN:DAYLIGHT
TZOFFSETFROM:-0500
TZOFFSETTO:-0400
TZNAME:EDT
DTSTART:20260308T070000
END:DAYLIGHT
BEGIN:STANDARD
TZOFFSETFROM:-0400
TZOFFSETTO:-0500
TZNAME:EST
DTSTART:20261101T060000
END:STANDARD
END:VTIMEZONE
BEGIN:VEVENT
DTSTART;TZID=America/New_York:20250701T113000
DTEND;TZID=America/New_York:20250701T123000
DTSTAMP:20260424T052156
CREATED:20250625T201707Z
LAST-MODIFIED:20250626T161939Z
UID:10004045-1751369400-1751373000@hilllibrary.org
SUMMARY:Garden Club
DESCRIPTION:Join us for some fun in the garden! All ages welcome. There will be no Garden Club on Tuesday\, July 15th.
URL:https://hilllibrary.org/event/garden-club-4/2025-07-01/
LOCATION:Hill Library\, 1151 Parker Mountain Road\, Strafford\, NH\, 03884
CATEGORIES:All Ages Youth and Adult
ATTACH;FMTTYPE=image/png:https://hilllibrary.org/wp-content/uploads/2025/06/Copy-of-Copy-of-HILL-LIBRARY-GARDEN-CLUB-2.png
ORGANIZER;CN="Hill Library":MAILTO:lmolloy@hilllibrary.org
END:VEVENT
BEGIN:VEVENT
DTSTART;TZID=America/New_York:20250701T120000
DTEND;TZID=America/New_York:20250701T140000
DTSTAMP:20260424T052156
CREATED:20240918T195441Z
LAST-MODIFIED:20251215T155612Z
UID:10000880-1751371200-1751378400@hilllibrary.org
SUMMARY:Handy Crafters
DESCRIPTION:
URL:https://hilllibrary.org/event/handy-crafters/2025-07-01/
LOCATION:Hill Library\, 1151 Parker Mountain Road\, Strafford\, NH\, 03884
CATEGORIES:Adult programs
ATTACH;FMTTYPE=image/png:https://hilllibrary.org/wp-content/uploads/2024/09/Copy-of-If-youre-handy-join-the-Handy-Crafters-as-they-work-on-crafting-hats-and-scarves-for-members-of-the-military.-Stop-by-for-a-pattern.png
ORGANIZER;CN="Hill Library":MAILTO:lmolloy@hilllibrary.org
END:VEVENT
BEGIN:VEVENT
DTSTART;TZID=America/New_York:20250702T103000
DTEND;TZID=America/New_York:20250702T113000
DTSTAMP:20260424T052156
CREATED:20250127T182435Z
LAST-MODIFIED:20260107T131201Z
UID:10003013-1751452200-1751455800@hilllibrary.org
SUMMARY:Caregiver Café
DESCRIPTION:
URL:https://hilllibrary.org/event/caregiver-cafe-4-2/2025-07-02/
LOCATION:Hill Library\, 1151 Parker Mountain Road\, Strafford\, NH\, 03884
CATEGORIES:Adult programs
ATTACH;FMTTYPE=image/png:https://hilllibrary.org/wp-content/uploads/2025/01/Copy-of-Untitled-design.png
ORGANIZER;CN="Hill Library":MAILTO:lmolloy@hilllibrary.org
END:VEVENT
BEGIN:VEVENT
DTSTART;TZID=America/New_York:20250702T130000
DTEND;TZID=America/New_York:20250702T140000
DTSTAMP:20260424T052156
CREATED:20250625T194627Z
LAST-MODIFIED:20250625T194627Z
UID:10003975-1751461200-1751464800@hilllibrary.org
SUMMARY:Tie-Dye (All Ages)
DESCRIPTION:We’ll be making some cool tie-dye! All ages welcome. Please bring your own item(s) to tie-dye!
URL:https://hilllibrary.org/event/tie-dye-all-ages/
LOCATION:Hill Library\, 1151 Parker Mountain Road\, Strafford\, NH\, 03884
CATEGORIES:All Ages Youth and Adult
ATTACH;FMTTYPE=image/png:https://hilllibrary.org/wp-content/uploads/2025/06/Messy-Art-Tie-Dye-1.png
ORGANIZER;CN="Hill Library":MAILTO:lmolloy@hilllibrary.org
END:VEVENT
BEGIN:VEVENT
DTSTART;TZID=America/New_York:20250703T100000
DTEND;TZID=America/New_York:20250703T103000
DTSTAMP:20260424T052156
CREATED:20240920T193243Z
LAST-MODIFIED:20250915T174145Z
UID:10001662-1751536800-1751538600@hilllibrary.org
SUMMARY:Music and Movement
DESCRIPTION:Let’s move and groove with songs\, scarves\, egg shakers\, and our parachute! All ages welcome. Starting in October\, Music and Movement will be alternating every other week with our new program\, Sensory Playtime!
URL:https://hilllibrary.org/event/music-and-movement-2/2025-07-03/
LOCATION:Hill Library\, 1151 Parker Mountain Road\, Strafford\, NH\, 03884
CATEGORIES:Ages 0-5
ATTACH;FMTTYPE=image/png:https://hilllibrary.org/wp-content/uploads/2024/09/MM.png
ORGANIZER;CN="Hill Library":MAILTO:lmolloy@hilllibrary.org
END:VEVENT
BEGIN:VEVENT
DTSTART;TZID=America/New_York:20250703T130000
DTEND;TZID=America/New_York:20250703T150000
DTSTAMP:20260424T052156
CREATED:20241229T224919Z
LAST-MODIFIED:20251021T174443Z
UID:10002757-1751547600-1751554800@hilllibrary.org
SUMMARY:Mah Jongg Club
DESCRIPTION:
URL:https://hilllibrary.org/event/mah-jongg-club-2/2025-07-03/
LOCATION:Hill Library\, 1151 Parker Mountain Road\, Strafford\, NH\, 03884
CATEGORIES:Adult programs
ATTACH;FMTTYPE=image/png:https://hilllibrary.org/wp-content/uploads/2022/08/mahjong-1080-×-400-px.png
ORGANIZER;CN="Hill Library":MAILTO:lmolloy@hilllibrary.org
END:VEVENT
BEGIN:VEVENT
DTSTART;TZID=America/New_York:20250703T163000
DTEND;TZID=America/New_York:20250703T173000
DTSTAMP:20260424T052156
CREATED:20250625T194738Z
LAST-MODIFIED:20250625T194738Z
UID:10003976-1751560200-1751563800@hilllibrary.org
SUMMARY:DIY Terrariums (Grade 5+)
DESCRIPTION:Make a super cute DIY terrarium! This program is for youth entering grades 5+. No registration needed.
URL:https://hilllibrary.org/event/diy-terrariums-grade-5/
LOCATION:Hill Library\, 1151 Parker Mountain Road\, Strafford\, NH\, 03884
CATEGORIES:Grades 5 and Up
ATTACH;FMTTYPE=image/png:https://hilllibrary.org/wp-content/uploads/2025/06/Terrariums.png
ORGANIZER;CN="Hill Library":MAILTO:lmolloy@hilllibrary.org
END:VEVENT
BEGIN:VEVENT
DTSTART;VALUE=DATE:20250704
DTEND;VALUE=DATE:20250705
DTSTAMP:20260424T052156
CREATED:20250615T014149Z
LAST-MODIFIED:20250615T014700Z
UID:10003968-1751587200-1751673599@hilllibrary.org
SUMMARY:Closed in observance of Independence Day
DESCRIPTION:The Hill Library is closed in observance of Independence Day. \nSee you tomorrow!
URL:https://hilllibrary.org/event/closed-in-observance-of-independence-day/
LOCATION:Hill Library\, 1151 Parker Mountain Road\, Strafford\, NH\, 03884
ORGANIZER;CN="Hill Library":MAILTO:lmolloy@hilllibrary.org
END:VEVENT
BEGIN:VEVENT
DTSTART;TZID=America/New_York:20250705T090000
DTEND;TZID=America/New_York:20250705T100000
DTSTAMP:20260424T052156
CREATED:20241005T161420Z
LAST-MODIFIED:20260206T193134Z
UID:10004107-1751706000-1751709600@hilllibrary.org
SUMMARY:Gentle Flow Yoga 9am-10am
DESCRIPTION:
URL:https://hilllibrary.org/event/gentle-flow-yoga-2-2/2025-07-05/
LOCATION:Hill Library\, 1151 Parker Mountain Road\, Strafford\, NH\, 03884
CATEGORIES:Adult programs
ATTACH;FMTTYPE=image/png:https://hilllibrary.org/wp-content/uploads/2024/03/Copy-of-Copy-of-Copy-of-Copy-of-GENTLE-FLOW-YOGA.png
ORGANIZER;CN="Hill Library":MAILTO:lmolloy@hilllibrary.org
END:VEVENT
BEGIN:VEVENT
DTSTART;TZID=America/New_York:20250707T100000
DTEND;TZID=America/New_York:20250707T103000
DTSTAMP:20260424T052156
CREATED:20240916T151257Z
LAST-MODIFIED:20260325T212321Z
UID:10000040-1751882400-1751884200@hilllibrary.org
SUMMARY:Story Time
DESCRIPTION:Join us at 10 am on Mondays for some songs\, stories\, and a craft! All ages welcome.
URL:https://hilllibrary.org/event/story-time/2025-07-07/
LOCATION:Hill Library\, 1151 Parker Mountain Road\, Strafford\, NH\, 03884
CATEGORIES:Ages 0-5
ATTACH;FMTTYPE=image/png:https://hilllibrary.org/wp-content/uploads/2024/04/Storytime.png
ORGANIZER;CN="Hill Library":MAILTO:lmolloy@hilllibrary.org
END:VEVENT
BEGIN:VEVENT
DTSTART;TZID=America/New_York:20250707T160000
DTEND;TZID=America/New_York:20250707T170000
DTSTAMP:20260424T052156
CREATED:20250625T194940Z
LAST-MODIFIED:20250625T195025Z
UID:10003977-1751904000-1751907600@hilllibrary.org
SUMMARY:Crafting Club (Grades 2+)
DESCRIPTION:Join 6th grader Maya P. for some crafting each Monday in July! \nMonday\, July 7: Nature Art \nMonday\, July 14: Finger Hats \nMonday\, July 21: Pom-poms \nMonday\, July 28: Finger Knitting
URL:https://hilllibrary.org/event/crafting-club-grades-2/2025-07-07/
LOCATION:Hill Library\, 1151 Parker Mountain Road\, Strafford\, NH\, 03884
CATEGORIES:K-4 Programs
ATTACH;FMTTYPE=image/png:https://hilllibrary.org/wp-content/uploads/2025/06/Crafting-Club-1.png
ORGANIZER;CN="Hill Library":MAILTO:lmolloy@hilllibrary.org
END:VEVENT
BEGIN:VEVENT
DTSTART;TZID=America/New_York:20250708T113000
DTEND;TZID=America/New_York:20250708T123000
DTSTAMP:20260424T052156
CREATED:20250625T201707Z
LAST-MODIFIED:20250626T161939Z
UID:10004046-1751974200-1751977800@hilllibrary.org
SUMMARY:Garden Club
DESCRIPTION:Join us for some fun in the garden! All ages welcome. There will be no Garden Club on Tuesday\, July 15th.
URL:https://hilllibrary.org/event/garden-club-4/2025-07-08/
LOCATION:Hill Library\, 1151 Parker Mountain Road\, Strafford\, NH\, 03884
CATEGORIES:All Ages Youth and Adult
ATTACH;FMTTYPE=image/png:https://hilllibrary.org/wp-content/uploads/2025/06/Copy-of-Copy-of-HILL-LIBRARY-GARDEN-CLUB-2.png
ORGANIZER;CN="Hill Library":MAILTO:lmolloy@hilllibrary.org
END:VEVENT
BEGIN:VEVENT
DTSTART;TZID=America/New_York:20250708T120000
DTEND;TZID=America/New_York:20250708T140000
DTSTAMP:20260424T052156
CREATED:20240918T195441Z
LAST-MODIFIED:20251215T155612Z
UID:10000881-1751976000-1751983200@hilllibrary.org
SUMMARY:Handy Crafters
DESCRIPTION:
URL:https://hilllibrary.org/event/handy-crafters/2025-07-08/
LOCATION:Hill Library\, 1151 Parker Mountain Road\, Strafford\, NH\, 03884
CATEGORIES:Adult programs
ATTACH;FMTTYPE=image/png:https://hilllibrary.org/wp-content/uploads/2024/09/Copy-of-If-youre-handy-join-the-Handy-Crafters-as-they-work-on-crafting-hats-and-scarves-for-members-of-the-military.-Stop-by-for-a-pattern.png
ORGANIZER;CN="Hill Library":MAILTO:lmolloy@hilllibrary.org
END:VEVENT
BEGIN:VEVENT
DTSTART;TZID=America/New_York:20250708T180000
DTEND;TZID=America/New_York:20250708T190000
DTSTAMP:20260424T052156
CREATED:20240916T173137Z
LAST-MODIFIED:20251020T182354Z
UID:10000330-1751997600-1752001200@hilllibrary.org
SUMMARY:Usual Suspects Thriller Book Club
DESCRIPTION:
URL:https://hilllibrary.org/event/usual-suspects-thriller-book-club/2025-07-08/
LOCATION:Hill Library\, 1151 Parker Mountain Road\, Strafford\, NH\, 03884
CATEGORIES:Book Clubs
ATTACH;FMTTYPE=image/png:https://hilllibrary.org/wp-content/uploads/2024/09/Copy-of-Copy-of-The-Ususal-Suspect-May.png
ORGANIZER;CN="Hill Library":MAILTO:lmolloy@hilllibrary.org
END:VEVENT
BEGIN:VEVENT
DTSTART;TZID=America/New_York:20250709T130000
DTEND;TZID=America/New_York:20250709T140000
DTSTAMP:20260424T052156
CREATED:20250625T200000Z
LAST-MODIFIED:20250625T200000Z
UID:10004033-1752066000-1752069600@hilllibrary.org
SUMMARY:Fun in the Sun (All Ages)
DESCRIPTION:Learn about sun safety with color changing beads and sun print art! All ages welcome\, no registration needed.
URL:https://hilllibrary.org/event/fun-in-the-sun-all-ages/
LOCATION:Hill Library\, 1151 Parker Mountain Road\, Strafford\, NH\, 03884
CATEGORIES:All Ages Youth and Adult
ATTACH;FMTTYPE=image/png:https://hilllibrary.org/wp-content/uploads/2025/06/Fun-1.png
ORGANIZER;CN="Hill Library":MAILTO:lmolloy@hilllibrary.org
END:VEVENT
BEGIN:VEVENT
DTSTART;TZID=America/New_York:20250709T190000
DTEND;TZID=America/New_York:20250709T200000
DTSTAMP:20260424T052156
CREATED:20250709T191816Z
LAST-MODIFIED:20250709T191816Z
UID:10004068-1752087600-1752091200@hilllibrary.org
SUMMARY:Trustee Meeting
DESCRIPTION:
URL:https://hilllibrary.org/event/trustee-meeting-2-2/
LOCATION:Hill Library\, 1151 Parker Mountain Road\, Strafford\, NH\, 03884
CATEGORIES:Adult programs
ORGANIZER;CN="Hill Library":MAILTO:lmolloy@hilllibrary.org
END:VEVENT
BEGIN:VEVENT
DTSTART;TZID=America/New_York:20250709T190000
DTEND;TZID=America/New_York:20250709T200000
DTSTAMP:20260424T052156
CREATED:20250709T201841Z
LAST-MODIFIED:20250709T201841Z
UID:10004069-1752087600-1752091200@hilllibrary.org
SUMMARY:Trustee Work meeting
DESCRIPTION:
URL:https://hilllibrary.org/event/trustee-work-meeting/
LOCATION:Hill Library\, 1151 Parker Mountain Road\, Strafford\, NH\, 03884
CATEGORIES:Adult programs
ORGANIZER;CN="Hill Library":MAILTO:lmolloy@hilllibrary.org
END:VEVENT
BEGIN:VEVENT
DTSTART;TZID=America/New_York:20250710T100000
DTEND;TZID=America/New_York:20250710T110000
DTSTAMP:20260424T052156
CREATED:20250625T200327Z
LAST-MODIFIED:20250625T200327Z
UID:10004035-1752141600-1752145200@hilllibrary.org
SUMMARY:Story Time and Nature Play
DESCRIPTION:The Four Winds Nature Institute will be joining us for a outdoor Story Time and nature based play with loose parts. All ages welcome\, no registration needed.
URL:https://hilllibrary.org/event/story-time-and-nature-play/
LOCATION:Hill Library\, 1151 Parker Mountain Road\, Strafford\, NH\, 03884
CATEGORIES:Ages 0-5
ATTACH;FMTTYPE=image/png:https://hilllibrary.org/wp-content/uploads/2025/06/Story-Time-and-Nature-Based-Play.png
ORGANIZER;CN="Hill Library":MAILTO:lmolloy@hilllibrary.org
END:VEVENT
BEGIN:VEVENT
DTSTART;TZID=America/New_York:20250710T130000
DTEND;TZID=America/New_York:20250710T150000
DTSTAMP:20260424T052156
CREATED:20241229T224919Z
LAST-MODIFIED:20251021T174443Z
UID:10002758-1752152400-1752159600@hilllibrary.org
SUMMARY:Mah Jongg Club
DESCRIPTION:
URL:https://hilllibrary.org/event/mah-jongg-club-2/2025-07-10/
LOCATION:Hill Library\, 1151 Parker Mountain Road\, Strafford\, NH\, 03884
CATEGORIES:Adult programs
ATTACH;FMTTYPE=image/png:https://hilllibrary.org/wp-content/uploads/2022/08/mahjong-1080-×-400-px.png
ORGANIZER;CN="Hill Library":MAILTO:lmolloy@hilllibrary.org
END:VEVENT
BEGIN:VEVENT
DTSTART;TZID=America/New_York:20250710T163000
DTEND;TZID=America/New_York:20250710T173000
DTSTAMP:20260424T052156
CREATED:20250625T200152Z
LAST-MODIFIED:20250625T200152Z
UID:10004034-1752165000-1752168600@hilllibrary.org
SUMMARY:Survival Games (Grades 5+)
DESCRIPTION:Can you survive on a deserted island long enough to be rescued? Forage\, craft\, and explore in this live-action version of the card game Ravine! This program is for youth entering grades 5+. No registration needed.
URL:https://hilllibrary.org/event/survival-games-grades-5/
LOCATION:Hill Library\, 1151 Parker Mountain Road\, Strafford\, NH\, 03884
CATEGORIES:Grades 5 and Up
ATTACH;FMTTYPE=image/png:https://hilllibrary.org/wp-content/uploads/2025/06/Survival-Games.png
ORGANIZER;CN="Hill Library":MAILTO:lmolloy@hilllibrary.org
END:VEVENT
BEGIN:VEVENT
DTSTART;TZID=America/New_York:20250711T180000
DTEND;TZID=America/New_York:20250711T193000
DTSTAMP:20260424T052156
CREATED:20250321T225042Z
LAST-MODIFIED:20250619T183519Z
UID:10003560-1752256800-1752262200@hilllibrary.org
SUMMARY:Paint Night with Heidi
DESCRIPTION:
URL:https://hilllibrary.org/event/paint-night/
LOCATION:Hill Library\, 1151 Parker Mountain Road\, Strafford\, NH\, 03884
CATEGORIES:Adult programs
ATTACH;FMTTYPE=image/png:https://hilllibrary.org/wp-content/uploads/2025/06/Copy-of-Ocean-theme-paint-night.png
ORGANIZER;CN="Hill Library":MAILTO:lmolloy@hilllibrary.org
END:VEVENT
BEGIN:VEVENT
DTSTART;TZID=America/New_York:20250712T090000
DTEND;TZID=America/New_York:20250712T100000
DTSTAMP:20260424T052156
CREATED:20241005T161420Z
LAST-MODIFIED:20260206T193134Z
UID:10004108-1752310800-1752314400@hilllibrary.org
SUMMARY:Gentle Flow Yoga 9am-10am
DESCRIPTION:
URL:https://hilllibrary.org/event/gentle-flow-yoga-2-2/2025-07-12/
LOCATION:Hill Library\, 1151 Parker Mountain Road\, Strafford\, NH\, 03884
CATEGORIES:Adult programs
ATTACH;FMTTYPE=image/png:https://hilllibrary.org/wp-content/uploads/2024/03/Copy-of-Copy-of-Copy-of-Copy-of-GENTLE-FLOW-YOGA.png
ORGANIZER;CN="Hill Library":MAILTO:lmolloy@hilllibrary.org
END:VEVENT
BEGIN:VEVENT
DTSTART;TZID=America/New_York:20250714T100000
DTEND;TZID=America/New_York:20250714T103000
DTSTAMP:20260424T052156
CREATED:20240916T151257Z
LAST-MODIFIED:20260325T212321Z
UID:10000041-1752487200-1752489000@hilllibrary.org
SUMMARY:Story Time
DESCRIPTION:Join us at 10 am on Mondays for some songs\, stories\, and a craft! All ages welcome.
URL:https://hilllibrary.org/event/story-time/2025-07-14/
LOCATION:Hill Library\, 1151 Parker Mountain Road\, Strafford\, NH\, 03884
CATEGORIES:Ages 0-5
ATTACH;FMTTYPE=image/png:https://hilllibrary.org/wp-content/uploads/2024/04/Storytime.png
ORGANIZER;CN="Hill Library":MAILTO:lmolloy@hilllibrary.org
END:VEVENT
BEGIN:VEVENT
DTSTART;TZID=America/New_York:20250714T160000
DTEND;TZID=America/New_York:20250714T170000
DTSTAMP:20260424T052156
CREATED:20250625T194940Z
LAST-MODIFIED:20250625T195025Z
UID:10003978-1752508800-1752512400@hilllibrary.org
SUMMARY:Crafting Club (Grades 2+)
DESCRIPTION:Join 6th grader Maya P. for some crafting each Monday in July! \nMonday\, July 7: Nature Art \nMonday\, July 14: Finger Hats \nMonday\, July 21: Pom-poms \nMonday\, July 28: Finger Knitting
URL:https://hilllibrary.org/event/crafting-club-grades-2/2025-07-14/
LOCATION:Hill Library\, 1151 Parker Mountain Road\, Strafford\, NH\, 03884
CATEGORIES:K-4 Programs
ATTACH;FMTTYPE=image/png:https://hilllibrary.org/wp-content/uploads/2025/06/Crafting-Club-1.png
ORGANIZER;CN="Hill Library":MAILTO:lmolloy@hilllibrary.org
END:VEVENT
BEGIN:VEVENT
DTSTART;TZID=America/New_York:20250715T120000
DTEND;TZID=America/New_York:20250715T140000
DTSTAMP:20260424T052156
CREATED:20240918T195441Z
LAST-MODIFIED:20251215T155612Z
UID:10000882-1752580800-1752588000@hilllibrary.org
SUMMARY:Handy Crafters
DESCRIPTION:
URL:https://hilllibrary.org/event/handy-crafters/2025-07-15/
LOCATION:Hill Library\, 1151 Parker Mountain Road\, Strafford\, NH\, 03884
CATEGORIES:Adult programs
ATTACH;FMTTYPE=image/png:https://hilllibrary.org/wp-content/uploads/2024/09/Copy-of-If-youre-handy-join-the-Handy-Crafters-as-they-work-on-crafting-hats-and-scarves-for-members-of-the-military.-Stop-by-for-a-pattern.png
ORGANIZER;CN="Hill Library":MAILTO:lmolloy@hilllibrary.org
END:VEVENT
BEGIN:VEVENT
DTSTART;TZID=America/New_York:20250715T130000
DTEND;TZID=America/New_York:20250715T140000
DTSTAMP:20260424T052156
CREATED:20250625T200453Z
LAST-MODIFIED:20250707T161707Z
UID:10004036-1752584400-1752588000@hilllibrary.org
SUMMARY:Mysterious Mushrooms (Ages 6+)
DESCRIPTION:Join us for this awesome program with naturalist Susie Spikol on Tuesday\, July 15th at 1pm. We’ll be learning about mushrooms and going on a mushroom scavenger hunt! Registration is appreciated\, email cbeihl.hl@gmail.com to sign up. For this event we’ll be meeting at the Isinglass River Conservation Reserve parking lot.
URL:https://hilllibrary.org/event/mysterious-mushrooms-ages-6/
LOCATION:Isinglass River Conservation Reserve
CATEGORIES:K-4 Programs
ATTACH;FMTTYPE=image/png:https://hilllibrary.org/wp-content/uploads/2025/06/Mysterious-Mushrooms.png
ORGANIZER;CN="Hill Library":MAILTO:lmolloy@hilllibrary.org
END:VEVENT
BEGIN:VEVENT
DTSTART;TZID=America/New_York:20250715T160000
DTEND;TZID=America/New_York:20250715T180000
DTSTAMP:20260424T052156
CREATED:20250619T154209Z
LAST-MODIFIED:20250619T195153Z
UID:10003970-1752595200-1752602400@hilllibrary.org
SUMMARY:Adult Summer Reading Drop-in- Herbal infused oils
DESCRIPTION:
URL:https://hilllibrary.org/event/adult-summer-reading-drop-in-herbal-infused-oils/
LOCATION:Hill Library\, 1151 Parker Mountain Road\, Strafford\, NH\, 03884
CATEGORIES:Adult programs
ATTACH;FMTTYPE=image/png:https://hilllibrary.org/wp-content/uploads/2025/06/Copy-of-ASRP-Drop-in.png
ORGANIZER;CN="Hill Library":MAILTO:lmolloy@hilllibrary.org
END:VEVENT
BEGIN:VEVENT
DTSTART;TZID=America/New_York:20250716T130000
DTEND;TZID=America/New_York:20250716T140000
DTSTAMP:20260424T052156
CREATED:20250625T200608Z
LAST-MODIFIED:20250625T200608Z
UID:10004037-1752670800-1752674400@hilllibrary.org
SUMMARY:Garden Art (All Ages)
DESCRIPTION:Make some beautiful art with flowers and other things found in the garden! All ages welcome\, no registration needed.
URL:https://hilllibrary.org/event/garden-art-all-ages/
LOCATION:Hill Library\, 1151 Parker Mountain Road\, Strafford\, NH\, 03884
CATEGORIES:All Ages Youth and Adult
ATTACH;FMTTYPE=image/png:https://hilllibrary.org/wp-content/uploads/2025/06/Wednesday-July-16.png
ORGANIZER;CN="Hill Library":MAILTO:lmolloy@hilllibrary.org
END:VEVENT
BEGIN:VEVENT
DTSTART;TZID=America/New_York:20250716T163000
DTEND;TZID=America/New_York:20250716T180000
DTSTAMP:20260424T052156
CREATED:20250619T181527Z
LAST-MODIFIED:20250619T181527Z
UID:10003971-1752683400-1752688800@hilllibrary.org
SUMMARY:Marilyn is retiring!
DESCRIPTION:The Hill Library will be saying goodbye to our favorite nonagenarian. Marilyn Roderick is retiring\, and we invite you to stop by to say goodbye and to have a treat to celebrate Marilyn!  \nCome by Wednesday\, July 16 from 4:30 to 6 pm to wish her well.
URL:https://hilllibrary.org/event/marilyn-is-retiring/
LOCATION:Hill Library\, 1151 Parker Mountain Road\, Strafford\, NH\, 03884
CATEGORIES:All Ages Youth and Adult
ATTACH;FMTTYPE=image/png:https://hilllibrary.org/wp-content/uploads/2025/06/Copy-of-Thank-you-Marilyn.png
ORGANIZER;CN="Hill Library":MAILTO:lmolloy@hilllibrary.org
END:VEVENT
BEGIN:VEVENT
DTSTART;TZID=America/New_York:20250717T100000
DTEND;TZID=America/New_York:20250717T103000
DTSTAMP:20260424T052156
CREATED:20240920T193243Z
LAST-MODIFIED:20250915T174145Z
UID:10001664-1752746400-1752748200@hilllibrary.org
SUMMARY:Music and Movement
DESCRIPTION:Let’s move and groove with songs\, scarves\, egg shakers\, and our parachute! All ages welcome. Starting in October\, Music and Movement will be alternating every other week with our new program\, Sensory Playtime!
URL:https://hilllibrary.org/event/music-and-movement-2/2025-07-17/
LOCATION:Hill Library\, 1151 Parker Mountain Road\, Strafford\, NH\, 03884
CATEGORIES:Ages 0-5
ATTACH;FMTTYPE=image/png:https://hilllibrary.org/wp-content/uploads/2024/09/MM.png
ORGANIZER;CN="Hill Library":MAILTO:lmolloy@hilllibrary.org
END:VEVENT
END:VCALENDAR