BEGIN:VCALENDAR
VERSION:2.0
PRODID:-//Hill Library, Strafford, NH - ECPv6.15.20//NONSGML v1.0//EN
CALSCALE:GREGORIAN
METHOD:PUBLISH
X-WR-CALNAME:Hill Library, Strafford, NH
X-ORIGINAL-URL:https://hilllibrary.org
X-WR-CALDESC:Events for Hill Library, Strafford, NH
REFRESH-INTERVAL;VALUE=DURATION:PT1H
X-Robots-Tag:noindex
X-PUBLISHED-TTL:PT1H
BEGIN:VTIMEZONE
TZID:America/New_York
BEGIN:DAYLIGHT
TZOFFSETFROM:-0500
TZOFFSETTO:-0400
TZNAME:EDT
DTSTART:20250309T070000
END:DAYLIGHT
BEGIN:STANDARD
TZOFFSETFROM:-0400
TZOFFSETTO:-0500
TZNAME:EST
DTSTART:20251102T060000
END:STANDARD
BEGIN:DAYLIGHT
TZOFFSETFROM:-0500
TZOFFSETTO:-0400
TZNAME:EDT
DTSTART:20260308T070000
END:DAYLIGHT
BEGIN:STANDARD
TZOFFSETFROM:-0400
TZOFFSETTO:-0500
TZNAME:EST
DTSTART:20261101T060000
END:STANDARD
BEGIN:DAYLIGHT
TZOFFSETFROM:-0500
TZOFFSETTO:-0400
TZNAME:EDT
DTSTART:20270314T070000
END:DAYLIGHT
BEGIN:STANDARD
TZOFFSETFROM:-0400
TZOFFSETTO:-0500
TZNAME:EST
DTSTART:20271107T060000
END:STANDARD
END:VTIMEZONE
BEGIN:VEVENT
DTSTART;TZID=America/New_York:20260401T153000
DTEND;TZID=America/New_York:20260401T163000
DTSTAMP:20260425T073025
CREATED:20260218T170241Z
LAST-MODIFIED:20260218T170751Z
UID:10006615-1775057400-1775061000@hilllibrary.org
SUMMARY:Grades 3+ Library Club
DESCRIPTION:Email cbeihl.hl@gmail.com to get the registration links\, or be added to the Library Club email list for future sign-ups.
URL:https://hilllibrary.org/event/grades-3-library-club-2-2-3/2026-04-01/
LOCATION:Hill Library\, 1151 Parker Mountain Road\, Strafford\, NH\, 03884
CATEGORIES:K-4 Programs
ATTACH;FMTTYPE=image/png:https://hilllibrary.org/wp-content/uploads/2026/02/Library-Club-Poster-Instagram-Post.png
ORGANIZER;CN="Hill Library":MAILTO:lmolloy@hilllibrary.org
END:VEVENT
BEGIN:VEVENT
DTSTART;TZID=America/New_York:20260406T153000
DTEND;TZID=America/New_York:20260406T163000
DTSTAMP:20260425T073025
CREATED:20260218T170140Z
LAST-MODIFIED:20260218T170851Z
UID:10006621-1775489400-1775493000@hilllibrary.org
SUMMARY:Grades 1-2 Library Club
DESCRIPTION:Email cbeihl.hl@gmail.com to get the registration links\, or be added to the Library Club email list for future sign-ups.
URL:https://hilllibrary.org/event/grades-1-2-library-club-2-2-3/2026-04-06/
LOCATION:Hill Library\, 1151 Parker Mountain Road\, Strafford\, NH\, 03884
CATEGORIES:K-4 Programs
ATTACH;FMTTYPE=image/png:https://hilllibrary.org/wp-content/uploads/2026/02/Library-Club-Poster-Instagram-Post.png
ORGANIZER;CN="Hill Library":MAILTO:lmolloy@hilllibrary.org
END:VEVENT
BEGIN:VEVENT
DTSTART;TZID=America/New_York:20260407T173000
DTEND;TZID=America/New_York:20260407T183000
DTSTAMP:20260425T073025
CREATED:20250319T182102Z
LAST-MODIFIED:20260325T153712Z
UID:10003518-1775583000-1775586600@hilllibrary.org
SUMMARY:Grades 4-6 Graphic Novel Club
DESCRIPTION:Join us for some book club fun! We’ll be discussing Sea Legs by Jules Bakes. Copies available at the library.
URL:https://hilllibrary.org/event/grades-4-6-graphic-novel-club-5/
LOCATION:Hill Library\, 1151 Parker Mountain Road\, Strafford\, NH\, 03884
CATEGORIES:Grades 5 and Up,K-4 Programs
ATTACH;FMTTYPE=image/png:https://hilllibrary.org/wp-content/uploads/2026/03/Copy-of-Copy-of-Copy-of-Grades-4-6-Graphic-Novel-Club.png
ORGANIZER;CN="Hill Library":MAILTO:lmolloy@hilllibrary.org
END:VEVENT
BEGIN:VEVENT
DTSTART;TZID=America/New_York:20260408T153000
DTEND;TZID=America/New_York:20260408T163000
DTSTAMP:20260425T073025
CREATED:20260218T170241Z
LAST-MODIFIED:20260218T170751Z
UID:10006616-1775662200-1775665800@hilllibrary.org
SUMMARY:Grades 3+ Library Club
DESCRIPTION:Email cbeihl.hl@gmail.com to get the registration links\, or be added to the Library Club email list for future sign-ups.
URL:https://hilllibrary.org/event/grades-3-library-club-2-2-3/2026-04-08/
LOCATION:Hill Library\, 1151 Parker Mountain Road\, Strafford\, NH\, 03884
CATEGORIES:K-4 Programs
ATTACH;FMTTYPE=image/png:https://hilllibrary.org/wp-content/uploads/2026/02/Library-Club-Poster-Instagram-Post.png
ORGANIZER;CN="Hill Library":MAILTO:lmolloy@hilllibrary.org
END:VEVENT
BEGIN:VEVENT
DTSTART;TZID=America/New_York:20260410T170000
DTEND;TZID=America/New_York:20260410T183000
DTSTAMP:20260425T073025
CREATED:20250206T214408Z
LAST-MODIFIED:20260325T153428Z
UID:10003108-1775840400-1775845800@hilllibrary.org
SUMMARY:Pokémon Club
DESCRIPTION:Come play\, trade\, and talk Pokémon! All ages welcome.
URL:https://hilllibrary.org/event/pokemon-club-2-3/
LOCATION:Hill Library\, 1151 Parker Mountain Road\, Strafford\, NH\, 03884
CATEGORIES:Grades 5 and Up,K-4 Programs
ATTACH;FMTTYPE=image/png:https://hilllibrary.org/wp-content/uploads/2026/03/Copy-of-Copy-of-Copy-of-Copy-of-Pokemon-Club.png
ORGANIZER;CN="Hill Library":MAILTO:lmolloy@hilllibrary.org
END:VEVENT
BEGIN:VEVENT
DTSTART;TZID=America/New_York:20260423T153000
DTEND;TZID=America/New_York:20260423T170000
DTSTAMP:20260425T073025
CREATED:20260325T154132Z
LAST-MODIFIED:20260325T154132Z
UID:10006690-1776958200-1776963600@hilllibrary.org
SUMMARY:InvestiGators Training
DESCRIPTION:Don’t miss our InvestiGators Training on Thursday\, April 23 at 3:30pm\, where we’ll hone our sleuthing skills\, dodge lasers in a laser maze\, and crack secret riddles!  All ages welcome\, no registration needed. 
URL:https://hilllibrary.org/event/investigators-training/
LOCATION:Hill Library\, 1151 Parker Mountain Road\, Strafford\, NH\, 03884
CATEGORIES:K-4 Programs
ATTACH;FMTTYPE=image/png:https://hilllibrary.org/wp-content/uploads/2026/03/Training.png
ORGANIZER;CN="Hill Library":MAILTO:lmolloy@hilllibrary.org
END:VEVENT
BEGIN:VEVENT
DTSTART;TZID=America/New_York:20260425T110000
DTEND;TZID=America/New_York:20260425T120000
DTSTAMP:20260425T073025
CREATED:20250527T142326Z
LAST-MODIFIED:20260325T153739Z
UID:10003958-1777114800-1777118400@hilllibrary.org
SUMMARY:Garden Club
DESCRIPTION:Join us for some garden clean-up and a fun kids’ gardening activity! All ages welcome.
URL:https://hilllibrary.org/event/garden-club-3/
LOCATION:Hill Library\, 1151 Parker Mountain Road\, Strafford\, NH\, 03884
CATEGORIES:K-4 Programs
ATTACH;FMTTYPE=image/png:https://hilllibrary.org/wp-content/uploads/2025/05/Copy-of-HILL-LIBRARY-GARDEN-CLUB-1.png
ORGANIZER;CN="Hill Library":MAILTO:lmolloy@hilllibrary.org
END:VEVENT
BEGIN:VEVENT
DTSTART;TZID=America/New_York:20260428T130000
DTEND;TZID=America/New_York:20260428T140000
DTSTAMP:20260425T073025
CREATED:20250911T174930Z
LAST-MODIFIED:20260325T154239Z
UID:10004753-1777381200-1777384800@hilllibrary.org
SUMMARY:Read to Toby
DESCRIPTION:Read to Toby\, our reading dog! Email cbeihl.hl@gmail.com to sign up for a 15 minute slot.
URL:https://hilllibrary.org/event/read-to-toby-2-6/
LOCATION:Hill Library\, 1151 Parker Mountain Road\, Strafford\, NH\, 03884
CATEGORIES:K-4 Programs
ATTACH;FMTTYPE=image/png:https://hilllibrary.org/wp-content/uploads/2026/03/Read-to-Toby.png
ORGANIZER;CN="Hill Library":MAILTO:lmolloy@hilllibrary.org
END:VEVENT
BEGIN:VEVENT
DTSTART;TZID=America/New_York:20260515T170000
DTEND;TZID=America/New_York:20260515T183000
DTSTAMP:20260425T073025
CREATED:20250319T182337Z
LAST-MODIFIED:20260422T181846Z
UID:10003519-1778864400-1778869800@hilllibrary.org
SUMMARY:Pokémon Club
DESCRIPTION:Come play\, trade\, and talk Pokémon! All ages welcome.
URL:https://hilllibrary.org/event/pokemon-club-2-5/
LOCATION:Hill Library\, 1151 Parker Mountain Road\, Strafford\, NH\, 03884
CATEGORIES:Grades 5 and Up,K-4 Programs
ATTACH;FMTTYPE=image/png:https://hilllibrary.org/wp-content/uploads/2026/04/Pokemon-Club.png
ORGANIZER;CN="Hill Library":MAILTO:lmolloy@hilllibrary.org
END:VEVENT
BEGIN:VEVENT
DTSTART;TZID=America/New_York:20260519T153000
DTEND;TZID=America/New_York:20260519T163000
DTSTAMP:20260425T073025
CREATED:20250520T192420Z
LAST-MODIFIED:20260422T182132Z
UID:10003945-1779204600-1779208200@hilllibrary.org
SUMMARY:Read to Toby
DESCRIPTION:Read to Toby\, our reading dog! Email cbeihl.hl@gmail.com to register.
URL:https://hilllibrary.org/event/read-to-toby-2-4/
LOCATION:Hill Library\, 1151 Parker Mountain Road\, Strafford\, NH\, 03884
CATEGORIES:K-4 Programs
ATTACH;FMTTYPE=image/png:https://hilllibrary.org/wp-content/uploads/2026/04/Read-to-Toby-2.png
ORGANIZER;CN="Hill Library":MAILTO:lmolloy@hilllibrary.org
END:VEVENT
BEGIN:VEVENT
DTSTART;TZID=America/New_York:20260523T110000
DTEND;TZID=America/New_York:20260523T120000
DTSTAMP:20260425T073025
CREATED:20240920T210120Z
LAST-MODIFIED:20260422T182251Z
UID:10002003-1779534000-1779537600@hilllibrary.org
SUMMARY:Children's Garden Club
DESCRIPTION:Help us plant\, weed\, and more in the Community Garden! All ages welcome\, no registration needed.
URL:https://hilllibrary.org/event/garden-club-2/
LOCATION:Hill Library\, 1151 Parker Mountain Road\, Strafford\, NH\, 03884
CATEGORIES:K-4 Programs
ATTACH;FMTTYPE=image/png:https://hilllibrary.org/wp-content/uploads/2026/04/Copy-of-HILL-LIBRARY-GARDEN-CLUB.png
ORGANIZER;CN="Hill Library":MAILTO:lmolloy@hilllibrary.org
END:VEVENT
END:VCALENDAR