BEGIN:VCALENDAR
VERSION:2.0
PRODID:-//Hill Library, Strafford, NH - ECPv6.15.20//NONSGML v1.0//EN
CALSCALE:GREGORIAN
METHOD:PUBLISH
X-WR-CALNAME:Hill Library, Strafford, NH
X-ORIGINAL-URL:https://hilllibrary.org
X-WR-CALDESC:Events for Hill Library, Strafford, NH
REFRESH-INTERVAL;VALUE=DURATION:PT1H
X-Robots-Tag:noindex
X-PUBLISHED-TTL:PT1H
BEGIN:VTIMEZONE
TZID:America/New_York
BEGIN:DAYLIGHT
TZOFFSETFROM:-0500
TZOFFSETTO:-0400
TZNAME:EDT
DTSTART:20240310T070000
END:DAYLIGHT
BEGIN:STANDARD
TZOFFSETFROM:-0400
TZOFFSETTO:-0500
TZNAME:EST
DTSTART:20241103T060000
END:STANDARD
BEGIN:DAYLIGHT
TZOFFSETFROM:-0500
TZOFFSETTO:-0400
TZNAME:EDT
DTSTART:20250309T070000
END:DAYLIGHT
BEGIN:STANDARD
TZOFFSETFROM:-0400
TZOFFSETTO:-0500
TZNAME:EST
DTSTART:20251102T060000
END:STANDARD
BEGIN:DAYLIGHT
TZOFFSETFROM:-0500
TZOFFSETTO:-0400
TZNAME:EDT
DTSTART:20260308T070000
END:DAYLIGHT
BEGIN:STANDARD
TZOFFSETFROM:-0400
TZOFFSETTO:-0500
TZNAME:EST
DTSTART:20261101T060000
END:STANDARD
END:VTIMEZONE
BEGIN:VEVENT
DTSTART;TZID=America/New_York:20251001T153000
DTEND;TZID=America/New_York:20251001T163000
DTSTAMP:20260424T230512
CREATED:20250821T152942Z
LAST-MODIFIED:20250917T163627Z
UID:10004668-1759332600-1759336200@hilllibrary.org
SUMMARY:Grades 3+ Library Club
DESCRIPTION:September-October registration opens on August 27th. \nEmail cbeihl.hl@gmail.com to get the registration links\, or be added to the Library Club email list for future sign-ups.
URL:https://hilllibrary.org/event/grades-2-library-club-2-3-2/2025-10-01/
LOCATION:Hill Library\, 1151 Parker Mountain Road\, Strafford\, NH\, 03884
CATEGORIES:K-4 Programs
ORGANIZER;CN="Hill Library":MAILTO:lmolloy@hilllibrary.org
END:VEVENT
BEGIN:VEVENT
DTSTART;TZID=America/New_York:20251006T153000
DTEND;TZID=America/New_York:20251006T163000
DTSTAMP:20260424T230512
CREATED:20250821T152624Z
LAST-MODIFIED:20250821T154145Z
UID:10004673-1759764600-1759768200@hilllibrary.org
SUMMARY:Grades 1-2 Library Club
DESCRIPTION:September-October registration opens August 27th at 6pm. \nEmail cbeihl.hl@gmail.com to get the registration links\, or be added to the Library Club email list for future sign-ups.
URL:https://hilllibrary.org/event/k-1-library-club-2-3-2/2025-10-06/
LOCATION:Hill Library\, 1151 Parker Mountain Road\, Strafford\, NH\, 03884
CATEGORIES:K-4 Programs
ORGANIZER;CN="Hill Library":MAILTO:lmolloy@hilllibrary.org
END:VEVENT
BEGIN:VEVENT
DTSTART;TZID=America/New_York:20251008T153000
DTEND;TZID=America/New_York:20251008T163000
DTSTAMP:20260424T230512
CREATED:20250821T152942Z
LAST-MODIFIED:20250917T163627Z
UID:10004669-1759937400-1759941000@hilllibrary.org
SUMMARY:Grades 3+ Library Club
DESCRIPTION:September-October registration opens on August 27th. \nEmail cbeihl.hl@gmail.com to get the registration links\, or be added to the Library Club email list for future sign-ups.
URL:https://hilllibrary.org/event/grades-2-library-club-2-3-2/2025-10-08/
LOCATION:Hill Library\, 1151 Parker Mountain Road\, Strafford\, NH\, 03884
CATEGORIES:K-4 Programs
ORGANIZER;CN="Hill Library":MAILTO:lmolloy@hilllibrary.org
END:VEVENT
BEGIN:VEVENT
DTSTART;TZID=America/New_York:20251009T180000
DTEND;TZID=America/New_York:20251009T190000
DTSTAMP:20260424T230512
CREATED:20250911T161516Z
LAST-MODIFIED:20250911T161516Z
UID:10004749-1760032800-1760036400@hilllibrary.org
SUMMARY:Insect Adaptations
DESCRIPTION:Join the Global Entomology Coalition to meet some live insect friends\, learn about defensive adaptations\, and make your own insect using what you’ve learned! All ages welcome.
URL:https://hilllibrary.org/event/insect-adaptations-2/
LOCATION:Hill Library\, 1151 Parker Mountain Road\, Strafford\, NH\, 03884
CATEGORIES:Grades 5 and Up,K-4 Programs
ATTACH;FMTTYPE=image/png:https://hilllibrary.org/wp-content/uploads/2025/09/Insect-Adaptations.png
ORGANIZER;CN="Hill Library":MAILTO:lmolloy@hilllibrary.org
END:VEVENT
BEGIN:VEVENT
DTSTART;TZID=America/New_York:20251011T130000
DTEND;TZID=America/New_York:20251011T150000
DTSTAMP:20260424T230512
CREATED:20250911T161647Z
LAST-MODIFIED:20250911T161647Z
UID:10004750-1760187600-1760194800@hilllibrary.org
SUMMARY:Birdhouses with Mr. Bob
DESCRIPTION:Learn how to make and decorate a bird house. Email cbeihl.hl@gmail.com to register. All ages welcome.
URL:https://hilllibrary.org/event/birdhouses-with-mr-bob/
LOCATION:Hill Library\, 1151 Parker Mountain Road\, Strafford\, NH\, 03884
CATEGORIES:Grades 5 and Up,K-4 Programs
ATTACH;FMTTYPE=image/png:https://hilllibrary.org/wp-content/uploads/2025/09/Birdhouses.png
ORGANIZER;CN="Hill Library":MAILTO:lmolloy@hilllibrary.org
END:VEVENT
BEGIN:VEVENT
DTSTART;TZID=America/New_York:20251015T153000
DTEND;TZID=America/New_York:20251015T163000
DTSTAMP:20260424T230512
CREATED:20250821T152942Z
LAST-MODIFIED:20250917T163627Z
UID:10004670-1760542200-1760545800@hilllibrary.org
SUMMARY:Grades 3+ Library Club
DESCRIPTION:September-October registration opens on August 27th. \nEmail cbeihl.hl@gmail.com to get the registration links\, or be added to the Library Club email list for future sign-ups.
URL:https://hilllibrary.org/event/grades-2-library-club-2-3-2/2025-10-15/
LOCATION:Hill Library\, 1151 Parker Mountain Road\, Strafford\, NH\, 03884
CATEGORIES:K-4 Programs
ORGANIZER;CN="Hill Library":MAILTO:lmolloy@hilllibrary.org
END:VEVENT
BEGIN:VEVENT
DTSTART;TZID=America/New_York:20251017T130000
DTEND;TZID=America/New_York:20251017T140000
DTSTAMP:20260424T230512
CREATED:20250917T194415Z
LAST-MODIFIED:20250917T194415Z
UID:10004960-1760706000-1760709600@hilllibrary.org
SUMMARY:Homeschool STEM: Light
DESCRIPTION:Learn about the physics of light with fun activities and experiments. Email cbeihl.hl@gmail.com to register. All ages welcome.
URL:https://hilllibrary.org/event/homeschool-stem-light/
LOCATION:Hill Library\, 1151 Parker Mountain Road\, Strafford\, NH\, 03884
CATEGORIES:K-4 Programs
ATTACH;FMTTYPE=image/png:https://hilllibrary.org/wp-content/uploads/2025/09/Copy-of-Copy-of-Copy-of-Copy-of-Copy-of-Homeschool-STEM-1.png
ORGANIZER;CN="Hill Library":MAILTO:lmolloy@hilllibrary.org
END:VEVENT
BEGIN:VEVENT
DTSTART;TZID=America/New_York:20251029T153000
DTEND;TZID=America/New_York:20251029T170000
DTSTAMP:20260424T230512
CREATED:20250911T174811Z
LAST-MODIFIED:20250911T174811Z
UID:10004752-1761751800-1761757200@hilllibrary.org
SUMMARY:Spooky Spectacular
DESCRIPTION:Stop by after school for games\, snacks\, and spooky fun! Costumes encouraged. All ages welcome\, no registration needed.
URL:https://hilllibrary.org/event/spooky-spectacular/
LOCATION:Hill Library\, 1151 Parker Mountain Road\, Strafford\, NH\, 03884
CATEGORIES:K-4 Programs
ATTACH;FMTTYPE=image/png:https://hilllibrary.org/wp-content/uploads/2025/09/Halloween.png
ORGANIZER;CN="Hill Library":MAILTO:lmolloy@hilllibrary.org
END:VEVENT
END:VCALENDAR