BEGIN:VCALENDAR
VERSION:2.0
PRODID:-//Hill Library, Strafford, NH - ECPv6.15.20//NONSGML v1.0//EN
CALSCALE:GREGORIAN
METHOD:PUBLISH
X-ORIGINAL-URL:https://hilllibrary.org
X-WR-CALDESC:Events for Hill Library, Strafford, NH
REFRESH-INTERVAL;VALUE=DURATION:PT1H
X-Robots-Tag:noindex
X-PUBLISHED-TTL:PT1H
BEGIN:VTIMEZONE
TZID:America/New_York
BEGIN:DAYLIGHT
TZOFFSETFROM:-0500
TZOFFSETTO:-0400
TZNAME:EDT
DTSTART:20240310T070000
END:DAYLIGHT
BEGIN:STANDARD
TZOFFSETFROM:-0400
TZOFFSETTO:-0500
TZNAME:EST
DTSTART:20241103T060000
END:STANDARD
BEGIN:DAYLIGHT
TZOFFSETFROM:-0500
TZOFFSETTO:-0400
TZNAME:EDT
DTSTART:20250309T070000
END:DAYLIGHT
BEGIN:STANDARD
TZOFFSETFROM:-0400
TZOFFSETTO:-0500
TZNAME:EST
DTSTART:20251102T060000
END:STANDARD
BEGIN:DAYLIGHT
TZOFFSETFROM:-0500
TZOFFSETTO:-0400
TZNAME:EDT
DTSTART:20260308T070000
END:DAYLIGHT
BEGIN:STANDARD
TZOFFSETFROM:-0400
TZOFFSETTO:-0500
TZNAME:EST
DTSTART:20261101T060000
END:STANDARD
END:VTIMEZONE
BEGIN:VEVENT
DTSTART;TZID=America/New_York:20250303T153000
DTEND;TZID=America/New_York:20250303T163000
DTSTAMP:20260425T144042
CREATED:20250224T193807Z
LAST-MODIFIED:20250224T195024Z
UID:10002572-1741015800-1741019400@hilllibrary.org
SUMMARY:K-1 Library Club
DESCRIPTION:Please email cbeihl.hl@gmail.com for the registration links.
URL:https://hilllibrary.org/event/k-1-library-club-2-2-2/2025-03-03/
LOCATION:Hill Library\, 1151 Parker Mountain Road\, Strafford\, NH\, 03884
CATEGORIES:K-4 Programs
ATTACH;FMTTYPE=image/png:https://hilllibrary.org/wp-content/uploads/2025/02/Copy-of-Library-Club-Poster-Instagram-Post.png
ORGANIZER;CN="Hill Library":MAILTO:lmolloy@hilllibrary.org
END:VEVENT
BEGIN:VEVENT
DTSTART;TZID=America/New_York:20250304T130000
DTEND;TZID=America/New_York:20250304T140000
DTSTAMP:20260425T144042
CREATED:20250206T214307Z
LAST-MODIFIED:20250224T194544Z
UID:10003107-1741093200-1741096800@hilllibrary.org
SUMMARY:Homeschool STEM: Fossils
DESCRIPTION:Learn about fossils\, paleontology\, and the process of fossilization! Recommended for ages 5-12\, siblings welcome. Registration is appreciated\, please email cbeihl.hl@gmail.com to register.
URL:https://hilllibrary.org/event/homeschool-stem-fossils/
LOCATION:Hill Library\, 1151 Parker Mountain Road\, Strafford\, NH\, 03884
CATEGORIES:K-4 Programs
ATTACH;FMTTYPE=image/png:https://hilllibrary.org/wp-content/uploads/2025/02/Homeschool-STEM-1.png
ORGANIZER;CN="Hill Library":MAILTO:lmolloy@hilllibrary.org
END:VEVENT
BEGIN:VEVENT
DTSTART;TZID=America/New_York:20250305T153000
DTEND;TZID=America/New_York:20250305T163000
DTSTAMP:20260425T144042
CREATED:20250224T193641Z
LAST-MODIFIED:20250224T195125Z
UID:10002579-1741188600-1741192200@hilllibrary.org
SUMMARY:Grades 2+ Library Club
DESCRIPTION:Email cbeihl.hl@gmail.com for the registration links.
URL:https://hilllibrary.org/event/grades-2-library-club-2-2-2/2025-03-05/
LOCATION:Hill Library\, 1151 Parker Mountain Road\, Strafford\, NH\, 03884
CATEGORIES:K-4 Programs
ATTACH;FMTTYPE=image/png:https://hilllibrary.org/wp-content/uploads/2025/02/Copy-of-Library-Club-Poster-Instagram-Post.png
ORGANIZER;CN="Hill Library":MAILTO:lmolloy@hilllibrary.org
END:VEVENT
BEGIN:VEVENT
DTSTART;TZID=America/New_York:20250310T153000
DTEND;TZID=America/New_York:20250310T163000
DTSTAMP:20260425T144042
CREATED:20250224T193807Z
LAST-MODIFIED:20250224T195024Z
UID:10003319-1741620600-1741624200@hilllibrary.org
SUMMARY:K-1 Library Club
DESCRIPTION:Please email cbeihl.hl@gmail.com for the registration links.
URL:https://hilllibrary.org/event/k-1-library-club-2-2-2/2025-03-10/
LOCATION:Hill Library\, 1151 Parker Mountain Road\, Strafford\, NH\, 03884
CATEGORIES:K-4 Programs
ATTACH;FMTTYPE=image/png:https://hilllibrary.org/wp-content/uploads/2025/02/Copy-of-Library-Club-Poster-Instagram-Post.png
ORGANIZER;CN="Hill Library":MAILTO:lmolloy@hilllibrary.org
END:VEVENT
BEGIN:VEVENT
DTSTART;TZID=America/New_York:20250312T153000
DTEND;TZID=America/New_York:20250312T163000
DTSTAMP:20260425T144042
CREATED:20250224T193641Z
LAST-MODIFIED:20250224T195125Z
UID:10003377-1741793400-1741797000@hilllibrary.org
SUMMARY:Grades 2+ Library Club
DESCRIPTION:Email cbeihl.hl@gmail.com for the registration links.
URL:https://hilllibrary.org/event/grades-2-library-club-2-2-2/2025-03-12/
LOCATION:Hill Library\, 1151 Parker Mountain Road\, Strafford\, NH\, 03884
CATEGORIES:K-4 Programs
ATTACH;FMTTYPE=image/png:https://hilllibrary.org/wp-content/uploads/2025/02/Copy-of-Library-Club-Poster-Instagram-Post.png
ORGANIZER;CN="Hill Library":MAILTO:lmolloy@hilllibrary.org
END:VEVENT
BEGIN:VEVENT
DTSTART;TZID=America/New_York:20250315T110000
DTEND;TZID=America/New_York:20250315T120000
DTSTAMP:20260425T144042
CREATED:20250206T214807Z
LAST-MODIFIED:20250206T214807Z
UID:10003109-1742036400-1742040000@hilllibrary.org
SUMMARY:Winter Garden Club: Bug Houses
DESCRIPTION:Make your own bug house to take home! All ages welcome. Registration is appreciated. Email cbeihl.hl@gmail.com to register.
URL:https://hilllibrary.org/event/winter-garden-club-bug-houses/
LOCATION:Hill Library\, 1151 Parker Mountain Road\, Strafford\, NH\, 03884
CATEGORIES:K-4 Programs
ATTACH;FMTTYPE=image/png:https://hilllibrary.org/wp-content/uploads/2025/02/Copy-of-Copy-of-Copy-of-Winter-Garden-Club-Bird-Feeders-1.png
ORGANIZER;CN="Hill Library":MAILTO:lmolloy@hilllibrary.org
END:VEVENT
BEGIN:VEVENT
DTSTART;TZID=America/New_York:20250317T153000
DTEND;TZID=America/New_York:20250317T163000
DTSTAMP:20260425T144042
CREATED:20250224T193807Z
LAST-MODIFIED:20250224T195024Z
UID:10003320-1742225400-1742229000@hilllibrary.org
SUMMARY:K-1 Library Club
DESCRIPTION:Please email cbeihl.hl@gmail.com for the registration links.
URL:https://hilllibrary.org/event/k-1-library-club-2-2-2/2025-03-17/
LOCATION:Hill Library\, 1151 Parker Mountain Road\, Strafford\, NH\, 03884
CATEGORIES:K-4 Programs
ATTACH;FMTTYPE=image/png:https://hilllibrary.org/wp-content/uploads/2025/02/Copy-of-Library-Club-Poster-Instagram-Post.png
ORGANIZER;CN="Hill Library":MAILTO:lmolloy@hilllibrary.org
END:VEVENT
BEGIN:VEVENT
DTSTART;TZID=America/New_York:20250319T153000
DTEND;TZID=America/New_York:20250319T163000
DTSTAMP:20260425T144042
CREATED:20250224T193641Z
LAST-MODIFIED:20250224T195125Z
UID:10003378-1742398200-1742401800@hilllibrary.org
SUMMARY:Grades 2+ Library Club
DESCRIPTION:Email cbeihl.hl@gmail.com for the registration links.
URL:https://hilllibrary.org/event/grades-2-library-club-2-2-2/2025-03-19/
LOCATION:Hill Library\, 1151 Parker Mountain Road\, Strafford\, NH\, 03884
CATEGORIES:K-4 Programs
ATTACH;FMTTYPE=image/png:https://hilllibrary.org/wp-content/uploads/2025/02/Copy-of-Library-Club-Poster-Instagram-Post.png
ORGANIZER;CN="Hill Library":MAILTO:lmolloy@hilllibrary.org
END:VEVENT
BEGIN:VEVENT
DTSTART;TZID=America/New_York:20250324T153000
DTEND;TZID=America/New_York:20250324T163000
DTSTAMP:20260425T144042
CREATED:20250224T193807Z
LAST-MODIFIED:20250224T195024Z
UID:10003321-1742830200-1742833800@hilllibrary.org
SUMMARY:K-1 Library Club
DESCRIPTION:Please email cbeihl.hl@gmail.com for the registration links.
URL:https://hilllibrary.org/event/k-1-library-club-2-2-2/2025-03-24/
LOCATION:Hill Library\, 1151 Parker Mountain Road\, Strafford\, NH\, 03884
CATEGORIES:K-4 Programs
ATTACH;FMTTYPE=image/png:https://hilllibrary.org/wp-content/uploads/2025/02/Copy-of-Library-Club-Poster-Instagram-Post.png
ORGANIZER;CN="Hill Library":MAILTO:lmolloy@hilllibrary.org
END:VEVENT
BEGIN:VEVENT
DTSTART;TZID=America/New_York:20250325T180000
DTEND;TZID=America/New_York:20250325T190000
DTSTAMP:20260425T144042
CREATED:20250206T214952Z
LAST-MODIFIED:20250206T214952Z
UID:10003110-1742925600-1742929200@hilllibrary.org
SUMMARY:Grades 4-6 Graphic Novel Club
DESCRIPTION:Join us for some book club fun! We’ll be discussing Estranged by Ethan M. Aldridge. Copies will be available at the library.
URL:https://hilllibrary.org/event/grades-4-6-graphic-novel-club-4/
LOCATION:Hill Library\, 1151 Parker Mountain Road\, Strafford\, NH\, 03884
CATEGORIES:Grades 5 and Up,K-4 Programs
ATTACH;FMTTYPE=image/png:https://hilllibrary.org/wp-content/uploads/2025/02/Copy-of-Copy-of-Copy-of-Copy-of-Grades-4-6-Graphic-Novel-Club.png
ORGANIZER;CN="Hill Library":MAILTO:lmolloy@hilllibrary.org
END:VEVENT
BEGIN:VEVENT
DTSTART;TZID=America/New_York:20250326T153000
DTEND;TZID=America/New_York:20250326T163000
DTSTAMP:20260425T144042
CREATED:20250224T193641Z
LAST-MODIFIED:20250224T195125Z
UID:10003379-1743003000-1743006600@hilllibrary.org
SUMMARY:Grades 2+ Library Club
DESCRIPTION:Email cbeihl.hl@gmail.com for the registration links.
URL:https://hilllibrary.org/event/grades-2-library-club-2-2-2/2025-03-26/
LOCATION:Hill Library\, 1151 Parker Mountain Road\, Strafford\, NH\, 03884
CATEGORIES:K-4 Programs
ATTACH;FMTTYPE=image/png:https://hilllibrary.org/wp-content/uploads/2025/02/Copy-of-Library-Club-Poster-Instagram-Post.png
ORGANIZER;CN="Hill Library":MAILTO:lmolloy@hilllibrary.org
END:VEVENT
BEGIN:VEVENT
DTSTART;TZID=America/New_York:20250329T110000
DTEND;TZID=America/New_York:20250329T130000
DTSTAMP:20260425T144042
CREATED:20250206T215051Z
LAST-MODIFIED:20250329T115428Z
UID:10003111-1743246000-1743253200@hilllibrary.org
SUMMARY:CANCELLED-NED2 Robot Demo
DESCRIPTION:Try out the NED2 robotic arm! To sign up for a 20 minute time slot\, email cbeihl.hl@gmail.com.
URL:https://hilllibrary.org/event/ned2-robot-demo-2/
LOCATION:Hill Library\, 1151 Parker Mountain Road\, Strafford\, NH\, 03884
CATEGORIES:Grades 5 and Up,K-4 Programs
ATTACH;FMTTYPE=image/png:https://hilllibrary.org/wp-content/uploads/2025/02/Copy-of-NED-2.png
ORGANIZER;CN="Hill Library":MAILTO:lmolloy@hilllibrary.org
END:VEVENT
BEGIN:VEVENT
DTSTART;TZID=America/New_York:20250331T153000
DTEND;TZID=America/New_York:20250331T163000
DTSTAMP:20260425T144042
CREATED:20250224T193807Z
LAST-MODIFIED:20250224T195024Z
UID:10003322-1743435000-1743438600@hilllibrary.org
SUMMARY:K-1 Library Club
DESCRIPTION:Please email cbeihl.hl@gmail.com for the registration links.
URL:https://hilllibrary.org/event/k-1-library-club-2-2-2/2025-03-31/
LOCATION:Hill Library\, 1151 Parker Mountain Road\, Strafford\, NH\, 03884
CATEGORIES:K-4 Programs
ATTACH;FMTTYPE=image/png:https://hilllibrary.org/wp-content/uploads/2025/02/Copy-of-Library-Club-Poster-Instagram-Post.png
ORGANIZER;CN="Hill Library":MAILTO:lmolloy@hilllibrary.org
END:VEVENT
END:VCALENDAR