BEGIN:VCALENDAR
VERSION:2.0
PRODID:-//Hill Library, Strafford, NH - ECPv6.15.20//NONSGML v1.0//EN
CALSCALE:GREGORIAN
METHOD:PUBLISH
X-WR-CALNAME:Hill Library, Strafford, NH
X-ORIGINAL-URL:https://hilllibrary.org
X-WR-CALDESC:Events for Hill Library, Strafford, NH
REFRESH-INTERVAL;VALUE=DURATION:PT1H
X-Robots-Tag:noindex
X-PUBLISHED-TTL:PT1H
BEGIN:VTIMEZONE
TZID:America/New_York
BEGIN:DAYLIGHT
TZOFFSETFROM:-0500
TZOFFSETTO:-0400
TZNAME:EDT
DTSTART:20230312T070000
END:DAYLIGHT
BEGIN:STANDARD
TZOFFSETFROM:-0400
TZOFFSETTO:-0500
TZNAME:EST
DTSTART:20231105T060000
END:STANDARD
BEGIN:DAYLIGHT
TZOFFSETFROM:-0500
TZOFFSETTO:-0400
TZNAME:EDT
DTSTART:20240310T070000
END:DAYLIGHT
BEGIN:STANDARD
TZOFFSETFROM:-0400
TZOFFSETTO:-0500
TZNAME:EST
DTSTART:20241103T060000
END:STANDARD
BEGIN:DAYLIGHT
TZOFFSETFROM:-0500
TZOFFSETTO:-0400
TZNAME:EDT
DTSTART:20250309T070000
END:DAYLIGHT
BEGIN:STANDARD
TZOFFSETFROM:-0400
TZOFFSETTO:-0500
TZNAME:EST
DTSTART:20251102T060000
END:STANDARD
END:VTIMEZONE
BEGIN:VEVENT
DTSTART;TZID=America/New_York:20241104T153000
DTEND;TZID=America/New_York:20241104T163000
DTSTAMP:20260425T235841
CREATED:20240920T194809Z
LAST-MODIFIED:20241014T214018Z
UID:10001919-1730734200-1730737800@hilllibrary.org
SUMMARY:K-1 Library Club
DESCRIPTION:Email cbeihl.hl@gmail.com to get the registration links\, or be added to the Library Club email list for future sign-ups.
URL:https://hilllibrary.org/event/k-1-library-club/2024-11-04/
LOCATION:Hill Library\, 1151 Parker Mountain Road\, Strafford\, NH\, 03884
CATEGORIES:K-4 Programs
ATTACH;FMTTYPE=image/png:https://hilllibrary.org/wp-content/uploads/2024/09/Library-Club-Poster-Instagram-Post.png
ORGANIZER;CN="Hill Library":MAILTO:lmolloy@hilllibrary.org
END:VEVENT
BEGIN:VEVENT
DTSTART;TZID=America/New_York:20241106T153000
DTEND;TZID=America/New_York:20241106T163000
DTSTAMP:20260425T235841
CREATED:20240920T195011Z
LAST-MODIFIED:20241014T214108Z
UID:10001990-1730907000-1730910600@hilllibrary.org
SUMMARY:Grades 2+ Library Club
DESCRIPTION:Email cbeihl.hl@gmail.com to get the registration links\, or be added to the Library Club email list for future sign-ups.
URL:https://hilllibrary.org/event/grades-2-library-club/2024-11-06/
LOCATION:Hill Library\, 1151 Parker Mountain Road\, Strafford\, NH\, 03884
CATEGORIES:K-4 Programs
ATTACH;FMTTYPE=image/png:https://hilllibrary.org/wp-content/uploads/2024/09/Library-Club-Poster-Instagram-Post.png
ORGANIZER;CN="Hill Library":MAILTO:lmolloy@hilllibrary.org
END:VEVENT
BEGIN:VEVENT
DTSTART;TZID=America/New_York:20241113T153000
DTEND;TZID=America/New_York:20241113T163000
DTSTAMP:20260425T235841
CREATED:20240920T195011Z
LAST-MODIFIED:20241014T214108Z
UID:10001991-1731511800-1731515400@hilllibrary.org
SUMMARY:Grades 2+ Library Club
DESCRIPTION:Email cbeihl.hl@gmail.com to get the registration links\, or be added to the Library Club email list for future sign-ups.
URL:https://hilllibrary.org/event/grades-2-library-club/2024-11-13/
LOCATION:Hill Library\, 1151 Parker Mountain Road\, Strafford\, NH\, 03884
CATEGORIES:K-4 Programs
ATTACH;FMTTYPE=image/png:https://hilllibrary.org/wp-content/uploads/2024/09/Library-Club-Poster-Instagram-Post.png
ORGANIZER;CN="Hill Library":MAILTO:lmolloy@hilllibrary.org
END:VEVENT
BEGIN:VEVENT
DTSTART;TZID=America/New_York:20241114T130000
DTEND;TZID=America/New_York:20241114T140000
DTSTAMP:20260425T235841
CREATED:20241017T160256Z
LAST-MODIFIED:20241017T160427Z
UID:10002459-1731589200-1731592800@hilllibrary.org
SUMMARY:Homeschool STEM: Coding
DESCRIPTION:This month we are learning about coding with some screen-free computational thinking activities! All ages are welcome\, but some activities may be more accessible to children ages 5 and up.
URL:https://hilllibrary.org/event/homeschool-stem-coding/
LOCATION:Hill Library\, 1151 Parker Mountain Road\, Strafford\, NH\, 03884
CATEGORIES:K-4 Programs
ATTACH;FMTTYPE=image/png:https://hilllibrary.org/wp-content/uploads/2024/10/Homeschool-STEM.png
ORGANIZER;CN="Hill Library":MAILTO:lmolloy@hilllibrary.org
END:VEVENT
BEGIN:VEVENT
DTSTART;TZID=America/New_York:20241118T153000
DTEND;TZID=America/New_York:20241118T163000
DTSTAMP:20260425T235841
CREATED:20240920T194809Z
LAST-MODIFIED:20241014T214018Z
UID:10001921-1731943800-1731947400@hilllibrary.org
SUMMARY:K-1 Library Club
DESCRIPTION:Email cbeihl.hl@gmail.com to get the registration links\, or be added to the Library Club email list for future sign-ups.
URL:https://hilllibrary.org/event/k-1-library-club/2024-11-18/
LOCATION:Hill Library\, 1151 Parker Mountain Road\, Strafford\, NH\, 03884
CATEGORIES:K-4 Programs
ATTACH;FMTTYPE=image/png:https://hilllibrary.org/wp-content/uploads/2024/09/Library-Club-Poster-Instagram-Post.png
ORGANIZER;CN="Hill Library":MAILTO:lmolloy@hilllibrary.org
END:VEVENT
BEGIN:VEVENT
DTSTART;TZID=America/New_York:20241119T153000
DTEND;TZID=America/New_York:20241119T163000
DTSTAMP:20260425T235841
CREATED:20240920T202223Z
LAST-MODIFIED:20241118T003826Z
UID:10002528-1732030200-1732033800@hilllibrary.org
SUMMARY:Read to Toby
DESCRIPTION:Sign up to Read to Toby\, our Reading Dog! Email cbeihl.hl@gmail.com to sign up for a time slot between 3:30pm and 4:30pm.
URL:https://hilllibrary.org/event/read-to-toby/2024-11-19/
LOCATION:Hill Library\, 1151 Parker Mountain Road\, Strafford\, NH\, 03884
CATEGORIES:K-4 Programs
ATTACH;FMTTYPE=image/png:https://hilllibrary.org/wp-content/uploads/2024/03/Read-to-Toby-March24.png
ORGANIZER;CN="Hill Library":MAILTO:lmolloy@hilllibrary.org
END:VEVENT
BEGIN:VEVENT
DTSTART;TZID=America/New_York:20241120T153000
DTEND;TZID=America/New_York:20241120T163000
DTSTAMP:20260425T235841
CREATED:20240920T195011Z
LAST-MODIFIED:20241014T214108Z
UID:10001992-1732116600-1732120200@hilllibrary.org
SUMMARY:Grades 2+ Library Club
DESCRIPTION:Email cbeihl.hl@gmail.com to get the registration links\, or be added to the Library Club email list for future sign-ups.
URL:https://hilllibrary.org/event/grades-2-library-club/2024-11-20/
LOCATION:Hill Library\, 1151 Parker Mountain Road\, Strafford\, NH\, 03884
CATEGORIES:K-4 Programs
ATTACH;FMTTYPE=image/png:https://hilllibrary.org/wp-content/uploads/2024/09/Library-Club-Poster-Instagram-Post.png
ORGANIZER;CN="Hill Library":MAILTO:lmolloy@hilllibrary.org
END:VEVENT
BEGIN:VEVENT
DTSTART;TZID=America/New_York:20241125T153000
DTEND;TZID=America/New_York:20241125T163000
DTSTAMP:20260425T235841
CREATED:20240920T194809Z
LAST-MODIFIED:20241014T214018Z
UID:10001922-1732548600-1732552200@hilllibrary.org
SUMMARY:K-1 Library Club
DESCRIPTION:Email cbeihl.hl@gmail.com to get the registration links\, or be added to the Library Club email list for future sign-ups.
URL:https://hilllibrary.org/event/k-1-library-club/2024-11-25/
LOCATION:Hill Library\, 1151 Parker Mountain Road\, Strafford\, NH\, 03884
CATEGORIES:K-4 Programs
ATTACH;FMTTYPE=image/png:https://hilllibrary.org/wp-content/uploads/2024/09/Library-Club-Poster-Instagram-Post.png
ORGANIZER;CN="Hill Library":MAILTO:lmolloy@hilllibrary.org
END:VEVENT
END:VCALENDAR