BEGIN:VCALENDAR
VERSION:2.0
PRODID:-//Hill Library, Strafford, NH - ECPv6.15.20//NONSGML v1.0//EN
CALSCALE:GREGORIAN
METHOD:PUBLISH
X-ORIGINAL-URL:https://hilllibrary.org
X-WR-CALDESC:Events for Hill Library, Strafford, NH
REFRESH-INTERVAL;VALUE=DURATION:PT1H
X-Robots-Tag:noindex
X-PUBLISHED-TTL:PT1H
BEGIN:VTIMEZONE
TZID:America/New_York
BEGIN:DAYLIGHT
TZOFFSETFROM:-0500
TZOFFSETTO:-0400
TZNAME:EDT
DTSTART:20230312T070000
END:DAYLIGHT
BEGIN:STANDARD
TZOFFSETFROM:-0400
TZOFFSETTO:-0500
TZNAME:EST
DTSTART:20231105T060000
END:STANDARD
BEGIN:DAYLIGHT
TZOFFSETFROM:-0500
TZOFFSETTO:-0400
TZNAME:EDT
DTSTART:20240310T070000
END:DAYLIGHT
BEGIN:STANDARD
TZOFFSETFROM:-0400
TZOFFSETTO:-0500
TZNAME:EST
DTSTART:20241103T060000
END:STANDARD
BEGIN:DAYLIGHT
TZOFFSETFROM:-0500
TZOFFSETTO:-0400
TZNAME:EDT
DTSTART:20250309T070000
END:DAYLIGHT
BEGIN:STANDARD
TZOFFSETFROM:-0400
TZOFFSETTO:-0500
TZNAME:EST
DTSTART:20251102T060000
END:STANDARD
BEGIN:DAYLIGHT
TZOFFSETFROM:-0500
TZOFFSETTO:-0400
TZNAME:EDT
DTSTART:20260308T070000
END:DAYLIGHT
BEGIN:STANDARD
TZOFFSETFROM:-0400
TZOFFSETTO:-0500
TZNAME:EST
DTSTART:20261101T060000
END:STANDARD
END:VTIMEZONE
BEGIN:VEVENT
DTSTART;TZID=America/New_York:20250529T153000
DTEND;TZID=America/New_York:20250529T163000
DTSTAMP:20260424T202821
CREATED:20240920T194456Z
LAST-MODIFIED:20250527T144640Z
UID:10001914-1748532600-1748536200@hilllibrary.org
SUMMARY:Grade 5+ Games
DESCRIPTION:Join us for some fun games and snacks! All youth in grades 5 and up are welcome. No registration needed.
URL:https://hilllibrary.org/event/grade-5-games/2025-05-29/
LOCATION:Hill Library\, 1151 Parker Mountain Road\, Strafford\, NH\, 03884
CATEGORIES:Grades 5 and Up
ATTACH;FMTTYPE=image/png:https://hilllibrary.org/wp-content/uploads/2024/08/Copy-of-Copy-of-Grade-5-Game.png
ORGANIZER;CN="Hill Library":MAILTO:lmolloy@hilllibrary.org
END:VEVENT
BEGIN:VEVENT
DTSTART;TZID=America/New_York:20250522T153000
DTEND;TZID=America/New_York:20250522T163000
DTSTAMP:20260424T202821
CREATED:20250319T182657Z
LAST-MODIFIED:20250422T153901Z
UID:10003520-1747927800-1747931400@hilllibrary.org
SUMMARY:Grade 5+ DIY Squishies
DESCRIPTION:Make a DIY squishy! Snacks are provided. No registration needed.
URL:https://hilllibrary.org/event/grade-5-shrinky-dinks/
LOCATION:Hill Library\, 1151 Parker Mountain Road\, Strafford\, NH\, 03884
CATEGORIES:Grades 5 and Up
ORGANIZER;CN="Hill Library":MAILTO:lmolloy@hilllibrary.org
END:VEVENT
BEGIN:VEVENT
DTSTART;TZID=America/New_York:20250515T153000
DTEND;TZID=America/New_York:20250515T163000
DTSTAMP:20260424T202821
CREATED:20240920T194456Z
LAST-MODIFIED:20250527T144640Z
UID:10001912-1747323000-1747326600@hilllibrary.org
SUMMARY:Grade 5+ Games
DESCRIPTION:Join us for some fun games and snacks! All youth in grades 5 and up are welcome. No registration needed.
URL:https://hilllibrary.org/event/grade-5-games/2025-05-15/
LOCATION:Hill Library\, 1151 Parker Mountain Road\, Strafford\, NH\, 03884
CATEGORIES:Grades 5 and Up
ATTACH;FMTTYPE=image/png:https://hilllibrary.org/wp-content/uploads/2024/08/Copy-of-Copy-of-Grade-5-Game.png
ORGANIZER;CN="Hill Library":MAILTO:lmolloy@hilllibrary.org
END:VEVENT
BEGIN:VEVENT
DTSTART;TZID=America/New_York:20250508T153000
DTEND;TZID=America/New_York:20250508T163000
DTSTAMP:20260424T202821
CREATED:20240920T194456Z
LAST-MODIFIED:20250527T144640Z
UID:10001911-1746718200-1746721800@hilllibrary.org
SUMMARY:Grade 5+ Games
DESCRIPTION:Join us for some fun games and snacks! All youth in grades 5 and up are welcome. No registration needed.
URL:https://hilllibrary.org/event/grade-5-games/2025-05-08/
LOCATION:Hill Library\, 1151 Parker Mountain Road\, Strafford\, NH\, 03884
CATEGORIES:Grades 5 and Up
ATTACH;FMTTYPE=image/png:https://hilllibrary.org/wp-content/uploads/2024/08/Copy-of-Copy-of-Grade-5-Game.png
ORGANIZER;CN="Hill Library":MAILTO:lmolloy@hilllibrary.org
END:VEVENT
BEGIN:VEVENT
DTSTART;TZID=America/New_York:20250410T153000
DTEND;TZID=America/New_York:20250410T163000
DTSTAMP:20260424T202821
CREATED:20240920T194456Z
LAST-MODIFIED:20250527T144640Z
UID:10001908-1744299000-1744302600@hilllibrary.org
SUMMARY:Grade 5+ Games
DESCRIPTION:Join us for some fun games and snacks! All youth in grades 5 and up are welcome. No registration needed.
URL:https://hilllibrary.org/event/grade-5-games/2025-04-10/
LOCATION:Hill Library\, 1151 Parker Mountain Road\, Strafford\, NH\, 03884
CATEGORIES:Grades 5 and Up
ATTACH;FMTTYPE=image/png:https://hilllibrary.org/wp-content/uploads/2024/08/Copy-of-Copy-of-Grade-5-Game.png
ORGANIZER;CN="Hill Library":MAILTO:lmolloy@hilllibrary.org
END:VEVENT
BEGIN:VEVENT
DTSTART;TZID=America/New_York:20250403T153000
DTEND;TZID=America/New_York:20250403T163000
DTSTAMP:20260424T202821
CREATED:20240920T194456Z
LAST-MODIFIED:20250527T144640Z
UID:10001907-1743694200-1743697800@hilllibrary.org
SUMMARY:Grade 5+ Games
DESCRIPTION:Join us for some fun games and snacks! All youth in grades 5 and up are welcome. No registration needed.
URL:https://hilllibrary.org/event/grade-5-games/2025-04-03/
LOCATION:Hill Library\, 1151 Parker Mountain Road\, Strafford\, NH\, 03884
CATEGORIES:Grades 5 and Up
ATTACH;FMTTYPE=image/png:https://hilllibrary.org/wp-content/uploads/2024/08/Copy-of-Copy-of-Grade-5-Game.png
ORGANIZER;CN="Hill Library":MAILTO:lmolloy@hilllibrary.org
END:VEVENT
BEGIN:VEVENT
DTSTART;TZID=America/New_York:20250329T110000
DTEND;TZID=America/New_York:20250329T130000
DTSTAMP:20260424T202821
CREATED:20250206T215051Z
LAST-MODIFIED:20250329T115428Z
UID:10003111-1743246000-1743253200@hilllibrary.org
SUMMARY:CANCELLED-NED2 Robot Demo
DESCRIPTION:Try out the NED2 robotic arm! To sign up for a 20 minute time slot\, email cbeihl.hl@gmail.com.
URL:https://hilllibrary.org/event/ned2-robot-demo-2/
LOCATION:Hill Library\, 1151 Parker Mountain Road\, Strafford\, NH\, 03884
CATEGORIES:Grades 5 and Up,K-4 Programs
ATTACH;FMTTYPE=image/png:https://hilllibrary.org/wp-content/uploads/2025/02/Copy-of-NED-2.png
ORGANIZER;CN="Hill Library":MAILTO:lmolloy@hilllibrary.org
END:VEVENT
BEGIN:VEVENT
DTSTART;TZID=America/New_York:20250327T153000
DTEND;TZID=America/New_York:20250327T163000
DTSTAMP:20260424T202821
CREATED:20240920T194456Z
LAST-MODIFIED:20250527T144640Z
UID:10001906-1743089400-1743093000@hilllibrary.org
SUMMARY:Grade 5+ Games
DESCRIPTION:Join us for some fun games and snacks! All youth in grades 5 and up are welcome. No registration needed.
URL:https://hilllibrary.org/event/grade-5-games/2025-03-27/
LOCATION:Hill Library\, 1151 Parker Mountain Road\, Strafford\, NH\, 03884
CATEGORIES:Grades 5 and Up
ATTACH;FMTTYPE=image/png:https://hilllibrary.org/wp-content/uploads/2024/08/Copy-of-Copy-of-Grade-5-Game.png
ORGANIZER;CN="Hill Library":MAILTO:lmolloy@hilllibrary.org
END:VEVENT
BEGIN:VEVENT
DTSTART;TZID=America/New_York:20250325T180000
DTEND;TZID=America/New_York:20250325T190000
DTSTAMP:20260424T202821
CREATED:20250206T214952Z
LAST-MODIFIED:20250206T214952Z
UID:10003110-1742925600-1742929200@hilllibrary.org
SUMMARY:Grades 4-6 Graphic Novel Club
DESCRIPTION:Join us for some book club fun! We’ll be discussing Estranged by Ethan M. Aldridge. Copies will be available at the library.
URL:https://hilllibrary.org/event/grades-4-6-graphic-novel-club-4/
LOCATION:Hill Library\, 1151 Parker Mountain Road\, Strafford\, NH\, 03884
CATEGORIES:Grades 5 and Up,K-4 Programs
ATTACH;FMTTYPE=image/png:https://hilllibrary.org/wp-content/uploads/2025/02/Copy-of-Copy-of-Copy-of-Copy-of-Grades-4-6-Graphic-Novel-Club.png
ORGANIZER;CN="Hill Library":MAILTO:lmolloy@hilllibrary.org
END:VEVENT
BEGIN:VEVENT
DTSTART;TZID=America/New_York:20250320T153000
DTEND;TZID=America/New_York:20250320T163000
DTSTAMP:20260424T202821
CREATED:20241017T163605Z
LAST-MODIFIED:20250224T195705Z
UID:10002463-1742484600-1742488200@hilllibrary.org
SUMMARY:Grades 5+ Cookie Decorating
DESCRIPTION:Decorate some delicious cookies with Leah from Cookie Bear Baking! Spaces are limited\, so please register. Email cbeihl.hl@gmail.com. This program is open to youth in grade 5 and up. 
URL:https://hilllibrary.org/event/fall-cookie-decorating-2/
LOCATION:Hill Library\, 1151 Parker Mountain Road\, Strafford\, NH\, 03884
CATEGORIES:Grades 5 and Up
ATTACH;FMTTYPE=image/png:https://hilllibrary.org/wp-content/uploads/2024/10/Gr-5-Cookie-Decorating.png
ORGANIZER;CN="Hill Library":MAILTO:lmolloy@hilllibrary.org
END:VEVENT
BEGIN:VEVENT
DTSTART;TZID=America/New_York:20250313T153000
DTEND;TZID=America/New_York:20250313T163000
DTSTAMP:20260424T202821
CREATED:20240920T194456Z
LAST-MODIFIED:20250527T144640Z
UID:10001904-1741879800-1741883400@hilllibrary.org
SUMMARY:Grade 5+ Games
DESCRIPTION:Join us for some fun games and snacks! All youth in grades 5 and up are welcome. No registration needed.
URL:https://hilllibrary.org/event/grade-5-games/2025-03-13/
LOCATION:Hill Library\, 1151 Parker Mountain Road\, Strafford\, NH\, 03884
CATEGORIES:Grades 5 and Up
ATTACH;FMTTYPE=image/png:https://hilllibrary.org/wp-content/uploads/2024/08/Copy-of-Copy-of-Grade-5-Game.png
ORGANIZER;CN="Hill Library":MAILTO:lmolloy@hilllibrary.org
END:VEVENT
BEGIN:VEVENT
DTSTART;TZID=America/New_York:20250306T153000
DTEND;TZID=America/New_York:20250306T163000
DTSTAMP:20260424T202821
CREATED:20240920T194456Z
LAST-MODIFIED:20250527T144640Z
UID:10001903-1741275000-1741278600@hilllibrary.org
SUMMARY:Grade 5+ Games
DESCRIPTION:Join us for some fun games and snacks! All youth in grades 5 and up are welcome. No registration needed.
URL:https://hilllibrary.org/event/grade-5-games/2025-03-06/
LOCATION:Hill Library\, 1151 Parker Mountain Road\, Strafford\, NH\, 03884
CATEGORIES:Grades 5 and Up
ATTACH;FMTTYPE=image/png:https://hilllibrary.org/wp-content/uploads/2024/08/Copy-of-Copy-of-Grade-5-Game.png
ORGANIZER;CN="Hill Library":MAILTO:lmolloy@hilllibrary.org
END:VEVENT
BEGIN:VEVENT
DTSTART;TZID=America/New_York:20250226T130000
DTEND;TZID=America/New_York:20250226T150000
DTSTAMP:20260424T202821
CREATED:20250127T181542Z
LAST-MODIFIED:20250127T183819Z
UID:10003008-1740574800-1740582000@hilllibrary.org
SUMMARY:NED2 Robot Demo
DESCRIPTION:Try out the NED2 robotic arm! To sign up for a 20 minute time slot\, email cbeihl.hl@gmail.com.
URL:https://hilllibrary.org/event/ned2-robot-demo/
LOCATION:Hill Library\, 1151 Parker Mountain Road\, Strafford\, NH\, 03884
CATEGORIES:Grades 5 and Up,K-4 Programs
ATTACH;FMTTYPE=image/png:https://hilllibrary.org/wp-content/uploads/2025/01/NED-2.png
ORGANIZER;CN="Hill Library":MAILTO:lmolloy@hilllibrary.org
END:VEVENT
BEGIN:VEVENT
DTSTART;TZID=America/New_York:20250220T153000
DTEND;TZID=America/New_York:20250220T163000
DTSTAMP:20260424T202821
CREATED:20250213T124302Z
LAST-MODIFIED:20250213T124302Z
UID:10003114-1740065400-1740069000@hilllibrary.org
SUMMARY:Grades 5+ Valentines Cupcake Decorating
DESCRIPTION:Decorate tasty Valentine’s Day cupcakes! Email cbeihl.hl@gmail.com to register. This program is for youth in grades 5 and up.
URL:https://hilllibrary.org/event/grades-5-valentines-cupcake-decorating-2/
LOCATION:Hill Library\, 1151 Parker Mountain Road\, Strafford\, NH\, 03884
CATEGORIES:Grades 5 and Up
ATTACH;FMTTYPE=image/png:https://hilllibrary.org/wp-content/uploads/2025/01/Valentines-Cupcake-Decorating.png
ORGANIZER;CN="Hill Library":MAILTO:lmolloy@hilllibrary.org
END:VEVENT
BEGIN:VEVENT
DTSTART;TZID=America/New_York:20250220T153000
DTEND;TZID=America/New_York:20250220T163000
DTSTAMP:20260424T202821
CREATED:20240920T194456Z
LAST-MODIFIED:20250527T144640Z
UID:10001902-1740065400-1740069000@hilllibrary.org
SUMMARY:Grade 5+ Games
DESCRIPTION:Join us for some fun games and snacks! All youth in grades 5 and up are welcome. No registration needed.
URL:https://hilllibrary.org/event/grade-5-games/2025-02-20/
LOCATION:Hill Library\, 1151 Parker Mountain Road\, Strafford\, NH\, 03884
CATEGORIES:Grades 5 and Up
ATTACH;FMTTYPE=image/png:https://hilllibrary.org/wp-content/uploads/2024/08/Copy-of-Copy-of-Grade-5-Game.png
ORGANIZER;CN="Hill Library":MAILTO:lmolloy@hilllibrary.org
END:VEVENT
BEGIN:VEVENT
DTSTART;TZID=America/New_York:20250218T180000
DTEND;TZID=America/New_York:20250218T190000
DTSTAMP:20260424T202821
CREATED:20250127T180931Z
LAST-MODIFIED:20250130T194650Z
UID:10003001-1739901600-1739905200@hilllibrary.org
SUMMARY:Grades 4-6 Graphic Novel Club
DESCRIPTION:Join us for some book club fun! We’ll be discussing Ghost Book by Remy Lai. Copies will be available at the library.
URL:https://hilllibrary.org/event/grades-4-6-graphic-novel-club-3/
LOCATION:Hill Library\, 1151 Parker Mountain Road\, Strafford\, NH\, 03884
CATEGORIES:Grades 5 and Up,K-4 Programs
ATTACH;FMTTYPE=application/pdf:https://hilllibrary.org/wp-content/uploads/2025/01/Copy-of-Copy-of-Grades-4-6-Graphic-Novel-Club.pdf
ORGANIZER;CN="Hill Library":MAILTO:lmolloy@hilllibrary.org
END:VEVENT
BEGIN:VEVENT
DTSTART;TZID=America/New_York:20250213T153000
DTEND;TZID=America/New_York:20250213T163000
DTSTAMP:20260424T202821
CREATED:20250127T180259Z
LAST-MODIFIED:20250213T124506Z
UID:10002999-1739460600-1739464200@hilllibrary.org
SUMMARY:POSTPONED--Grades 5+ Valentines Cupcake Decorating
DESCRIPTION:This program has been postponed until Thursday\, 2/20. Email cbeihl.hl@gmail.com to register.
URL:https://hilllibrary.org/event/grades-5-valentines-cupcake-decorating/
LOCATION:Hill Library\, 1151 Parker Mountain Road\, Strafford\, NH\, 03884
CATEGORIES:Grades 5 and Up
ATTACH;FMTTYPE=image/png:https://hilllibrary.org/wp-content/uploads/2025/01/Valentines-Cupcake-Decorating.png
ORGANIZER;CN="Hill Library":MAILTO:lmolloy@hilllibrary.org
END:VEVENT
BEGIN:VEVENT
DTSTART;TZID=America/New_York:20250207T170000
DTEND;TZID=America/New_York:20250207T183000
DTSTAMP:20260424T202821
CREATED:20250127T180015Z
LAST-MODIFIED:20250127T180015Z
UID:10002998-1738947600-1738953000@hilllibrary.org
SUMMARY:Pokémon Club
DESCRIPTION:Come play\, trade\, and talk Pokémon! All ages welcome.
URL:https://hilllibrary.org/event/pokemon-club-2-2/
LOCATION:Hill Library\, 1151 Parker Mountain Road\, Strafford\, NH\, 03884
CATEGORIES:Grades 5 and Up,K-4 Programs
ATTACH;FMTTYPE=image/png:https://hilllibrary.org/wp-content/uploads/2025/01/Pokemon-Club-1.png
ORGANIZER;CN="Hill Library":MAILTO:lmolloy@hilllibrary.org
END:VEVENT
BEGIN:VEVENT
DTSTART;TZID=America/New_York:20250206T153000
DTEND;TZID=America/New_York:20250206T163000
DTSTAMP:20260424T202821
CREATED:20250206T014628Z
LAST-MODIFIED:20250206T014637Z
UID:10001900-1738855800-1738859400@hilllibrary.org
SUMMARY:CANCELLED- Grade 5+ Games
DESCRIPTION:Join us for some fun games and snacks! All youth in grades 5 and up are welcome. No registration needed.
URL:https://hilllibrary.org/event/grade-5-games-2-2/
LOCATION:Hill Library\, 1151 Parker Mountain Road\, Strafford\, NH\, 03884
CATEGORIES:Grades 5 and Up
ATTACH;FMTTYPE=image/png:https://hilllibrary.org/wp-content/uploads/2024/08/Copy-of-Copy-of-Grade-5-Game.png
ORGANIZER;CN="Hill Library":MAILTO:lmolloy@hilllibrary.org
END:VEVENT
BEGIN:VEVENT
DTSTART;TZID=America/New_York:20250130T153000
DTEND;TZID=America/New_York:20250130T163000
DTSTAMP:20260424T202821
CREATED:20240920T194456Z
LAST-MODIFIED:20250527T144640Z
UID:10001899-1738251000-1738254600@hilllibrary.org
SUMMARY:Grade 5+ Games
DESCRIPTION:Join us for some fun games and snacks! All youth in grades 5 and up are welcome. No registration needed.
URL:https://hilllibrary.org/event/grade-5-games/2025-01-30/
LOCATION:Hill Library\, 1151 Parker Mountain Road\, Strafford\, NH\, 03884
CATEGORIES:Grades 5 and Up
ATTACH;FMTTYPE=image/png:https://hilllibrary.org/wp-content/uploads/2024/08/Copy-of-Copy-of-Grade-5-Game.png
ORGANIZER;CN="Hill Library":MAILTO:lmolloy@hilllibrary.org
END:VEVENT
BEGIN:VEVENT
DTSTART;TZID=America/New_York:20250128T173000
DTEND;TZID=America/New_York:20250128T183000
DTSTAMP:20260424T202821
CREATED:20241223T204503Z
LAST-MODIFIED:20250109T215105Z
UID:10002583-1738085400-1738089000@hilllibrary.org
SUMMARY:Grades 4-6 Graphic Novel Club
DESCRIPTION:Join us for our first meeting! We’ll be discussing This Was Our Pact by Ryan Andrews. Copies are available at the library.
URL:https://hilllibrary.org/event/grades-4-6-graphic-novel-club-2/
LOCATION:Hill Library\, 1151 Parker Mountain Road\, Strafford\, NH\, 03884
CATEGORIES:Grades 5 and Up
ATTACH;FMTTYPE=image/png:https://hilllibrary.org/wp-content/uploads/2025/01/Grades-4-6-Graphic-Novel-Club-4-x-6-in.png
ORGANIZER;CN="Hill Library":MAILTO:lmolloy@hilllibrary.org
END:VEVENT
BEGIN:VEVENT
DTSTART;TZID=America/New_York:20250123T153000
DTEND;TZID=America/New_York:20250123T163000
DTSTAMP:20260424T202821
CREATED:20241223T204323Z
LAST-MODIFIED:20241223T204323Z
UID:10002582-1737646200-1737649800@hilllibrary.org
SUMMARY:Grades 5+ International Snack Tasting
DESCRIPTION:Join us for a trip around the world in food! We’ll try a tasty and interesting assortment of foods and give each a rating. No registration needed. This program is for youth in grades 5 and up.
URL:https://hilllibrary.org/event/grades-5-international-snack-tasting/
LOCATION:Hill Library\, 1151 Parker Mountain Road\, Strafford\, NH\, 03884
CATEGORIES:Grades 5 and Up
ATTACH;FMTTYPE=image/png:https://hilllibrary.org/wp-content/uploads/2024/12/grand.png
ORGANIZER;CN="Hill Library":MAILTO:lmolloy@hilllibrary.org
END:VEVENT
BEGIN:VEVENT
DTSTART;TZID=America/New_York:20250123T153000
DTEND;TZID=America/New_York:20250123T163000
DTSTAMP:20260424T202821
CREATED:20240920T194456Z
LAST-MODIFIED:20250527T144640Z
UID:10001898-1737646200-1737649800@hilllibrary.org
SUMMARY:Grade 5+ Games
DESCRIPTION:Join us for some fun games and snacks! All youth in grades 5 and up are welcome. No registration needed.
URL:https://hilllibrary.org/event/grade-5-games/2025-01-23/
LOCATION:Hill Library\, 1151 Parker Mountain Road\, Strafford\, NH\, 03884
CATEGORIES:Grades 5 and Up
ATTACH;FMTTYPE=image/png:https://hilllibrary.org/wp-content/uploads/2024/08/Copy-of-Copy-of-Grade-5-Game.png
ORGANIZER;CN="Hill Library":MAILTO:lmolloy@hilllibrary.org
END:VEVENT
BEGIN:VEVENT
DTSTART;TZID=America/New_York:20250116T153000
DTEND;TZID=America/New_York:20250116T163000
DTSTAMP:20260424T202821
CREATED:20240920T194456Z
LAST-MODIFIED:20250527T144640Z
UID:10001897-1737041400-1737045000@hilllibrary.org
SUMMARY:Grade 5+ Games
DESCRIPTION:Join us for some fun games and snacks! All youth in grades 5 and up are welcome. No registration needed.
URL:https://hilllibrary.org/event/grade-5-games/2025-01-16/
LOCATION:Hill Library\, 1151 Parker Mountain Road\, Strafford\, NH\, 03884
CATEGORIES:Grades 5 and Up
ATTACH;FMTTYPE=image/png:https://hilllibrary.org/wp-content/uploads/2024/08/Copy-of-Copy-of-Grade-5-Game.png
ORGANIZER;CN="Hill Library":MAILTO:lmolloy@hilllibrary.org
END:VEVENT
BEGIN:VEVENT
DTSTART;TZID=America/New_York:20250109T153000
DTEND;TZID=America/New_York:20250109T163000
DTSTAMP:20260424T202821
CREATED:20240920T194456Z
LAST-MODIFIED:20250527T144640Z
UID:10001896-1736436600-1736440200@hilllibrary.org
SUMMARY:Grade 5+ Games
DESCRIPTION:Join us for some fun games and snacks! All youth in grades 5 and up are welcome. No registration needed.
URL:https://hilllibrary.org/event/grade-5-games/2025-01-09/
LOCATION:Hill Library\, 1151 Parker Mountain Road\, Strafford\, NH\, 03884
CATEGORIES:Grades 5 and Up
ATTACH;FMTTYPE=image/png:https://hilllibrary.org/wp-content/uploads/2024/08/Copy-of-Copy-of-Grade-5-Game.png
ORGANIZER;CN="Hill Library":MAILTO:lmolloy@hilllibrary.org
END:VEVENT
BEGIN:VEVENT
DTSTART;TZID=America/New_York:20250102T153000
DTEND;TZID=America/New_York:20250102T163000
DTSTAMP:20260424T202821
CREATED:20240920T194456Z
LAST-MODIFIED:20250527T144640Z
UID:10001895-1735831800-1735835400@hilllibrary.org
SUMMARY:Grade 5+ Games
DESCRIPTION:Join us for some fun games and snacks! All youth in grades 5 and up are welcome. No registration needed.
URL:https://hilllibrary.org/event/grade-5-games/2025-01-02/
LOCATION:Hill Library\, 1151 Parker Mountain Road\, Strafford\, NH\, 03884
CATEGORIES:Grades 5 and Up
ATTACH;FMTTYPE=image/png:https://hilllibrary.org/wp-content/uploads/2024/08/Copy-of-Copy-of-Grade-5-Game.png
ORGANIZER;CN="Hill Library":MAILTO:lmolloy@hilllibrary.org
END:VEVENT
BEGIN:VEVENT
DTSTART;TZID=America/New_York:20241219T153000
DTEND;TZID=America/New_York:20241219T163000
DTSTAMP:20260424T202821
CREATED:20241121T174956Z
LAST-MODIFIED:20241121T175204Z
UID:10002552-1734622200-1734625800@hilllibrary.org
SUMMARY:Grade 5+ Cupcake Decorating
DESCRIPTION:Decorate some delicious seasonal and festive cupcakes! This program is for youth in grades 5 and up. Email cbeihl.hl@gmail.com to register.
URL:https://hilllibrary.org/event/grade-5-cupcake-decorating/
LOCATION:Hill Library\, 1151 Parker Mountain Road\, Strafford\, NH\, 03884
CATEGORIES:Grades 5 and Up
ATTACH;FMTTYPE=image/png:https://hilllibrary.org/wp-content/uploads/2024/11/Cupcake-Decorating.png
ORGANIZER;CN="Hill Library":MAILTO:lmolloy@hilllibrary.org
END:VEVENT
BEGIN:VEVENT
DTSTART;TZID=America/New_York:20241219T153000
DTEND;TZID=America/New_York:20241219T163000
DTSTAMP:20260424T202821
CREATED:20240920T194456Z
LAST-MODIFIED:20250527T144640Z
UID:10001894-1734622200-1734625800@hilllibrary.org
SUMMARY:Grade 5+ Games
DESCRIPTION:Join us for some fun games and snacks! All youth in grades 5 and up are welcome. No registration needed.
URL:https://hilllibrary.org/event/grade-5-games/2024-12-19/
LOCATION:Hill Library\, 1151 Parker Mountain Road\, Strafford\, NH\, 03884
CATEGORIES:Grades 5 and Up
ATTACH;FMTTYPE=image/png:https://hilllibrary.org/wp-content/uploads/2024/08/Copy-of-Copy-of-Grade-5-Game.png
ORGANIZER;CN="Hill Library":MAILTO:lmolloy@hilllibrary.org
END:VEVENT
BEGIN:VEVENT
DTSTART;TZID=America/New_York:20241213T170000
DTEND;TZID=America/New_York:20241213T183000
DTSTAMP:20260424T202821
CREATED:20240920T201929Z
LAST-MODIFIED:20241121T174709Z
UID:10001997-1734109200-1734114600@hilllibrary.org
SUMMARY:Pokémon Club
DESCRIPTION:Play the game\, trade with friends. and check out some fun Pokémon activities! All ages welcome. 
URL:https://hilllibrary.org/event/pokemon-club/
LOCATION:Hill Library\, 1151 Parker Mountain Road\, Strafford\, NH\, 03884
CATEGORIES:Grades 5 and Up,K-4 Programs
ATTACH;FMTTYPE=image/png:https://hilllibrary.org/wp-content/uploads/2024/11/Pokemon-Club.png
ORGANIZER;CN="Hill Library":MAILTO:lmolloy@hilllibrary.org
END:VEVENT
BEGIN:VEVENT
DTSTART;TZID=America/New_York:20241212T153000
DTEND;TZID=America/New_York:20241212T163000
DTSTAMP:20260424T202821
CREATED:20240920T194456Z
LAST-MODIFIED:20250527T144640Z
UID:10001893-1734017400-1734021000@hilllibrary.org
SUMMARY:Grade 5+ Games
DESCRIPTION:Join us for some fun games and snacks! All youth in grades 5 and up are welcome. No registration needed.
URL:https://hilllibrary.org/event/grade-5-games/2024-12-12/
LOCATION:Hill Library\, 1151 Parker Mountain Road\, Strafford\, NH\, 03884
CATEGORIES:Grades 5 and Up
ATTACH;FMTTYPE=image/png:https://hilllibrary.org/wp-content/uploads/2024/08/Copy-of-Copy-of-Grade-5-Game.png
ORGANIZER;CN="Hill Library":MAILTO:lmolloy@hilllibrary.org
END:VEVENT
END:VCALENDAR