BEGIN:VCALENDAR
VERSION:2.0
PRODID:-//Hill Library, Strafford, NH - ECPv6.15.20//NONSGML v1.0//EN
CALSCALE:GREGORIAN
METHOD:PUBLISH
X-WR-CALNAME:Hill Library, Strafford, NH
X-ORIGINAL-URL:https://hilllibrary.org
X-WR-CALDESC:Events for Hill Library, Strafford, NH
REFRESH-INTERVAL;VALUE=DURATION:PT1H
X-Robots-Tag:noindex
X-PUBLISHED-TTL:PT1H
BEGIN:VTIMEZONE
TZID:America/New_York
BEGIN:DAYLIGHT
TZOFFSETFROM:-0500
TZOFFSETTO:-0400
TZNAME:EDT
DTSTART:20240310T070000
END:DAYLIGHT
BEGIN:STANDARD
TZOFFSETFROM:-0400
TZOFFSETTO:-0500
TZNAME:EST
DTSTART:20241103T060000
END:STANDARD
BEGIN:DAYLIGHT
TZOFFSETFROM:-0500
TZOFFSETTO:-0400
TZNAME:EDT
DTSTART:20250309T070000
END:DAYLIGHT
BEGIN:STANDARD
TZOFFSETFROM:-0400
TZOFFSETTO:-0500
TZNAME:EST
DTSTART:20251102T060000
END:STANDARD
BEGIN:DAYLIGHT
TZOFFSETFROM:-0500
TZOFFSETTO:-0400
TZNAME:EDT
DTSTART:20260308T070000
END:DAYLIGHT
BEGIN:STANDARD
TZOFFSETFROM:-0400
TZOFFSETTO:-0500
TZNAME:EST
DTSTART:20261101T060000
END:STANDARD
BEGIN:DAYLIGHT
TZOFFSETFROM:-0500
TZOFFSETTO:-0400
TZNAME:EDT
DTSTART:20270314T070000
END:DAYLIGHT
BEGIN:STANDARD
TZOFFSETFROM:-0400
TZOFFSETTO:-0500
TZNAME:EST
DTSTART:20271107T060000
END:STANDARD
END:VTIMEZONE
BEGIN:VEVENT
DTSTART;TZID=America/New_York:20250628T133000
DTEND;TZID=America/New_York:20250628T143000
DTSTAMP:20260425T103238
CREATED:20250527T142600Z
LAST-MODIFIED:20250527T142600Z
UID:10003960-1751117400-1751121000@hilllibrary.org
SUMMARY:Summer Reading Kick-Off Foam Party
DESCRIPTION:We’ll celebrate the start of summer with bubbles and a foam cannon! Swimsuit and towel recommended. Pick up your summer reading materials\, and support the Friends of the Library at their Bake Sale and Raffle! All ages welcome\, no registration needed.
URL:https://hilllibrary.org/event/summer-reading-kick-off-foam-party/
LOCATION:Hill Library\, 1151 Parker Mountain Road\, Strafford\, NH\, 03884
CATEGORIES:Ages 0-5,Grades 5 and Up,K-4 Programs
ATTACH;FMTTYPE=image/png:https://hilllibrary.org/wp-content/uploads/2025/05/2025-Summer-Reading-Kick-off.png
ORGANIZER;CN="Hill Library":MAILTO:lmolloy@hilllibrary.org
END:VEVENT
BEGIN:VEVENT
DTSTART;TZID=America/New_York:20250703T163000
DTEND;TZID=America/New_York:20250703T173000
DTSTAMP:20260425T103238
CREATED:20250625T194738Z
LAST-MODIFIED:20250625T194738Z
UID:10003976-1751560200-1751563800@hilllibrary.org
SUMMARY:DIY Terrariums (Grade 5+)
DESCRIPTION:Make a super cute DIY terrarium! This program is for youth entering grades 5+. No registration needed.
URL:https://hilllibrary.org/event/diy-terrariums-grade-5/
LOCATION:Hill Library\, 1151 Parker Mountain Road\, Strafford\, NH\, 03884
CATEGORIES:Grades 5 and Up
ATTACH;FMTTYPE=image/png:https://hilllibrary.org/wp-content/uploads/2025/06/Terrariums.png
ORGANIZER;CN="Hill Library":MAILTO:lmolloy@hilllibrary.org
END:VEVENT
BEGIN:VEVENT
DTSTART;TZID=America/New_York:20250710T163000
DTEND;TZID=America/New_York:20250710T173000
DTSTAMP:20260425T103238
CREATED:20250625T200152Z
LAST-MODIFIED:20250625T200152Z
UID:10004034-1752165000-1752168600@hilllibrary.org
SUMMARY:Survival Games (Grades 5+)
DESCRIPTION:Can you survive on a deserted island long enough to be rescued? Forage\, craft\, and explore in this live-action version of the card game Ravine! This program is for youth entering grades 5+. No registration needed.
URL:https://hilllibrary.org/event/survival-games-grades-5/
LOCATION:Hill Library\, 1151 Parker Mountain Road\, Strafford\, NH\, 03884
CATEGORIES:Grades 5 and Up
ATTACH;FMTTYPE=image/png:https://hilllibrary.org/wp-content/uploads/2025/06/Survival-Games.png
ORGANIZER;CN="Hill Library":MAILTO:lmolloy@hilllibrary.org
END:VEVENT
BEGIN:VEVENT
DTSTART;TZID=America/New_York:20250717T163000
DTEND;TZID=America/New_York:20250717T173000
DTSTAMP:20260425T103238
CREATED:20250625T200724Z
LAST-MODIFIED:20250625T200724Z
UID:10004038-1752769800-1752773400@hilllibrary.org
SUMMARY:Flower Art (Grades 5+)
DESCRIPTION:Make some beautiful art with dried flowers! This program is for youth entering grades 5+. No registration needed.
URL:https://hilllibrary.org/event/flower-art-grades-5/
LOCATION:Hill Library\, 1151 Parker Mountain Road\, Strafford\, NH\, 03884
CATEGORIES:Grades 5 and Up
ATTACH;FMTTYPE=image/png:https://hilllibrary.org/wp-content/uploads/2025/06/Flower-Art.png
ORGANIZER;CN="Hill Library":MAILTO:lmolloy@hilllibrary.org
END:VEVENT
BEGIN:VEVENT
DTSTART;TZID=America/New_York:20250724T163000
DTEND;TZID=America/New_York:20250724T173000
DTSTAMP:20260425T103238
CREATED:20250625T200958Z
LAST-MODIFIED:20250625T201026Z
UID:10004040-1753374600-1753378200@hilllibrary.org
SUMMARY:Fort Building (Grade 5+)
DESCRIPTION:Make some awesome forts on the library lawn! Snacks provided. This program is for youth entering grades 5+. No registration needed.
URL:https://hilllibrary.org/event/fort-building-grade-5/
LOCATION:Hill Library\, 1151 Parker Mountain Road\, Strafford\, NH\, 03884
CATEGORIES:Grades 5 and Up
ATTACH;FMTTYPE=image/png:https://hilllibrary.org/wp-content/uploads/2025/06/For-Youth-Entering-Grade-5.png
ORGANIZER;CN="Hill Library":MAILTO:lmolloy@hilllibrary.org
END:VEVENT
BEGIN:VEVENT
DTSTART;TZID=America/New_York:20250731T163000
DTEND;TZID=America/New_York:20250731T173000
DTSTAMP:20260425T103238
CREATED:20250625T201239Z
LAST-MODIFIED:20250729T163022Z
UID:10004042-1753979400-1753983000@hilllibrary.org
SUMMARY:CANCELLED-Needle Felting (Grades 5+)
DESCRIPTION:Needle felting has been cancelled this Thursday\, July 31st.
URL:https://hilllibrary.org/event/needle-felting-grades-5/
LOCATION:Hill Library\, 1151 Parker Mountain Road\, Strafford\, NH\, 03884
CATEGORIES:Grades 5 and Up
ATTACH;FMTTYPE=image/png:https://hilllibrary.org/wp-content/uploads/2025/06/For-Youth-Entering-Grades-5.png
ORGANIZER;CN="Hill Library":MAILTO:lmolloy@hilllibrary.org
END:VEVENT
BEGIN:VEVENT
DTSTART;TZID=America/New_York:20250807T163000
DTEND;TZID=America/New_York:20250807T173000
DTSTAMP:20260425T103238
CREATED:20250625T201523Z
LAST-MODIFIED:20250730T153333Z
UID:10004044-1754584200-1754587800@hilllibrary.org
SUMMARY:Outdoor Escape (Grades 5+)
DESCRIPTION:Find clues and solve puzzles to escape the “island”.  This program is for youth entering grades 5+. Please email cbeihl.hl@gmail.com by August 4th if your child would like to attend.
URL:https://hilllibrary.org/event/outdoor-escape-grades-5/
LOCATION:Hill Library\, 1151 Parker Mountain Road\, Strafford\, NH\, 03884
CATEGORIES:Grades 5 and Up
ATTACH;FMTTYPE=image/png:https://hilllibrary.org/wp-content/uploads/2025/06/Copy-of-Outdoor-Escape.png
ORGANIZER;CN="Hill Library":MAILTO:lmolloy@hilllibrary.org
END:VEVENT
BEGIN:VEVENT
DTSTART;TZID=America/New_York:20250912T153000
DTEND;TZID=America/New_York:20250912T163000
DTSTAMP:20260425T103238
CREATED:20250821T153609Z
LAST-MODIFIED:20260325T212449Z
UID:10003962-1757691000-1757694600@hilllibrary.org
SUMMARY:Grade 5+ Games
DESCRIPTION:Join us for some fun games and snacks! All youth in grades 5 and up are welcome. No registration needed.
URL:https://hilllibrary.org/event/grade-5-games-2-3/2025-09-12/
LOCATION:Hill Library\, 1151 Parker Mountain Road\, Strafford\, NH\, 03884
CATEGORIES:Grades 5 and Up
ATTACH;FMTTYPE=image/png:https://hilllibrary.org/wp-content/uploads/2024/09/Grade-5-Games.png
ORGANIZER;CN="Hill Library":MAILTO:lmolloy@hilllibrary.org
END:VEVENT
BEGIN:VEVENT
DTSTART;TZID=America/New_York:20250919T153000
DTEND;TZID=America/New_York:20250919T163000
DTSTAMP:20260425T103238
CREATED:20250821T153609Z
LAST-MODIFIED:20260325T212449Z
UID:10004675-1758295800-1758299400@hilllibrary.org
SUMMARY:Grade 5+ Games
DESCRIPTION:Join us for some fun games and snacks! All youth in grades 5 and up are welcome. No registration needed.
URL:https://hilllibrary.org/event/grade-5-games-2-3/2025-09-19/
LOCATION:Hill Library\, 1151 Parker Mountain Road\, Strafford\, NH\, 03884
CATEGORIES:Grades 5 and Up
ATTACH;FMTTYPE=image/png:https://hilllibrary.org/wp-content/uploads/2024/09/Grade-5-Games.png
ORGANIZER;CN="Hill Library":MAILTO:lmolloy@hilllibrary.org
END:VEVENT
BEGIN:VEVENT
DTSTART;TZID=America/New_York:20250926T153000
DTEND;TZID=America/New_York:20250926T163000
DTSTAMP:20260425T103238
CREATED:20250821T153609Z
LAST-MODIFIED:20260325T212449Z
UID:10004676-1758900600-1758904200@hilllibrary.org
SUMMARY:Grade 5+ Games
DESCRIPTION:Join us for some fun games and snacks! All youth in grades 5 and up are welcome. No registration needed.
URL:https://hilllibrary.org/event/grade-5-games-2-3/2025-09-26/
LOCATION:Hill Library\, 1151 Parker Mountain Road\, Strafford\, NH\, 03884
CATEGORIES:Grades 5 and Up
ATTACH;FMTTYPE=image/png:https://hilllibrary.org/wp-content/uploads/2024/09/Grade-5-Games.png
ORGANIZER;CN="Hill Library":MAILTO:lmolloy@hilllibrary.org
END:VEVENT
BEGIN:VEVENT
DTSTART;TZID=America/New_York:20251003T153000
DTEND;TZID=America/New_York:20251003T163000
DTSTAMP:20260425T103238
CREATED:20250821T153609Z
LAST-MODIFIED:20260325T212449Z
UID:10004677-1759505400-1759509000@hilllibrary.org
SUMMARY:Grade 5+ Games
DESCRIPTION:Join us for some fun games and snacks! All youth in grades 5 and up are welcome. No registration needed.
URL:https://hilllibrary.org/event/grade-5-games-2-3/2025-10-03/
LOCATION:Hill Library\, 1151 Parker Mountain Road\, Strafford\, NH\, 03884
CATEGORIES:Grades 5 and Up
ATTACH;FMTTYPE=image/png:https://hilllibrary.org/wp-content/uploads/2024/09/Grade-5-Games.png
ORGANIZER;CN="Hill Library":MAILTO:lmolloy@hilllibrary.org
END:VEVENT
BEGIN:VEVENT
DTSTART;TZID=America/New_York:20251009T180000
DTEND;TZID=America/New_York:20251009T190000
DTSTAMP:20260425T103238
CREATED:20250911T161516Z
LAST-MODIFIED:20250911T161516Z
UID:10004749-1760032800-1760036400@hilllibrary.org
SUMMARY:Insect Adaptations
DESCRIPTION:Join the Global Entomology Coalition to meet some live insect friends\, learn about defensive adaptations\, and make your own insect using what you’ve learned! All ages welcome.
URL:https://hilllibrary.org/event/insect-adaptations-2/
LOCATION:Hill Library\, 1151 Parker Mountain Road\, Strafford\, NH\, 03884
CATEGORIES:Grades 5 and Up,K-4 Programs
ATTACH;FMTTYPE=image/png:https://hilllibrary.org/wp-content/uploads/2025/09/Insect-Adaptations.png
ORGANIZER;CN="Hill Library":MAILTO:lmolloy@hilllibrary.org
END:VEVENT
BEGIN:VEVENT
DTSTART;TZID=America/New_York:20251010T153000
DTEND;TZID=America/New_York:20251010T163000
DTSTAMP:20260425T103238
CREATED:20250821T153609Z
LAST-MODIFIED:20260325T212449Z
UID:10004678-1760110200-1760113800@hilllibrary.org
SUMMARY:Grade 5+ Games
DESCRIPTION:Join us for some fun games and snacks! All youth in grades 5 and up are welcome. No registration needed.
URL:https://hilllibrary.org/event/grade-5-games-2-3/2025-10-10/
LOCATION:Hill Library\, 1151 Parker Mountain Road\, Strafford\, NH\, 03884
CATEGORIES:Grades 5 and Up
ATTACH;FMTTYPE=image/png:https://hilllibrary.org/wp-content/uploads/2024/09/Grade-5-Games.png
ORGANIZER;CN="Hill Library":MAILTO:lmolloy@hilllibrary.org
END:VEVENT
BEGIN:VEVENT
DTSTART;TZID=America/New_York:20251011T130000
DTEND;TZID=America/New_York:20251011T150000
DTSTAMP:20260425T103238
CREATED:20250911T161647Z
LAST-MODIFIED:20250911T161647Z
UID:10004750-1760187600-1760194800@hilllibrary.org
SUMMARY:Birdhouses with Mr. Bob
DESCRIPTION:Learn how to make and decorate a bird house. Email cbeihl.hl@gmail.com to register. All ages welcome.
URL:https://hilllibrary.org/event/birdhouses-with-mr-bob/
LOCATION:Hill Library\, 1151 Parker Mountain Road\, Strafford\, NH\, 03884
CATEGORIES:Grades 5 and Up,K-4 Programs
ATTACH;FMTTYPE=image/png:https://hilllibrary.org/wp-content/uploads/2025/09/Birdhouses.png
ORGANIZER;CN="Hill Library":MAILTO:lmolloy@hilllibrary.org
END:VEVENT
BEGIN:VEVENT
DTSTART;TZID=America/New_York:20251017T153000
DTEND;TZID=America/New_York:20251017T163000
DTSTAMP:20260425T103238
CREATED:20250821T153609Z
LAST-MODIFIED:20260325T212449Z
UID:10004679-1760715000-1760718600@hilllibrary.org
SUMMARY:Grade 5+ Games
DESCRIPTION:Join us for some fun games and snacks! All youth in grades 5 and up are welcome. No registration needed.
URL:https://hilllibrary.org/event/grade-5-games-2-3/2025-10-17/
LOCATION:Hill Library\, 1151 Parker Mountain Road\, Strafford\, NH\, 03884
CATEGORIES:Grades 5 and Up
ATTACH;FMTTYPE=image/png:https://hilllibrary.org/wp-content/uploads/2024/09/Grade-5-Games.png
ORGANIZER;CN="Hill Library":MAILTO:lmolloy@hilllibrary.org
END:VEVENT
BEGIN:VEVENT
DTSTART;TZID=America/New_York:20251024T153000
DTEND;TZID=America/New_York:20251024T163000
DTSTAMP:20260425T103238
CREATED:20250821T153609Z
LAST-MODIFIED:20260325T212449Z
UID:10004680-1761319800-1761323400@hilllibrary.org
SUMMARY:Grade 5+ Games
DESCRIPTION:Join us for some fun games and snacks! All youth in grades 5 and up are welcome. No registration needed.
URL:https://hilllibrary.org/event/grade-5-games-2-3/2025-10-24/
LOCATION:Hill Library\, 1151 Parker Mountain Road\, Strafford\, NH\, 03884
CATEGORIES:Grades 5 and Up
ATTACH;FMTTYPE=image/png:https://hilllibrary.org/wp-content/uploads/2024/09/Grade-5-Games.png
ORGANIZER;CN="Hill Library":MAILTO:lmolloy@hilllibrary.org
END:VEVENT
BEGIN:VEVENT
DTSTART;TZID=America/New_York:20251031T153000
DTEND;TZID=America/New_York:20251031T163000
DTSTAMP:20260425T103238
CREATED:20250911T174254Z
LAST-MODIFIED:20250911T174620Z
UID:10004751-1761924600-1761928200@hilllibrary.org
SUMMARY:Grades 5+ Halloween Hang
DESCRIPTION:Stop by after school for spooky snacks\, haunting music\, and creepy games! No registration needed. For youth in grades 5+.
URL:https://hilllibrary.org/event/grads-5-halloween-hang/
LOCATION:Hill Library\, 1151 Parker Mountain Road\, Strafford\, NH\, 03884
CATEGORIES:Grades 5 and Up
ATTACH;FMTTYPE=image/jpeg:https://hilllibrary.org/wp-content/uploads/2025/09/A-Halloween-Event.jpg
ORGANIZER;CN="Hill Library":MAILTO:lmolloy@hilllibrary.org
END:VEVENT
BEGIN:VEVENT
DTSTART;TZID=America/New_York:20251107T153000
DTEND;TZID=America/New_York:20251107T163000
DTSTAMP:20260425T103238
CREATED:20250821T153609Z
LAST-MODIFIED:20260325T212449Z
UID:10004682-1762529400-1762533000@hilllibrary.org
SUMMARY:Grade 5+ Games
DESCRIPTION:Join us for some fun games and snacks! All youth in grades 5 and up are welcome. No registration needed.
URL:https://hilllibrary.org/event/grade-5-games-2-3/2025-11-07/
LOCATION:Hill Library\, 1151 Parker Mountain Road\, Strafford\, NH\, 03884
CATEGORIES:Grades 5 and Up
ATTACH;FMTTYPE=image/png:https://hilllibrary.org/wp-content/uploads/2024/09/Grade-5-Games.png
ORGANIZER;CN="Hill Library":MAILTO:lmolloy@hilllibrary.org
END:VEVENT
BEGIN:VEVENT
DTSTART;TZID=America/New_York:20251114T153000
DTEND;TZID=America/New_York:20251114T163000
DTSTAMP:20260425T103238
CREATED:20250821T153609Z
LAST-MODIFIED:20260325T212449Z
UID:10004683-1763134200-1763137800@hilllibrary.org
SUMMARY:Grade 5+ Games
DESCRIPTION:Join us for some fun games and snacks! All youth in grades 5 and up are welcome. No registration needed.
URL:https://hilllibrary.org/event/grade-5-games-2-3/2025-11-14/
LOCATION:Hill Library\, 1151 Parker Mountain Road\, Strafford\, NH\, 03884
CATEGORIES:Grades 5 and Up
ATTACH;FMTTYPE=image/png:https://hilllibrary.org/wp-content/uploads/2024/09/Grade-5-Games.png
ORGANIZER;CN="Hill Library":MAILTO:lmolloy@hilllibrary.org
END:VEVENT
BEGIN:VEVENT
DTSTART;TZID=America/New_York:20251121T153000
DTEND;TZID=America/New_York:20251121T163000
DTSTAMP:20260425T103238
CREATED:20250821T153609Z
LAST-MODIFIED:20260325T212449Z
UID:10004684-1763739000-1763742600@hilllibrary.org
SUMMARY:Grade 5+ Games
DESCRIPTION:Join us for some fun games and snacks! All youth in grades 5 and up are welcome. No registration needed.
URL:https://hilllibrary.org/event/grade-5-games-2-3/2025-11-21/
LOCATION:Hill Library\, 1151 Parker Mountain Road\, Strafford\, NH\, 03884
CATEGORIES:Grades 5 and Up
ATTACH;FMTTYPE=image/png:https://hilllibrary.org/wp-content/uploads/2024/09/Grade-5-Games.png
ORGANIZER;CN="Hill Library":MAILTO:lmolloy@hilllibrary.org
END:VEVENT
BEGIN:VEVENT
DTSTART;TZID=America/New_York:20251205T153000
DTEND;TZID=America/New_York:20251205T163000
DTSTAMP:20260425T103238
CREATED:20250821T153609Z
LAST-MODIFIED:20260325T212449Z
UID:10004685-1764948600-1764952200@hilllibrary.org
SUMMARY:Grade 5+ Games
DESCRIPTION:Join us for some fun games and snacks! All youth in grades 5 and up are welcome. No registration needed.
URL:https://hilllibrary.org/event/grade-5-games-2-3/2025-12-05/
LOCATION:Hill Library\, 1151 Parker Mountain Road\, Strafford\, NH\, 03884
CATEGORIES:Grades 5 and Up
ATTACH;FMTTYPE=image/png:https://hilllibrary.org/wp-content/uploads/2024/09/Grade-5-Games.png
ORGANIZER;CN="Hill Library":MAILTO:lmolloy@hilllibrary.org
END:VEVENT
BEGIN:VEVENT
DTSTART;TZID=America/New_York:20251212T153000
DTEND;TZID=America/New_York:20251212T163000
DTSTAMP:20260425T103238
CREATED:20250821T153609Z
LAST-MODIFIED:20260325T212449Z
UID:10004686-1765553400-1765557000@hilllibrary.org
SUMMARY:Grade 5+ Games
DESCRIPTION:Join us for some fun games and snacks! All youth in grades 5 and up are welcome. No registration needed.
URL:https://hilllibrary.org/event/grade-5-games-2-3/2025-12-12/
LOCATION:Hill Library\, 1151 Parker Mountain Road\, Strafford\, NH\, 03884
CATEGORIES:Grades 5 and Up
ATTACH;FMTTYPE=image/png:https://hilllibrary.org/wp-content/uploads/2024/09/Grade-5-Games.png
ORGANIZER;CN="Hill Library":MAILTO:lmolloy@hilllibrary.org
END:VEVENT
BEGIN:VEVENT
DTSTART;TZID=America/New_York:20251219T153000
DTEND;TZID=America/New_York:20251219T163000
DTSTAMP:20260425T103238
CREATED:20251202T145509Z
LAST-MODIFIED:20251202T145509Z
UID:10005816-1766158200-1766161800@hilllibrary.org
SUMMARY:Grades 5+ Cozy Crafts and Games
DESCRIPTION:Make some gifts for friends and family\, sip hot cocoa\, and play some games! No registration needed. This program is for youth in grades 5+.
URL:https://hilllibrary.org/event/grades-5-cozy-crafts-and-games/
LOCATION:Hill Library\, 1151 Parker Mountain Road\, Strafford\, NH\, 03884
CATEGORIES:Grades 5 and Up
ATTACH;FMTTYPE=image/png:https://hilllibrary.org/wp-content/uploads/2025/12/cozy-Crafts-games-2.png
ORGANIZER;CN="Hill Library":MAILTO:lmolloy@hilllibrary.org
END:VEVENT
BEGIN:VEVENT
DTSTART;TZID=America/New_York:20260109T153000
DTEND;TZID=America/New_York:20260109T163000
DTSTAMP:20260425T103238
CREATED:20250821T153609Z
LAST-MODIFIED:20260325T212449Z
UID:10004689-1767972600-1767976200@hilllibrary.org
SUMMARY:Grade 5+ Games
DESCRIPTION:Join us for some fun games and snacks! All youth in grades 5 and up are welcome. No registration needed.
URL:https://hilllibrary.org/event/grade-5-games-2-3/2026-01-09/
LOCATION:Hill Library\, 1151 Parker Mountain Road\, Strafford\, NH\, 03884
CATEGORIES:Grades 5 and Up
ATTACH;FMTTYPE=image/png:https://hilllibrary.org/wp-content/uploads/2024/09/Grade-5-Games.png
ORGANIZER;CN="Hill Library":MAILTO:lmolloy@hilllibrary.org
END:VEVENT
BEGIN:VEVENT
DTSTART;TZID=America/New_York:20260116T153000
DTEND;TZID=America/New_York:20260116T163000
DTSTAMP:20260425T103238
CREATED:20250821T153609Z
LAST-MODIFIED:20260325T212449Z
UID:10004690-1768577400-1768581000@hilllibrary.org
SUMMARY:Grade 5+ Games
DESCRIPTION:Join us for some fun games and snacks! All youth in grades 5 and up are welcome. No registration needed.
URL:https://hilllibrary.org/event/grade-5-games-2-3/2026-01-16/
LOCATION:Hill Library\, 1151 Parker Mountain Road\, Strafford\, NH\, 03884
CATEGORIES:Grades 5 and Up
ATTACH;FMTTYPE=image/png:https://hilllibrary.org/wp-content/uploads/2024/09/Grade-5-Games.png
ORGANIZER;CN="Hill Library":MAILTO:lmolloy@hilllibrary.org
END:VEVENT
BEGIN:VEVENT
DTSTART;TZID=America/New_York:20260123T170000
DTEND;TZID=America/New_York:20260123T183000
DTSTAMP:20260425T103238
CREATED:20250527T141552Z
LAST-MODIFIED:20251222T194823Z
UID:10003955-1769187600-1769193000@hilllibrary.org
SUMMARY:Pokémon Tournament
DESCRIPTION:Bring your deck and compete in our Pokémon tournament!
URL:https://hilllibrary.org/event/pokemon-tournament-2-2/
LOCATION:Hill Library\, 1151 Parker Mountain Road\, Strafford\, NH\, 03884
CATEGORIES:Grades 5 and Up,K-4 Programs
ORGANIZER;CN="Hill Library":MAILTO:lmolloy@hilllibrary.org
END:VEVENT
BEGIN:VEVENT
DTSTART;TZID=America/New_York:20260130T153000
DTEND;TZID=America/New_York:20260130T163000
DTSTAMP:20260425T103238
CREATED:20250821T153609Z
LAST-MODIFIED:20260325T212449Z
UID:10004692-1769787000-1769790600@hilllibrary.org
SUMMARY:Grade 5+ Games
DESCRIPTION:Join us for some fun games and snacks! All youth in grades 5 and up are welcome. No registration needed.
URL:https://hilllibrary.org/event/grade-5-games-2-3/2026-01-30/
LOCATION:Hill Library\, 1151 Parker Mountain Road\, Strafford\, NH\, 03884
CATEGORIES:Grades 5 and Up
ATTACH;FMTTYPE=image/png:https://hilllibrary.org/wp-content/uploads/2024/09/Grade-5-Games.png
ORGANIZER;CN="Hill Library":MAILTO:lmolloy@hilllibrary.org
END:VEVENT
BEGIN:VEVENT
DTSTART;TZID=America/New_York:20260206T153000
DTEND;TZID=America/New_York:20260206T163000
DTSTAMP:20260425T103238
CREATED:20250821T153609Z
LAST-MODIFIED:20260325T212449Z
UID:10004693-1770391800-1770395400@hilllibrary.org
SUMMARY:Grade 5+ Games
DESCRIPTION:Join us for some fun games and snacks! All youth in grades 5 and up are welcome. No registration needed.
URL:https://hilllibrary.org/event/grade-5-games-2-3/2026-02-06/
LOCATION:Hill Library\, 1151 Parker Mountain Road\, Strafford\, NH\, 03884
CATEGORIES:Grades 5 and Up
ATTACH;FMTTYPE=image/png:https://hilllibrary.org/wp-content/uploads/2024/09/Grade-5-Games.png
ORGANIZER;CN="Hill Library":MAILTO:lmolloy@hilllibrary.org
END:VEVENT
BEGIN:VEVENT
DTSTART;TZID=America/New_York:20260206T170000
DTEND;TZID=America/New_York:20260206T183000
DTSTAMP:20260425T103238
CREATED:20250917T194108Z
LAST-MODIFIED:20260126T161741Z
UID:10004959-1770397200-1770402600@hilllibrary.org
SUMMARY:Pokemon Club
DESCRIPTION:Join us to play and trade with friends! All ages welcome\, no registration needed.
URL:https://hilllibrary.org/event/pokemon-club-2-6/
LOCATION:Hill Library\, 1151 Parker Mountain Road\, Strafford\, NH\, 03884
CATEGORIES:Grades 5 and Up,K-4 Programs
ATTACH;FMTTYPE=image/png:https://hilllibrary.org/wp-content/uploads/2026/01/Copy-of-Pokemon-Club.png
ORGANIZER;CN="Hill Library":MAILTO:lmolloy@hilllibrary.org
END:VEVENT
BEGIN:VEVENT
DTSTART;TZID=America/New_York:20260213T153000
DTEND;TZID=America/New_York:20260213T163000
DTSTAMP:20260425T103238
CREATED:20250821T153609Z
LAST-MODIFIED:20260325T212449Z
UID:10004694-1770996600-1771000200@hilllibrary.org
SUMMARY:Grade 5+ Games
DESCRIPTION:Join us for some fun games and snacks! All youth in grades 5 and up are welcome. No registration needed.
URL:https://hilllibrary.org/event/grade-5-games-2-3/2026-02-13/
LOCATION:Hill Library\, 1151 Parker Mountain Road\, Strafford\, NH\, 03884
CATEGORIES:Grades 5 and Up
ATTACH;FMTTYPE=image/png:https://hilllibrary.org/wp-content/uploads/2024/09/Grade-5-Games.png
ORGANIZER;CN="Hill Library":MAILTO:lmolloy@hilllibrary.org
END:VEVENT
END:VCALENDAR