BEGIN:VCALENDAR
VERSION:2.0
PRODID:-//Hill Library, Strafford, NH - ECPv6.15.20//NONSGML v1.0//EN
CALSCALE:GREGORIAN
METHOD:PUBLISH
X-WR-CALNAME:Hill Library, Strafford, NH
X-ORIGINAL-URL:https://hilllibrary.org
X-WR-CALDESC:Events for Hill Library, Strafford, NH
REFRESH-INTERVAL;VALUE=DURATION:PT1H
X-Robots-Tag:noindex
X-PUBLISHED-TTL:PT1H
BEGIN:VTIMEZONE
TZID:America/New_York
BEGIN:DAYLIGHT
TZOFFSETFROM:-0500
TZOFFSETTO:-0400
TZNAME:EDT
DTSTART:20290311T070000
END:DAYLIGHT
BEGIN:STANDARD
TZOFFSETFROM:-0400
TZOFFSETTO:-0500
TZNAME:EST
DTSTART:20291104T060000
END:STANDARD
BEGIN:DAYLIGHT
TZOFFSETFROM:-0500
TZOFFSETTO:-0400
TZNAME:EDT
DTSTART:20300310T070000
END:DAYLIGHT
BEGIN:STANDARD
TZOFFSETFROM:-0400
TZOFFSETTO:-0500
TZNAME:EST
DTSTART:20301103T060000
END:STANDARD
BEGIN:DAYLIGHT
TZOFFSETFROM:-0500
TZOFFSETTO:-0400
TZNAME:EDT
DTSTART:20310309T070000
END:DAYLIGHT
BEGIN:STANDARD
TZOFFSETFROM:-0400
TZOFFSETTO:-0500
TZNAME:EST
DTSTART:20311102T060000
END:STANDARD
BEGIN:DAYLIGHT
TZOFFSETFROM:-0500
TZOFFSETTO:-0400
TZNAME:EDT
DTSTART:20320314T070000
END:DAYLIGHT
BEGIN:STANDARD
TZOFFSETFROM:-0400
TZOFFSETTO:-0500
TZNAME:EST
DTSTART:20321107T060000
END:STANDARD
END:VTIMEZONE
BEGIN:VEVENT
DTSTART;TZID=America/New_York:20300404T183000
DTEND;TZID=America/New_York:20300404T193000
DTSTAMP:20260425T105135
CREATED:20240916T172355Z
LAST-MODIFIED:20260326T143759Z
UID:10003903-1901557800-1901561400@hilllibrary.org
SUMMARY:Hill Library Book Club
DESCRIPTION:
URL:https://hilllibrary.org/event/hill-library-book-club/2030-04-04/
LOCATION:Hill Library\, 1151 Parker Mountain Road\, Strafford\, NH\, 03884
CATEGORIES:Book Clubs
ATTACH;FMTTYPE=image/png:https://hilllibrary.org/wp-content/uploads/2023/07/book-club-1080-×-400-px-1.png
ORGANIZER;CN="Hill Library":MAILTO:lmolloy@hilllibrary.org
END:VEVENT
BEGIN:VEVENT
DTSTART;TZID=America/New_York:20300409T180000
DTEND;TZID=America/New_York:20300409T190000
DTSTAMP:20260425T105135
CREATED:20240916T173137Z
LAST-MODIFIED:20251020T182354Z
UID:10005445-1901988000-1901991600@hilllibrary.org
SUMMARY:Usual Suspects Thriller Book Club
DESCRIPTION:
URL:https://hilllibrary.org/event/usual-suspects-thriller-book-club/2030-04-09/
LOCATION:Hill Library\, 1151 Parker Mountain Road\, Strafford\, NH\, 03884
CATEGORIES:Book Clubs
ATTACH;FMTTYPE=image/png:https://hilllibrary.org/wp-content/uploads/2024/09/Copy-of-Copy-of-The-Ususal-Suspect-May.png
ORGANIZER;CN="Hill Library":MAILTO:lmolloy@hilllibrary.org
END:VEVENT
BEGIN:VEVENT
DTSTART;TZID=America/New_York:20300502T183000
DTEND;TZID=America/New_York:20300502T193000
DTSTAMP:20260425T105135
CREATED:20240916T172355Z
LAST-MODIFIED:20260326T143759Z
UID:10003965-1903977000-1903980600@hilllibrary.org
SUMMARY:Hill Library Book Club
DESCRIPTION:
URL:https://hilllibrary.org/event/hill-library-book-club/2030-05-02/
LOCATION:Hill Library\, 1151 Parker Mountain Road\, Strafford\, NH\, 03884
CATEGORIES:Book Clubs
ATTACH;FMTTYPE=image/png:https://hilllibrary.org/wp-content/uploads/2023/07/book-club-1080-×-400-px-1.png
ORGANIZER;CN="Hill Library":MAILTO:lmolloy@hilllibrary.org
END:VEVENT
BEGIN:VEVENT
DTSTART;TZID=America/New_York:20300514T180000
DTEND;TZID=America/New_York:20300514T190000
DTSTAMP:20260425T105135
CREATED:20240916T173137Z
LAST-MODIFIED:20251020T182354Z
UID:10005446-1905012000-1905015600@hilllibrary.org
SUMMARY:Usual Suspects Thriller Book Club
DESCRIPTION:
URL:https://hilllibrary.org/event/usual-suspects-thriller-book-club/2030-05-14/
LOCATION:Hill Library\, 1151 Parker Mountain Road\, Strafford\, NH\, 03884
CATEGORIES:Book Clubs
ATTACH;FMTTYPE=image/png:https://hilllibrary.org/wp-content/uploads/2024/09/Copy-of-Copy-of-The-Ususal-Suspect-May.png
ORGANIZER;CN="Hill Library":MAILTO:lmolloy@hilllibrary.org
END:VEVENT
BEGIN:VEVENT
DTSTART;TZID=America/New_York:20300606T183000
DTEND;TZID=America/New_York:20300606T193000
DTSTAMP:20260425T105135
CREATED:20240916T172355Z
LAST-MODIFIED:20260326T143759Z
UID:10003966-1907001000-1907004600@hilllibrary.org
SUMMARY:Hill Library Book Club
DESCRIPTION:
URL:https://hilllibrary.org/event/hill-library-book-club/2030-06-06/
LOCATION:Hill Library\, 1151 Parker Mountain Road\, Strafford\, NH\, 03884
CATEGORIES:Book Clubs
ATTACH;FMTTYPE=image/png:https://hilllibrary.org/wp-content/uploads/2023/07/book-club-1080-×-400-px-1.png
ORGANIZER;CN="Hill Library":MAILTO:lmolloy@hilllibrary.org
END:VEVENT
BEGIN:VEVENT
DTSTART;TZID=America/New_York:20300611T180000
DTEND;TZID=America/New_York:20300611T190000
DTSTAMP:20260425T105135
CREATED:20240916T173137Z
LAST-MODIFIED:20251020T182354Z
UID:10005447-1907431200-1907434800@hilllibrary.org
SUMMARY:Usual Suspects Thriller Book Club
DESCRIPTION:
URL:https://hilllibrary.org/event/usual-suspects-thriller-book-club/2030-06-11/
LOCATION:Hill Library\, 1151 Parker Mountain Road\, Strafford\, NH\, 03884
CATEGORIES:Book Clubs
ATTACH;FMTTYPE=image/png:https://hilllibrary.org/wp-content/uploads/2024/09/Copy-of-Copy-of-The-Ususal-Suspect-May.png
ORGANIZER;CN="Hill Library":MAILTO:lmolloy@hilllibrary.org
END:VEVENT
BEGIN:VEVENT
DTSTART;TZID=America/New_York:20300704T183000
DTEND;TZID=America/New_York:20300704T193000
DTSTAMP:20260425T105135
CREATED:20240916T172355Z
LAST-MODIFIED:20260326T143759Z
UID:10005832-1909420200-1909423800@hilllibrary.org
SUMMARY:Hill Library Book Club
DESCRIPTION:
URL:https://hilllibrary.org/event/hill-library-book-club/2030-07-04/
LOCATION:Hill Library\, 1151 Parker Mountain Road\, Strafford\, NH\, 03884
CATEGORIES:Book Clubs
ATTACH;FMTTYPE=image/png:https://hilllibrary.org/wp-content/uploads/2023/07/book-club-1080-×-400-px-1.png
ORGANIZER;CN="Hill Library":MAILTO:lmolloy@hilllibrary.org
END:VEVENT
BEGIN:VEVENT
DTSTART;TZID=America/New_York:20300709T180000
DTEND;TZID=America/New_York:20300709T190000
DTSTAMP:20260425T105135
CREATED:20240916T173137Z
LAST-MODIFIED:20251020T182354Z
UID:10005448-1909850400-1909854000@hilllibrary.org
SUMMARY:Usual Suspects Thriller Book Club
DESCRIPTION:
URL:https://hilllibrary.org/event/usual-suspects-thriller-book-club/2030-07-09/
LOCATION:Hill Library\, 1151 Parker Mountain Road\, Strafford\, NH\, 03884
CATEGORIES:Book Clubs
ATTACH;FMTTYPE=image/png:https://hilllibrary.org/wp-content/uploads/2024/09/Copy-of-Copy-of-The-Ususal-Suspect-May.png
ORGANIZER;CN="Hill Library":MAILTO:lmolloy@hilllibrary.org
END:VEVENT
BEGIN:VEVENT
DTSTART;TZID=America/New_York:20300801T183000
DTEND;TZID=America/New_York:20300801T193000
DTSTAMP:20260425T105135
CREATED:20240916T172355Z
LAST-MODIFIED:20260326T143759Z
UID:10005833-1911839400-1911843000@hilllibrary.org
SUMMARY:Hill Library Book Club
DESCRIPTION:
URL:https://hilllibrary.org/event/hill-library-book-club/2030-08-01/
LOCATION:Hill Library\, 1151 Parker Mountain Road\, Strafford\, NH\, 03884
CATEGORIES:Book Clubs
ATTACH;FMTTYPE=image/png:https://hilllibrary.org/wp-content/uploads/2023/07/book-club-1080-×-400-px-1.png
ORGANIZER;CN="Hill Library":MAILTO:lmolloy@hilllibrary.org
END:VEVENT
BEGIN:VEVENT
DTSTART;TZID=America/New_York:20300813T180000
DTEND;TZID=America/New_York:20300813T190000
DTSTAMP:20260425T105135
CREATED:20240916T173137Z
LAST-MODIFIED:20251020T182354Z
UID:10005449-1912874400-1912878000@hilllibrary.org
SUMMARY:Usual Suspects Thriller Book Club
DESCRIPTION:
URL:https://hilllibrary.org/event/usual-suspects-thriller-book-club/2030-08-13/
LOCATION:Hill Library\, 1151 Parker Mountain Road\, Strafford\, NH\, 03884
CATEGORIES:Book Clubs
ATTACH;FMTTYPE=image/png:https://hilllibrary.org/wp-content/uploads/2024/09/Copy-of-Copy-of-The-Ususal-Suspect-May.png
ORGANIZER;CN="Hill Library":MAILTO:lmolloy@hilllibrary.org
END:VEVENT
BEGIN:VEVENT
DTSTART;TZID=America/New_York:20300905T183000
DTEND;TZID=America/New_York:20300905T193000
DTSTAMP:20260425T105135
CREATED:20240916T172355Z
LAST-MODIFIED:20260326T143759Z
UID:10005834-1914863400-1914867000@hilllibrary.org
SUMMARY:Hill Library Book Club
DESCRIPTION:
URL:https://hilllibrary.org/event/hill-library-book-club/2030-09-05/
LOCATION:Hill Library\, 1151 Parker Mountain Road\, Strafford\, NH\, 03884
CATEGORIES:Book Clubs
ATTACH;FMTTYPE=image/png:https://hilllibrary.org/wp-content/uploads/2023/07/book-club-1080-×-400-px-1.png
ORGANIZER;CN="Hill Library":MAILTO:lmolloy@hilllibrary.org
END:VEVENT
BEGIN:VEVENT
DTSTART;TZID=America/New_York:20300910T180000
DTEND;TZID=America/New_York:20300910T190000
DTSTAMP:20260425T105135
CREATED:20240916T173137Z
LAST-MODIFIED:20251020T182354Z
UID:10005450-1915293600-1915297200@hilllibrary.org
SUMMARY:Usual Suspects Thriller Book Club
DESCRIPTION:
URL:https://hilllibrary.org/event/usual-suspects-thriller-book-club/2030-09-10/
LOCATION:Hill Library\, 1151 Parker Mountain Road\, Strafford\, NH\, 03884
CATEGORIES:Book Clubs
ATTACH;FMTTYPE=image/png:https://hilllibrary.org/wp-content/uploads/2024/09/Copy-of-Copy-of-The-Ususal-Suspect-May.png
ORGANIZER;CN="Hill Library":MAILTO:lmolloy@hilllibrary.org
END:VEVENT
BEGIN:VEVENT
DTSTART;TZID=America/New_York:20301003T183000
DTEND;TZID=America/New_York:20301003T193000
DTSTAMP:20260425T105135
CREATED:20240916T172355Z
LAST-MODIFIED:20260326T143759Z
UID:10005835-1917282600-1917286200@hilllibrary.org
SUMMARY:Hill Library Book Club
DESCRIPTION:
URL:https://hilllibrary.org/event/hill-library-book-club/2030-10-03/
LOCATION:Hill Library\, 1151 Parker Mountain Road\, Strafford\, NH\, 03884
CATEGORIES:Book Clubs
ATTACH;FMTTYPE=image/png:https://hilllibrary.org/wp-content/uploads/2023/07/book-club-1080-×-400-px-1.png
ORGANIZER;CN="Hill Library":MAILTO:lmolloy@hilllibrary.org
END:VEVENT
BEGIN:VEVENT
DTSTART;TZID=America/New_York:20301008T180000
DTEND;TZID=America/New_York:20301008T190000
DTSTAMP:20260425T105135
CREATED:20240916T173137Z
LAST-MODIFIED:20251020T182354Z
UID:10005451-1917712800-1917716400@hilllibrary.org
SUMMARY:Usual Suspects Thriller Book Club
DESCRIPTION:
URL:https://hilllibrary.org/event/usual-suspects-thriller-book-club/2030-10-08/
LOCATION:Hill Library\, 1151 Parker Mountain Road\, Strafford\, NH\, 03884
CATEGORIES:Book Clubs
ATTACH;FMTTYPE=image/png:https://hilllibrary.org/wp-content/uploads/2024/09/Copy-of-Copy-of-The-Ususal-Suspect-May.png
ORGANIZER;CN="Hill Library":MAILTO:lmolloy@hilllibrary.org
END:VEVENT
BEGIN:VEVENT
DTSTART;TZID=America/New_York:20301107T183000
DTEND;TZID=America/New_York:20301107T193000
DTSTAMP:20260425T105135
CREATED:20240916T172355Z
LAST-MODIFIED:20260326T143759Z
UID:10005836-1920306600-1920310200@hilllibrary.org
SUMMARY:Hill Library Book Club
DESCRIPTION:
URL:https://hilllibrary.org/event/hill-library-book-club/2030-11-07/
LOCATION:Hill Library\, 1151 Parker Mountain Road\, Strafford\, NH\, 03884
CATEGORIES:Book Clubs
ATTACH;FMTTYPE=image/png:https://hilllibrary.org/wp-content/uploads/2023/07/book-club-1080-×-400-px-1.png
ORGANIZER;CN="Hill Library":MAILTO:lmolloy@hilllibrary.org
END:VEVENT
BEGIN:VEVENT
DTSTART;TZID=America/New_York:20301205T183000
DTEND;TZID=America/New_York:20301205T193000
DTSTAMP:20260425T105135
CREATED:20240916T172355Z
LAST-MODIFIED:20260326T143759Z
UID:10006771-1922725800-1922729400@hilllibrary.org
SUMMARY:Hill Library Book Club
DESCRIPTION:
URL:https://hilllibrary.org/event/hill-library-book-club/2030-12-05/
LOCATION:Hill Library\, 1151 Parker Mountain Road\, Strafford\, NH\, 03884
CATEGORIES:Book Clubs
ATTACH;FMTTYPE=image/png:https://hilllibrary.org/wp-content/uploads/2023/07/book-club-1080-×-400-px-1.png
ORGANIZER;CN="Hill Library":MAILTO:lmolloy@hilllibrary.org
END:VEVENT
BEGIN:VEVENT
DTSTART;TZID=America/New_York:20310102T183000
DTEND;TZID=America/New_York:20310102T193000
DTSTAMP:20260425T105135
CREATED:20240916T172355Z
LAST-MODIFIED:20260326T143759Z
UID:10006772-1925145000-1925148600@hilllibrary.org
SUMMARY:Hill Library Book Club
DESCRIPTION:
URL:https://hilllibrary.org/event/hill-library-book-club/2031-01-02/
LOCATION:Hill Library\, 1151 Parker Mountain Road\, Strafford\, NH\, 03884
CATEGORIES:Book Clubs
ATTACH;FMTTYPE=image/png:https://hilllibrary.org/wp-content/uploads/2023/07/book-club-1080-×-400-px-1.png
ORGANIZER;CN="Hill Library":MAILTO:lmolloy@hilllibrary.org
END:VEVENT
BEGIN:VEVENT
DTSTART;TZID=America/New_York:20310206T183000
DTEND;TZID=America/New_York:20310206T193000
DTSTAMP:20260425T105135
CREATED:20240916T172355Z
LAST-MODIFIED:20260326T143759Z
UID:10006773-1928169000-1928172600@hilllibrary.org
SUMMARY:Hill Library Book Club
DESCRIPTION:
URL:https://hilllibrary.org/event/hill-library-book-club/2031-02-06/
LOCATION:Hill Library\, 1151 Parker Mountain Road\, Strafford\, NH\, 03884
CATEGORIES:Book Clubs
ATTACH;FMTTYPE=image/png:https://hilllibrary.org/wp-content/uploads/2023/07/book-club-1080-×-400-px-1.png
ORGANIZER;CN="Hill Library":MAILTO:lmolloy@hilllibrary.org
END:VEVENT
BEGIN:VEVENT
DTSTART;TZID=America/New_York:20310306T183000
DTEND;TZID=America/New_York:20310306T193000
DTSTAMP:20260425T105135
CREATED:20240916T172355Z
LAST-MODIFIED:20260326T143759Z
UID:10006774-1930588200-1930591800@hilllibrary.org
SUMMARY:Hill Library Book Club
DESCRIPTION:
URL:https://hilllibrary.org/event/hill-library-book-club/2031-03-06/
LOCATION:Hill Library\, 1151 Parker Mountain Road\, Strafford\, NH\, 03884
CATEGORIES:Book Clubs
ATTACH;FMTTYPE=image/png:https://hilllibrary.org/wp-content/uploads/2023/07/book-club-1080-×-400-px-1.png
ORGANIZER;CN="Hill Library":MAILTO:lmolloy@hilllibrary.org
END:VEVENT
END:VCALENDAR