BEGIN:VCALENDAR
VERSION:2.0
PRODID:-//Hill Library, Strafford, NH - ECPv6.15.20//NONSGML v1.0//EN
CALSCALE:GREGORIAN
METHOD:PUBLISH
X-ORIGINAL-URL:https://hilllibrary.org
X-WR-CALDESC:Events for Hill Library, Strafford, NH
REFRESH-INTERVAL;VALUE=DURATION:PT1H
X-Robots-Tag:noindex
X-PUBLISHED-TTL:PT1H
BEGIN:VTIMEZONE
TZID:America/New_York
BEGIN:DAYLIGHT
TZOFFSETFROM:-0500
TZOFFSETTO:-0400
TZNAME:EDT
DTSTART:20250309T070000
END:DAYLIGHT
BEGIN:STANDARD
TZOFFSETFROM:-0400
TZOFFSETTO:-0500
TZNAME:EST
DTSTART:20251102T060000
END:STANDARD
BEGIN:DAYLIGHT
TZOFFSETFROM:-0500
TZOFFSETTO:-0400
TZNAME:EDT
DTSTART:20260308T070000
END:DAYLIGHT
BEGIN:STANDARD
TZOFFSETFROM:-0400
TZOFFSETTO:-0500
TZNAME:EST
DTSTART:20261101T060000
END:STANDARD
BEGIN:DAYLIGHT
TZOFFSETFROM:-0500
TZOFFSETTO:-0400
TZNAME:EDT
DTSTART:20270314T070000
END:DAYLIGHT
BEGIN:STANDARD
TZOFFSETFROM:-0400
TZOFFSETTO:-0500
TZNAME:EST
DTSTART:20271107T060000
END:STANDARD
END:VTIMEZONE
BEGIN:VEVENT
DTSTART;TZID=America/New_York:20260504T100000
DTEND;TZID=America/New_York:20260504T103000
DTSTAMP:20260423T185653
CREATED:20240916T151257Z
LAST-MODIFIED:20260325T212321Z
UID:10000083-1777888800-1777890600@hilllibrary.org
SUMMARY:Story Time
DESCRIPTION:Join us at 10 am on Mondays for some songs\, stories\, and a craft! All ages welcome.
URL:https://hilllibrary.org/event/story-time/2026-05-04/
LOCATION:Hill Library\, 1151 Parker Mountain Road\, Strafford\, NH\, 03884
CATEGORIES:Ages 0-5
ATTACH;FMTTYPE=image/png:https://hilllibrary.org/wp-content/uploads/2024/04/Storytime.png
ORGANIZER;CN="Hill Library":MAILTO:lmolloy@hilllibrary.org
END:VEVENT
BEGIN:VEVENT
DTSTART;TZID=America/New_York:20260507T100000
DTEND;TZID=America/New_York:20260507T103000
DTSTAMP:20260423T185653
CREATED:20250915T173938Z
LAST-MODIFIED:20260218T171142Z
UID:10001706-1778148000-1778149800@hilllibrary.org
SUMMARY:Music and Movement
DESCRIPTION:Let’s move and groove with songs\, scarves\, egg shakers\, and our parachute! All ages welcome. Music and Movement meets on alternate Thursdays.
URL:https://hilllibrary.org/event/music-and-movement-2-4/2026-05-07/
LOCATION:Hill Library\, 1151 Parker Mountain Road\, Strafford\, NH\, 03884
CATEGORIES:Ages 0-5
ATTACH;FMTTYPE=image/png:https://hilllibrary.org/wp-content/uploads/2024/09/MM.png
ORGANIZER;CN="Hill Library":MAILTO:lmolloy@hilllibrary.org
END:VEVENT
BEGIN:VEVENT
DTSTART;TZID=America/New_York:20260507T100000
DTEND;TZID=America/New_York:20260507T110000
DTSTAMP:20260423T185653
CREATED:20260422T181655Z
LAST-MODIFIED:20260422T181752Z
UID:10006828-1778148000-1778151600@hilllibrary.org
SUMMARY:Story Time and Nature Play with Four Winds Nature Institute
DESCRIPTION:Four Winds Nature Institute is joining us for an outdoor story and nature play time about planting and flowers. All ages welcome\, no registration needed.
URL:https://hilllibrary.org/event/story-time-and-nature-play-with-four-winds-nature-institute-2/
LOCATION:Hill Library\, 1151 Parker Mountain Road\, Strafford\, NH\, 03884
CATEGORIES:Ages 0-5
ATTACH;FMTTYPE=image/jpeg:https://hilllibrary.org/wp-content/uploads/2026/04/Copy-of-Copy-of-Copy-of-Copy-of-Copy-of-Story-Time-and-Nature-Based-Play.jpg
ORGANIZER;CN="Hill Library":MAILTO:lmolloy@hilllibrary.org
END:VEVENT
END:VCALENDAR