BEGIN:VCALENDAR
VERSION:2.0
PRODID:-//Hill Library, Strafford, NH - ECPv6.15.20//NONSGML v1.0//EN
CALSCALE:GREGORIAN
METHOD:PUBLISH
X-ORIGINAL-URL:https://hilllibrary.org
X-WR-CALDESC:Events for Hill Library, Strafford, NH
REFRESH-INTERVAL;VALUE=DURATION:PT1H
X-Robots-Tag:noindex
X-PUBLISHED-TTL:PT1H
BEGIN:VTIMEZONE
TZID:America/New_York
BEGIN:DAYLIGHT
TZOFFSETFROM:-0500
TZOFFSETTO:-0400
TZNAME:EDT
DTSTART:20240310T070000
END:DAYLIGHT
BEGIN:STANDARD
TZOFFSETFROM:-0400
TZOFFSETTO:-0500
TZNAME:EST
DTSTART:20241103T060000
END:STANDARD
BEGIN:DAYLIGHT
TZOFFSETFROM:-0500
TZOFFSETTO:-0400
TZNAME:EDT
DTSTART:20250309T070000
END:DAYLIGHT
BEGIN:STANDARD
TZOFFSETFROM:-0400
TZOFFSETTO:-0500
TZNAME:EST
DTSTART:20251102T060000
END:STANDARD
BEGIN:DAYLIGHT
TZOFFSETFROM:-0500
TZOFFSETTO:-0400
TZNAME:EDT
DTSTART:20260308T070000
END:DAYLIGHT
BEGIN:STANDARD
TZOFFSETFROM:-0400
TZOFFSETTO:-0500
TZNAME:EST
DTSTART:20261101T060000
END:STANDARD
BEGIN:DAYLIGHT
TZOFFSETFROM:-0500
TZOFFSETTO:-0400
TZNAME:EDT
DTSTART:20270314T070000
END:DAYLIGHT
BEGIN:STANDARD
TZOFFSETFROM:-0400
TZOFFSETTO:-0500
TZNAME:EST
DTSTART:20271107T060000
END:STANDARD
END:VTIMEZONE
BEGIN:VEVENT
DTSTART;TZID=America/New_York:20251027T100000
DTEND;TZID=America/New_York:20251027T103000
DTSTAMP:20260425T103858
CREATED:20240916T151257Z
LAST-MODIFIED:20260325T212321Z
UID:10000056-1761559200-1761561000@hilllibrary.org
SUMMARY:Story Time
DESCRIPTION:Join us at 10 am on Mondays for some songs\, stories\, and a craft! All ages welcome.
URL:https://hilllibrary.org/event/story-time/2025-10-27/
LOCATION:Hill Library\, 1151 Parker Mountain Road\, Strafford\, NH\, 03884
CATEGORIES:Ages 0-5
ATTACH;FMTTYPE=image/png:https://hilllibrary.org/wp-content/uploads/2024/04/Storytime.png
ORGANIZER;CN="Hill Library":MAILTO:lmolloy@hilllibrary.org
END:VEVENT
BEGIN:VEVENT
DTSTART;TZID=America/New_York:20251030T100000
DTEND;TZID=America/New_York:20251030T110000
DTSTAMP:20260425T103858
CREATED:20250915T174457Z
LAST-MODIFIED:20260325T212358Z
UID:10004766-1761818400-1761822000@hilllibrary.org
SUMMARY:Sensory Playtime
DESCRIPTION:﻿Join us every other Thursday for some sensory play fun! We’ll have playdough\, kinetic sand\, pom-poms\, and all sorts of other rotating activities. Practice fine motor skills and explore the world!
URL:https://hilllibrary.org/event/sensory-playtime-2/2025-10-30/
LOCATION:Hill Library\, 1151 Parker Mountain Road\, Strafford\, NH\, 03884
CATEGORIES:Ages 0-5
ATTACH;FMTTYPE=image/jpeg:https://hilllibrary.org/wp-content/uploads/2025/09/Sensory-Playtime.jpg
ORGANIZER;CN="Hill Library":MAILTO:lmolloy@hilllibrary.org
END:VEVENT
BEGIN:VEVENT
DTSTART;TZID=America/New_York:20251103T100000
DTEND;TZID=America/New_York:20251103T103000
DTSTAMP:20260425T103858
CREATED:20240916T151257Z
LAST-MODIFIED:20260325T212321Z
UID:10000057-1762164000-1762165800@hilllibrary.org
SUMMARY:Story Time
DESCRIPTION:Join us at 10 am on Mondays for some songs\, stories\, and a craft! All ages welcome.
URL:https://hilllibrary.org/event/story-time/2025-11-03/
LOCATION:Hill Library\, 1151 Parker Mountain Road\, Strafford\, NH\, 03884
CATEGORIES:Ages 0-5
ATTACH;FMTTYPE=image/png:https://hilllibrary.org/wp-content/uploads/2024/04/Storytime.png
ORGANIZER;CN="Hill Library":MAILTO:lmolloy@hilllibrary.org
END:VEVENT
BEGIN:VEVENT
DTSTART;TZID=America/New_York:20251106T100000
DTEND;TZID=America/New_York:20251106T103000
DTSTAMP:20260425T103858
CREATED:20250915T173938Z
LAST-MODIFIED:20260218T171142Z
UID:10001680-1762423200-1762425000@hilllibrary.org
SUMMARY:Music and Movement
DESCRIPTION:Let’s move and groove with songs\, scarves\, egg shakers\, and our parachute! All ages welcome. Music and Movement meets on alternate Thursdays.
URL:https://hilllibrary.org/event/music-and-movement-2-4/2025-11-06/
LOCATION:Hill Library\, 1151 Parker Mountain Road\, Strafford\, NH\, 03884
CATEGORIES:Ages 0-5
ATTACH;FMTTYPE=image/png:https://hilllibrary.org/wp-content/uploads/2024/09/MM.png
ORGANIZER;CN="Hill Library":MAILTO:lmolloy@hilllibrary.org
END:VEVENT
BEGIN:VEVENT
DTSTART;TZID=America/New_York:20251110T100000
DTEND;TZID=America/New_York:20251110T103000
DTSTAMP:20260425T103858
CREATED:20240916T151257Z
LAST-MODIFIED:20260325T212321Z
UID:10000058-1762768800-1762770600@hilllibrary.org
SUMMARY:Story Time
DESCRIPTION:Join us at 10 am on Mondays for some songs\, stories\, and a craft! All ages welcome.
URL:https://hilllibrary.org/event/story-time/2025-11-10/
LOCATION:Hill Library\, 1151 Parker Mountain Road\, Strafford\, NH\, 03884
CATEGORIES:Ages 0-5
ATTACH;FMTTYPE=image/png:https://hilllibrary.org/wp-content/uploads/2024/04/Storytime.png
ORGANIZER;CN="Hill Library":MAILTO:lmolloy@hilllibrary.org
END:VEVENT
BEGIN:VEVENT
DTSTART;TZID=America/New_York:20251113T100000
DTEND;TZID=America/New_York:20251113T110000
DTSTAMP:20260425T103858
CREATED:20250915T174457Z
LAST-MODIFIED:20260325T212358Z
UID:10004767-1763028000-1763031600@hilllibrary.org
SUMMARY:Sensory Playtime
DESCRIPTION:﻿Join us every other Thursday for some sensory play fun! We’ll have playdough\, kinetic sand\, pom-poms\, and all sorts of other rotating activities. Practice fine motor skills and explore the world!
URL:https://hilllibrary.org/event/sensory-playtime-2/2025-11-13/
LOCATION:Hill Library\, 1151 Parker Mountain Road\, Strafford\, NH\, 03884
CATEGORIES:Ages 0-5
ATTACH;FMTTYPE=image/jpeg:https://hilllibrary.org/wp-content/uploads/2025/09/Sensory-Playtime.jpg
ORGANIZER;CN="Hill Library":MAILTO:lmolloy@hilllibrary.org
END:VEVENT
BEGIN:VEVENT
DTSTART;TZID=America/New_York:20251117T100000
DTEND;TZID=America/New_York:20251117T103000
DTSTAMP:20260425T103858
CREATED:20240916T151257Z
LAST-MODIFIED:20260325T212321Z
UID:10000059-1763373600-1763375400@hilllibrary.org
SUMMARY:Story Time
DESCRIPTION:Join us at 10 am on Mondays for some songs\, stories\, and a craft! All ages welcome.
URL:https://hilllibrary.org/event/story-time/2025-11-17/
LOCATION:Hill Library\, 1151 Parker Mountain Road\, Strafford\, NH\, 03884
CATEGORIES:Ages 0-5
ATTACH;FMTTYPE=image/png:https://hilllibrary.org/wp-content/uploads/2024/04/Storytime.png
ORGANIZER;CN="Hill Library":MAILTO:lmolloy@hilllibrary.org
END:VEVENT
BEGIN:VEVENT
DTSTART;TZID=America/New_York:20251120T100000
DTEND;TZID=America/New_York:20251120T103000
DTSTAMP:20260425T103858
CREATED:20250915T173938Z
LAST-MODIFIED:20260218T171142Z
UID:10001682-1763632800-1763634600@hilllibrary.org
SUMMARY:Music and Movement
DESCRIPTION:Let’s move and groove with songs\, scarves\, egg shakers\, and our parachute! All ages welcome. Music and Movement meets on alternate Thursdays.
URL:https://hilllibrary.org/event/music-and-movement-2-4/2025-11-20/
LOCATION:Hill Library\, 1151 Parker Mountain Road\, Strafford\, NH\, 03884
CATEGORIES:Ages 0-5
ATTACH;FMTTYPE=image/png:https://hilllibrary.org/wp-content/uploads/2024/09/MM.png
ORGANIZER;CN="Hill Library":MAILTO:lmolloy@hilllibrary.org
END:VEVENT
BEGIN:VEVENT
DTSTART;TZID=America/New_York:20251124T100000
DTEND;TZID=America/New_York:20251124T103000
DTSTAMP:20260425T103858
CREATED:20240916T151257Z
LAST-MODIFIED:20260325T212321Z
UID:10000060-1763978400-1763980200@hilllibrary.org
SUMMARY:Story Time
DESCRIPTION:Join us at 10 am on Mondays for some songs\, stories\, and a craft! All ages welcome.
URL:https://hilllibrary.org/event/story-time/2025-11-24/
LOCATION:Hill Library\, 1151 Parker Mountain Road\, Strafford\, NH\, 03884
CATEGORIES:Ages 0-5
ATTACH;FMTTYPE=image/png:https://hilllibrary.org/wp-content/uploads/2024/04/Storytime.png
ORGANIZER;CN="Hill Library":MAILTO:lmolloy@hilllibrary.org
END:VEVENT
BEGIN:VEVENT
DTSTART;TZID=America/New_York:20251201T100000
DTEND;TZID=America/New_York:20251201T103000
DTSTAMP:20260425T103858
CREATED:20240916T151257Z
LAST-MODIFIED:20260325T212321Z
UID:10000061-1764583200-1764585000@hilllibrary.org
SUMMARY:Story Time
DESCRIPTION:Join us at 10 am on Mondays for some songs\, stories\, and a craft! All ages welcome.
URL:https://hilllibrary.org/event/story-time/2025-12-01/
LOCATION:Hill Library\, 1151 Parker Mountain Road\, Strafford\, NH\, 03884
CATEGORIES:Ages 0-5
ATTACH;FMTTYPE=image/png:https://hilllibrary.org/wp-content/uploads/2024/04/Storytime.png
ORGANIZER;CN="Hill Library":MAILTO:lmolloy@hilllibrary.org
END:VEVENT
BEGIN:VEVENT
DTSTART;TZID=America/New_York:20251204T100000
DTEND;TZID=America/New_York:20251204T103000
DTSTAMP:20260425T103858
CREATED:20250915T173938Z
LAST-MODIFIED:20260218T171142Z
UID:10001684-1764842400-1764844200@hilllibrary.org
SUMMARY:Music and Movement
DESCRIPTION:Let’s move and groove with songs\, scarves\, egg shakers\, and our parachute! All ages welcome. Music and Movement meets on alternate Thursdays.
URL:https://hilllibrary.org/event/music-and-movement-2-4/2025-12-04/
LOCATION:Hill Library\, 1151 Parker Mountain Road\, Strafford\, NH\, 03884
CATEGORIES:Ages 0-5
ATTACH;FMTTYPE=image/png:https://hilllibrary.org/wp-content/uploads/2024/09/MM.png
ORGANIZER;CN="Hill Library":MAILTO:lmolloy@hilllibrary.org
END:VEVENT
BEGIN:VEVENT
DTSTART;TZID=America/New_York:20251208T100000
DTEND;TZID=America/New_York:20251208T103000
DTSTAMP:20260425T103858
CREATED:20240916T151257Z
LAST-MODIFIED:20260325T212321Z
UID:10000062-1765188000-1765189800@hilllibrary.org
SUMMARY:Story Time
DESCRIPTION:Join us at 10 am on Mondays for some songs\, stories\, and a craft! All ages welcome.
URL:https://hilllibrary.org/event/story-time/2025-12-08/
LOCATION:Hill Library\, 1151 Parker Mountain Road\, Strafford\, NH\, 03884
CATEGORIES:Ages 0-5
ATTACH;FMTTYPE=image/png:https://hilllibrary.org/wp-content/uploads/2024/04/Storytime.png
ORGANIZER;CN="Hill Library":MAILTO:lmolloy@hilllibrary.org
END:VEVENT
BEGIN:VEVENT
DTSTART;TZID=America/New_York:20251211T100000
DTEND;TZID=America/New_York:20251211T110000
DTSTAMP:20260425T103858
CREATED:20250915T174457Z
LAST-MODIFIED:20260325T212358Z
UID:10004768-1765447200-1765450800@hilllibrary.org
SUMMARY:Sensory Playtime
DESCRIPTION:﻿Join us every other Thursday for some sensory play fun! We’ll have playdough\, kinetic sand\, pom-poms\, and all sorts of other rotating activities. Practice fine motor skills and explore the world!
URL:https://hilllibrary.org/event/sensory-playtime-2/2025-12-11/
LOCATION:Hill Library\, 1151 Parker Mountain Road\, Strafford\, NH\, 03884
CATEGORIES:Ages 0-5
ATTACH;FMTTYPE=image/jpeg:https://hilllibrary.org/wp-content/uploads/2025/09/Sensory-Playtime.jpg
ORGANIZER;CN="Hill Library":MAILTO:lmolloy@hilllibrary.org
END:VEVENT
BEGIN:VEVENT
DTSTART;TZID=America/New_York:20251215T100000
DTEND;TZID=America/New_York:20251215T103000
DTSTAMP:20260425T103858
CREATED:20240916T151257Z
LAST-MODIFIED:20260325T212321Z
UID:10000063-1765792800-1765794600@hilllibrary.org
SUMMARY:Story Time
DESCRIPTION:Join us at 10 am on Mondays for some songs\, stories\, and a craft! All ages welcome.
URL:https://hilllibrary.org/event/story-time/2025-12-15/
LOCATION:Hill Library\, 1151 Parker Mountain Road\, Strafford\, NH\, 03884
CATEGORIES:Ages 0-5
ATTACH;FMTTYPE=image/png:https://hilllibrary.org/wp-content/uploads/2024/04/Storytime.png
ORGANIZER;CN="Hill Library":MAILTO:lmolloy@hilllibrary.org
END:VEVENT
BEGIN:VEVENT
DTSTART;TZID=America/New_York:20251218T100000
DTEND;TZID=America/New_York:20251218T103000
DTSTAMP:20260425T103858
CREATED:20250915T173938Z
LAST-MODIFIED:20260218T171142Z
UID:10001686-1766052000-1766053800@hilllibrary.org
SUMMARY:Music and Movement
DESCRIPTION:Let’s move and groove with songs\, scarves\, egg shakers\, and our parachute! All ages welcome. Music and Movement meets on alternate Thursdays.
URL:https://hilllibrary.org/event/music-and-movement-2-4/2025-12-18/
LOCATION:Hill Library\, 1151 Parker Mountain Road\, Strafford\, NH\, 03884
CATEGORIES:Ages 0-5
ATTACH;FMTTYPE=image/png:https://hilllibrary.org/wp-content/uploads/2024/09/MM.png
ORGANIZER;CN="Hill Library":MAILTO:lmolloy@hilllibrary.org
END:VEVENT
BEGIN:VEVENT
DTSTART;TZID=America/New_York:20251231T113000
DTEND;TZID=America/New_York:20251231T123000
DTSTAMP:20260425T103858
CREATED:20251202T150045Z
LAST-MODIFIED:20251202T150045Z
UID:10005821-1767180600-1767184200@hilllibrary.org
SUMMARY:Noon Year's Eve
DESCRIPTION:Ring in the New Year at a kid friendly time with fun games\, crafts and a special countdown to noon!
URL:https://hilllibrary.org/event/noon-years-eve/
LOCATION:Hill Library\, 1151 Parker Mountain Road\, Strafford\, NH\, 03884
CATEGORIES:Ages 0-5,K-4 Programs
ATTACH;FMTTYPE=image/png:https://hilllibrary.org/wp-content/uploads/2025/12/Noon-Years-Eve-1.png
ORGANIZER;CN="Hill Library":MAILTO:lmolloy@hilllibrary.org
END:VEVENT
BEGIN:VEVENT
DTSTART;TZID=America/New_York:20260105T100000
DTEND;TZID=America/New_York:20260105T103000
DTSTAMP:20260425T103858
CREATED:20240916T151257Z
LAST-MODIFIED:20260325T212321Z
UID:10000066-1767607200-1767609000@hilllibrary.org
SUMMARY:Story Time
DESCRIPTION:Join us at 10 am on Mondays for some songs\, stories\, and a craft! All ages welcome.
URL:https://hilllibrary.org/event/story-time/2026-01-05/
LOCATION:Hill Library\, 1151 Parker Mountain Road\, Strafford\, NH\, 03884
CATEGORIES:Ages 0-5
ATTACH;FMTTYPE=image/png:https://hilllibrary.org/wp-content/uploads/2024/04/Storytime.png
ORGANIZER;CN="Hill Library":MAILTO:lmolloy@hilllibrary.org
END:VEVENT
BEGIN:VEVENT
DTSTART;TZID=America/New_York:20260108T100000
DTEND;TZID=America/New_York:20260108T110000
DTSTAMP:20260425T103858
CREATED:20251222T193726Z
LAST-MODIFIED:20251222T193726Z
UID:10006385-1767866400-1767870000@hilllibrary.org
SUMMARY:Story Time and Nature Play with Four Winds Nature Institute
DESCRIPTION:Join Four Winds Nature Institute for another nature based play session! Stop by to play with ice gems and sip hot cocoa! All ages welcome\, no registration needed.
URL:https://hilllibrary.org/event/story-time-and-nature-play-with-four-winds-nature-institute/
LOCATION:Hill Library\, 1151 Parker Mountain Road\, Strafford\, NH\, 03884
CATEGORIES:Ages 0-5
ATTACH;FMTTYPE=image/png:https://hilllibrary.org/wp-content/uploads/2025/12/Story-Time-and-Nature-Based-Play.png
ORGANIZER;CN="Hill Library":MAILTO:lmolloy@hilllibrary.org
END:VEVENT
BEGIN:VEVENT
DTSTART;TZID=America/New_York:20260112T100000
DTEND;TZID=America/New_York:20260112T103000
DTSTAMP:20260425T103858
CREATED:20240916T151257Z
LAST-MODIFIED:20260325T212321Z
UID:10000067-1768212000-1768213800@hilllibrary.org
SUMMARY:Story Time
DESCRIPTION:Join us at 10 am on Mondays for some songs\, stories\, and a craft! All ages welcome.
URL:https://hilllibrary.org/event/story-time/2026-01-12/
LOCATION:Hill Library\, 1151 Parker Mountain Road\, Strafford\, NH\, 03884
CATEGORIES:Ages 0-5
ATTACH;FMTTYPE=image/png:https://hilllibrary.org/wp-content/uploads/2024/04/Storytime.png
ORGANIZER;CN="Hill Library":MAILTO:lmolloy@hilllibrary.org
END:VEVENT
BEGIN:VEVENT
DTSTART;TZID=America/New_York:20260115T100000
DTEND;TZID=America/New_York:20260115T103000
DTSTAMP:20260425T103858
CREATED:20250915T173938Z
LAST-MODIFIED:20260218T171142Z
UID:10001690-1768471200-1768473000@hilllibrary.org
SUMMARY:Music and Movement
DESCRIPTION:Let’s move and groove with songs\, scarves\, egg shakers\, and our parachute! All ages welcome. Music and Movement meets on alternate Thursdays.
URL:https://hilllibrary.org/event/music-and-movement-2-4/2026-01-15/
LOCATION:Hill Library\, 1151 Parker Mountain Road\, Strafford\, NH\, 03884
CATEGORIES:Ages 0-5
ATTACH;FMTTYPE=image/png:https://hilllibrary.org/wp-content/uploads/2024/09/MM.png
ORGANIZER;CN="Hill Library":MAILTO:lmolloy@hilllibrary.org
END:VEVENT
BEGIN:VEVENT
DTSTART;TZID=America/New_York:20260122T100000
DTEND;TZID=America/New_York:20260122T110000
DTSTAMP:20260425T103858
CREATED:20250915T174457Z
LAST-MODIFIED:20260325T212358Z
UID:10004770-1769076000-1769079600@hilllibrary.org
SUMMARY:Sensory Playtime
DESCRIPTION:﻿Join us every other Thursday for some sensory play fun! We’ll have playdough\, kinetic sand\, pom-poms\, and all sorts of other rotating activities. Practice fine motor skills and explore the world!
URL:https://hilllibrary.org/event/sensory-playtime-2/2026-01-22/
LOCATION:Hill Library\, 1151 Parker Mountain Road\, Strafford\, NH\, 03884
CATEGORIES:Ages 0-5
ATTACH;FMTTYPE=image/jpeg:https://hilllibrary.org/wp-content/uploads/2025/09/Sensory-Playtime.jpg
ORGANIZER;CN="Hill Library":MAILTO:lmolloy@hilllibrary.org
END:VEVENT
BEGIN:VEVENT
DTSTART;TZID=America/New_York:20260129T100000
DTEND;TZID=America/New_York:20260129T103000
DTSTAMP:20260425T103858
CREATED:20250915T173938Z
LAST-MODIFIED:20260218T171142Z
UID:10001692-1769680800-1769682600@hilllibrary.org
SUMMARY:Music and Movement
DESCRIPTION:Let’s move and groove with songs\, scarves\, egg shakers\, and our parachute! All ages welcome. Music and Movement meets on alternate Thursdays.
URL:https://hilllibrary.org/event/music-and-movement-2-4/2026-01-29/
LOCATION:Hill Library\, 1151 Parker Mountain Road\, Strafford\, NH\, 03884
CATEGORIES:Ages 0-5
ATTACH;FMTTYPE=image/png:https://hilllibrary.org/wp-content/uploads/2024/09/MM.png
ORGANIZER;CN="Hill Library":MAILTO:lmolloy@hilllibrary.org
END:VEVENT
BEGIN:VEVENT
DTSTART;TZID=America/New_York:20260202T100000
DTEND;TZID=America/New_York:20260202T103000
DTSTAMP:20260425T103858
CREATED:20240916T151257Z
LAST-MODIFIED:20260325T212321Z
UID:10000070-1770026400-1770028200@hilllibrary.org
SUMMARY:Story Time
DESCRIPTION:Join us at 10 am on Mondays for some songs\, stories\, and a craft! All ages welcome.
URL:https://hilllibrary.org/event/story-time/2026-02-02/
LOCATION:Hill Library\, 1151 Parker Mountain Road\, Strafford\, NH\, 03884
CATEGORIES:Ages 0-5
ATTACH;FMTTYPE=image/png:https://hilllibrary.org/wp-content/uploads/2024/04/Storytime.png
ORGANIZER;CN="Hill Library":MAILTO:lmolloy@hilllibrary.org
END:VEVENT
BEGIN:VEVENT
DTSTART;TZID=America/New_York:20260205T100000
DTEND;TZID=America/New_York:20260205T110000
DTSTAMP:20260425T103858
CREATED:20250915T174457Z
LAST-MODIFIED:20260325T212358Z
UID:10004771-1770285600-1770289200@hilllibrary.org
SUMMARY:Sensory Playtime
DESCRIPTION:﻿Join us every other Thursday for some sensory play fun! We’ll have playdough\, kinetic sand\, pom-poms\, and all sorts of other rotating activities. Practice fine motor skills and explore the world!
URL:https://hilllibrary.org/event/sensory-playtime-2/2026-02-05/
LOCATION:Hill Library\, 1151 Parker Mountain Road\, Strafford\, NH\, 03884
CATEGORIES:Ages 0-5
ATTACH;FMTTYPE=image/jpeg:https://hilllibrary.org/wp-content/uploads/2025/09/Sensory-Playtime.jpg
ORGANIZER;CN="Hill Library":MAILTO:lmolloy@hilllibrary.org
END:VEVENT
BEGIN:VEVENT
DTSTART;TZID=America/New_York:20260209T100000
DTEND;TZID=America/New_York:20260209T103000
DTSTAMP:20260425T103858
CREATED:20240916T151257Z
LAST-MODIFIED:20260325T212321Z
UID:10000071-1770631200-1770633000@hilllibrary.org
SUMMARY:Story Time
DESCRIPTION:Join us at 10 am on Mondays for some songs\, stories\, and a craft! All ages welcome.
URL:https://hilllibrary.org/event/story-time/2026-02-09/
LOCATION:Hill Library\, 1151 Parker Mountain Road\, Strafford\, NH\, 03884
CATEGORIES:Ages 0-5
ATTACH;FMTTYPE=image/png:https://hilllibrary.org/wp-content/uploads/2024/04/Storytime.png
ORGANIZER;CN="Hill Library":MAILTO:lmolloy@hilllibrary.org
END:VEVENT
BEGIN:VEVENT
DTSTART;TZID=America/New_York:20260212T100000
DTEND;TZID=America/New_York:20260212T103000
DTSTAMP:20260425T103858
CREATED:20250915T173938Z
LAST-MODIFIED:20260218T171142Z
UID:10001694-1770890400-1770892200@hilllibrary.org
SUMMARY:Music and Movement
DESCRIPTION:Let’s move and groove with songs\, scarves\, egg shakers\, and our parachute! All ages welcome. Music and Movement meets on alternate Thursdays.
URL:https://hilllibrary.org/event/music-and-movement-2-4/2026-02-12/
LOCATION:Hill Library\, 1151 Parker Mountain Road\, Strafford\, NH\, 03884
CATEGORIES:Ages 0-5
ATTACH;FMTTYPE=image/png:https://hilllibrary.org/wp-content/uploads/2024/09/MM.png
ORGANIZER;CN="Hill Library":MAILTO:lmolloy@hilllibrary.org
END:VEVENT
BEGIN:VEVENT
DTSTART;TZID=America/New_York:20260219T100000
DTEND;TZID=America/New_York:20260219T110000
DTSTAMP:20260425T103858
CREATED:20250915T174457Z
LAST-MODIFIED:20260325T212358Z
UID:10004772-1771495200-1771498800@hilllibrary.org
SUMMARY:Sensory Playtime
DESCRIPTION:﻿Join us every other Thursday for some sensory play fun! We’ll have playdough\, kinetic sand\, pom-poms\, and all sorts of other rotating activities. Practice fine motor skills and explore the world!
URL:https://hilllibrary.org/event/sensory-playtime-2/2026-02-19/
LOCATION:Hill Library\, 1151 Parker Mountain Road\, Strafford\, NH\, 03884
CATEGORIES:Ages 0-5
ATTACH;FMTTYPE=image/jpeg:https://hilllibrary.org/wp-content/uploads/2025/09/Sensory-Playtime.jpg
ORGANIZER;CN="Hill Library":MAILTO:lmolloy@hilllibrary.org
END:VEVENT
BEGIN:VEVENT
DTSTART;TZID=America/New_York:20260302T100000
DTEND;TZID=America/New_York:20260302T103000
DTSTAMP:20260425T103858
CREATED:20240916T151257Z
LAST-MODIFIED:20260325T212321Z
UID:10000074-1772445600-1772447400@hilllibrary.org
SUMMARY:Story Time
DESCRIPTION:Join us at 10 am on Mondays for some songs\, stories\, and a craft! All ages welcome.
URL:https://hilllibrary.org/event/story-time/2026-03-02/
LOCATION:Hill Library\, 1151 Parker Mountain Road\, Strafford\, NH\, 03884
CATEGORIES:Ages 0-5
ATTACH;FMTTYPE=image/png:https://hilllibrary.org/wp-content/uploads/2024/04/Storytime.png
ORGANIZER;CN="Hill Library":MAILTO:lmolloy@hilllibrary.org
END:VEVENT
BEGIN:VEVENT
DTSTART;TZID=America/New_York:20260305T100000
DTEND;TZID=America/New_York:20260305T110000
DTSTAMP:20260425T103858
CREATED:20250915T174457Z
LAST-MODIFIED:20260325T212358Z
UID:10004773-1772704800-1772708400@hilllibrary.org
SUMMARY:Sensory Playtime
DESCRIPTION:﻿Join us every other Thursday for some sensory play fun! We’ll have playdough\, kinetic sand\, pom-poms\, and all sorts of other rotating activities. Practice fine motor skills and explore the world!
URL:https://hilllibrary.org/event/sensory-playtime-2/2026-03-05/
LOCATION:Hill Library\, 1151 Parker Mountain Road\, Strafford\, NH\, 03884
CATEGORIES:Ages 0-5
ATTACH;FMTTYPE=image/jpeg:https://hilllibrary.org/wp-content/uploads/2025/09/Sensory-Playtime.jpg
ORGANIZER;CN="Hill Library":MAILTO:lmolloy@hilllibrary.org
END:VEVENT
BEGIN:VEVENT
DTSTART;TZID=America/New_York:20260309T100000
DTEND;TZID=America/New_York:20260309T103000
DTSTAMP:20260425T103858
CREATED:20240916T151257Z
LAST-MODIFIED:20260325T212321Z
UID:10000075-1773050400-1773052200@hilllibrary.org
SUMMARY:Story Time
DESCRIPTION:Join us at 10 am on Mondays for some songs\, stories\, and a craft! All ages welcome.
URL:https://hilllibrary.org/event/story-time/2026-03-09/
LOCATION:Hill Library\, 1151 Parker Mountain Road\, Strafford\, NH\, 03884
CATEGORIES:Ages 0-5
ATTACH;FMTTYPE=image/png:https://hilllibrary.org/wp-content/uploads/2024/04/Storytime.png
ORGANIZER;CN="Hill Library":MAILTO:lmolloy@hilllibrary.org
END:VEVENT
END:VCALENDAR