BEGIN:VCALENDAR
VERSION:2.0
PRODID:-//Hill Library, Strafford, NH - ECPv6.15.20//NONSGML v1.0//EN
CALSCALE:GREGORIAN
METHOD:PUBLISH
X-WR-CALNAME:Hill Library, Strafford, NH
X-ORIGINAL-URL:https://hilllibrary.org
X-WR-CALDESC:Events for Hill Library, Strafford, NH
REFRESH-INTERVAL;VALUE=DURATION:PT1H
X-Robots-Tag:noindex
X-PUBLISHED-TTL:PT1H
BEGIN:VTIMEZONE
TZID:America/New_York
BEGIN:DAYLIGHT
TZOFFSETFROM:-0500
TZOFFSETTO:-0400
TZNAME:EDT
DTSTART:20260308T070000
END:DAYLIGHT
BEGIN:STANDARD
TZOFFSETFROM:-0400
TZOFFSETTO:-0500
TZNAME:EST
DTSTART:20261101T060000
END:STANDARD
BEGIN:DAYLIGHT
TZOFFSETFROM:-0500
TZOFFSETTO:-0400
TZNAME:EDT
DTSTART:20270314T070000
END:DAYLIGHT
BEGIN:STANDARD
TZOFFSETFROM:-0400
TZOFFSETTO:-0500
TZNAME:EST
DTSTART:20271107T060000
END:STANDARD
BEGIN:DAYLIGHT
TZOFFSETFROM:-0500
TZOFFSETTO:-0400
TZNAME:EDT
DTSTART:20280312T070000
END:DAYLIGHT
BEGIN:STANDARD
TZOFFSETFROM:-0400
TZOFFSETTO:-0500
TZNAME:EST
DTSTART:20281105T060000
END:STANDARD
END:VTIMEZONE
BEGIN:VEVENT
DTSTART;TZID=America/New_York:20270318T100000
DTEND;TZID=America/New_York:20270318T110000
DTSTAMP:20260424T120744
CREATED:20250915T174457Z
LAST-MODIFIED:20260325T212358Z
UID:10004800-1805364000-1805367600@hilllibrary.org
SUMMARY:Sensory Playtime
DESCRIPTION:﻿Join us every other Thursday for some sensory play fun! We’ll have playdough\, kinetic sand\, pom-poms\, and all sorts of other rotating activities. Practice fine motor skills and explore the world!
URL:https://hilllibrary.org/event/sensory-playtime-2/2027-03-18/
LOCATION:Hill Library\, 1151 Parker Mountain Road\, Strafford\, NH\, 03884
CATEGORIES:Ages 0-5
ATTACH;FMTTYPE=image/jpeg:https://hilllibrary.org/wp-content/uploads/2025/09/Sensory-Playtime.jpg
ORGANIZER;CN="Hill Library":MAILTO:lmolloy@hilllibrary.org
END:VEVENT
BEGIN:VEVENT
DTSTART;TZID=America/New_York:20270322T100000
DTEND;TZID=America/New_York:20270322T103000
DTSTAMP:20260424T120744
CREATED:20240916T151257Z
LAST-MODIFIED:20260325T212321Z
UID:10000129-1805709600-1805711400@hilllibrary.org
SUMMARY:Story Time
DESCRIPTION:Join us at 10 am on Mondays for some songs\, stories\, and a craft! All ages welcome.
URL:https://hilllibrary.org/event/story-time/2027-03-22/
LOCATION:Hill Library\, 1151 Parker Mountain Road\, Strafford\, NH\, 03884
CATEGORIES:Ages 0-5
ATTACH;FMTTYPE=image/png:https://hilllibrary.org/wp-content/uploads/2024/04/Storytime.png
ORGANIZER;CN="Hill Library":MAILTO:lmolloy@hilllibrary.org
END:VEVENT
BEGIN:VEVENT
DTSTART;TZID=America/New_York:20270325T100000
DTEND;TZID=America/New_York:20270325T103000
DTSTAMP:20260424T120744
CREATED:20250915T173938Z
LAST-MODIFIED:20260218T171142Z
UID:10001752-1805968800-1805970600@hilllibrary.org
SUMMARY:Music and Movement
DESCRIPTION:Let’s move and groove with songs\, scarves\, egg shakers\, and our parachute! All ages welcome. Music and Movement meets on alternate Thursdays.
URL:https://hilllibrary.org/event/music-and-movement-2-4/2027-03-25/
LOCATION:Hill Library\, 1151 Parker Mountain Road\, Strafford\, NH\, 03884
CATEGORIES:Ages 0-5
ATTACH;FMTTYPE=image/png:https://hilllibrary.org/wp-content/uploads/2024/09/MM.png
ORGANIZER;CN="Hill Library":MAILTO:lmolloy@hilllibrary.org
END:VEVENT
BEGIN:VEVENT
DTSTART;TZID=America/New_York:20270329T100000
DTEND;TZID=America/New_York:20270329T103000
DTSTAMP:20260424T120744
CREATED:20240916T151257Z
LAST-MODIFIED:20260325T212321Z
UID:10000130-1806314400-1806316200@hilllibrary.org
SUMMARY:Story Time
DESCRIPTION:Join us at 10 am on Mondays for some songs\, stories\, and a craft! All ages welcome.
URL:https://hilllibrary.org/event/story-time/2027-03-29/
LOCATION:Hill Library\, 1151 Parker Mountain Road\, Strafford\, NH\, 03884
CATEGORIES:Ages 0-5
ATTACH;FMTTYPE=image/png:https://hilllibrary.org/wp-content/uploads/2024/04/Storytime.png
ORGANIZER;CN="Hill Library":MAILTO:lmolloy@hilllibrary.org
END:VEVENT
BEGIN:VEVENT
DTSTART;TZID=America/New_York:20270401T100000
DTEND;TZID=America/New_York:20270401T110000
DTSTAMP:20260424T120744
CREATED:20250915T174457Z
LAST-MODIFIED:20260325T212358Z
UID:10004801-1806573600-1806577200@hilllibrary.org
SUMMARY:Sensory Playtime
DESCRIPTION:﻿Join us every other Thursday for some sensory play fun! We’ll have playdough\, kinetic sand\, pom-poms\, and all sorts of other rotating activities. Practice fine motor skills and explore the world!
URL:https://hilllibrary.org/event/sensory-playtime-2/2027-04-01/
LOCATION:Hill Library\, 1151 Parker Mountain Road\, Strafford\, NH\, 03884
CATEGORIES:Ages 0-5
ATTACH;FMTTYPE=image/jpeg:https://hilllibrary.org/wp-content/uploads/2025/09/Sensory-Playtime.jpg
ORGANIZER;CN="Hill Library":MAILTO:lmolloy@hilllibrary.org
END:VEVENT
BEGIN:VEVENT
DTSTART;TZID=America/New_York:20270405T100000
DTEND;TZID=America/New_York:20270405T103000
DTSTAMP:20260424T120744
CREATED:20240916T151257Z
LAST-MODIFIED:20260325T212321Z
UID:10000131-1806919200-1806921000@hilllibrary.org
SUMMARY:Story Time
DESCRIPTION:Join us at 10 am on Mondays for some songs\, stories\, and a craft! All ages welcome.
URL:https://hilllibrary.org/event/story-time/2027-04-05/
LOCATION:Hill Library\, 1151 Parker Mountain Road\, Strafford\, NH\, 03884
CATEGORIES:Ages 0-5
ATTACH;FMTTYPE=image/png:https://hilllibrary.org/wp-content/uploads/2024/04/Storytime.png
ORGANIZER;CN="Hill Library":MAILTO:lmolloy@hilllibrary.org
END:VEVENT
BEGIN:VEVENT
DTSTART;TZID=America/New_York:20270408T100000
DTEND;TZID=America/New_York:20270408T103000
DTSTAMP:20260424T120744
CREATED:20250915T173938Z
LAST-MODIFIED:20260218T171142Z
UID:10001754-1807178400-1807180200@hilllibrary.org
SUMMARY:Music and Movement
DESCRIPTION:Let’s move and groove with songs\, scarves\, egg shakers\, and our parachute! All ages welcome. Music and Movement meets on alternate Thursdays.
URL:https://hilllibrary.org/event/music-and-movement-2-4/2027-04-08/
LOCATION:Hill Library\, 1151 Parker Mountain Road\, Strafford\, NH\, 03884
CATEGORIES:Ages 0-5
ATTACH;FMTTYPE=image/png:https://hilllibrary.org/wp-content/uploads/2024/09/MM.png
ORGANIZER;CN="Hill Library":MAILTO:lmolloy@hilllibrary.org
END:VEVENT
BEGIN:VEVENT
DTSTART;TZID=America/New_York:20270412T100000
DTEND;TZID=America/New_York:20270412T103000
DTSTAMP:20260424T120744
CREATED:20240916T151257Z
LAST-MODIFIED:20260325T212321Z
UID:10000132-1807524000-1807525800@hilllibrary.org
SUMMARY:Story Time
DESCRIPTION:Join us at 10 am on Mondays for some songs\, stories\, and a craft! All ages welcome.
URL:https://hilllibrary.org/event/story-time/2027-04-12/
LOCATION:Hill Library\, 1151 Parker Mountain Road\, Strafford\, NH\, 03884
CATEGORIES:Ages 0-5
ATTACH;FMTTYPE=image/png:https://hilllibrary.org/wp-content/uploads/2024/04/Storytime.png
ORGANIZER;CN="Hill Library":MAILTO:lmolloy@hilllibrary.org
END:VEVENT
BEGIN:VEVENT
DTSTART;TZID=America/New_York:20270415T100000
DTEND;TZID=America/New_York:20270415T110000
DTSTAMP:20260424T120744
CREATED:20250915T174457Z
LAST-MODIFIED:20260325T212358Z
UID:10004802-1807783200-1807786800@hilllibrary.org
SUMMARY:Sensory Playtime
DESCRIPTION:﻿Join us every other Thursday for some sensory play fun! We’ll have playdough\, kinetic sand\, pom-poms\, and all sorts of other rotating activities. Practice fine motor skills and explore the world!
URL:https://hilllibrary.org/event/sensory-playtime-2/2027-04-15/
LOCATION:Hill Library\, 1151 Parker Mountain Road\, Strafford\, NH\, 03884
CATEGORIES:Ages 0-5
ATTACH;FMTTYPE=image/jpeg:https://hilllibrary.org/wp-content/uploads/2025/09/Sensory-Playtime.jpg
ORGANIZER;CN="Hill Library":MAILTO:lmolloy@hilllibrary.org
END:VEVENT
BEGIN:VEVENT
DTSTART;TZID=America/New_York:20270419T100000
DTEND;TZID=America/New_York:20270419T103000
DTSTAMP:20260424T120744
CREATED:20240916T151257Z
LAST-MODIFIED:20260325T212321Z
UID:10000133-1808128800-1808130600@hilllibrary.org
SUMMARY:Story Time
DESCRIPTION:Join us at 10 am on Mondays for some songs\, stories\, and a craft! All ages welcome.
URL:https://hilllibrary.org/event/story-time/2027-04-19/
LOCATION:Hill Library\, 1151 Parker Mountain Road\, Strafford\, NH\, 03884
CATEGORIES:Ages 0-5
ATTACH;FMTTYPE=image/png:https://hilllibrary.org/wp-content/uploads/2024/04/Storytime.png
ORGANIZER;CN="Hill Library":MAILTO:lmolloy@hilllibrary.org
END:VEVENT
BEGIN:VEVENT
DTSTART;TZID=America/New_York:20270422T100000
DTEND;TZID=America/New_York:20270422T103000
DTSTAMP:20260424T120744
CREATED:20250915T173938Z
LAST-MODIFIED:20260218T171142Z
UID:10001756-1808388000-1808389800@hilllibrary.org
SUMMARY:Music and Movement
DESCRIPTION:Let’s move and groove with songs\, scarves\, egg shakers\, and our parachute! All ages welcome. Music and Movement meets on alternate Thursdays.
URL:https://hilllibrary.org/event/music-and-movement-2-4/2027-04-22/
LOCATION:Hill Library\, 1151 Parker Mountain Road\, Strafford\, NH\, 03884
CATEGORIES:Ages 0-5
ATTACH;FMTTYPE=image/png:https://hilllibrary.org/wp-content/uploads/2024/09/MM.png
ORGANIZER;CN="Hill Library":MAILTO:lmolloy@hilllibrary.org
END:VEVENT
BEGIN:VEVENT
DTSTART;TZID=America/New_York:20270426T100000
DTEND;TZID=America/New_York:20270426T103000
DTSTAMP:20260424T120744
CREATED:20240916T151257Z
LAST-MODIFIED:20260325T212321Z
UID:10000134-1808733600-1808735400@hilllibrary.org
SUMMARY:Story Time
DESCRIPTION:Join us at 10 am on Mondays for some songs\, stories\, and a craft! All ages welcome.
URL:https://hilllibrary.org/event/story-time/2027-04-26/
LOCATION:Hill Library\, 1151 Parker Mountain Road\, Strafford\, NH\, 03884
CATEGORIES:Ages 0-5
ATTACH;FMTTYPE=image/png:https://hilllibrary.org/wp-content/uploads/2024/04/Storytime.png
ORGANIZER;CN="Hill Library":MAILTO:lmolloy@hilllibrary.org
END:VEVENT
BEGIN:VEVENT
DTSTART;TZID=America/New_York:20270429T100000
DTEND;TZID=America/New_York:20270429T110000
DTSTAMP:20260424T120744
CREATED:20250915T174457Z
LAST-MODIFIED:20260325T212358Z
UID:10004803-1808992800-1808996400@hilllibrary.org
SUMMARY:Sensory Playtime
DESCRIPTION:﻿Join us every other Thursday for some sensory play fun! We’ll have playdough\, kinetic sand\, pom-poms\, and all sorts of other rotating activities. Practice fine motor skills and explore the world!
URL:https://hilllibrary.org/event/sensory-playtime-2/2027-04-29/
LOCATION:Hill Library\, 1151 Parker Mountain Road\, Strafford\, NH\, 03884
CATEGORIES:Ages 0-5
ATTACH;FMTTYPE=image/jpeg:https://hilllibrary.org/wp-content/uploads/2025/09/Sensory-Playtime.jpg
ORGANIZER;CN="Hill Library":MAILTO:lmolloy@hilllibrary.org
END:VEVENT
BEGIN:VEVENT
DTSTART;TZID=America/New_York:20270503T100000
DTEND;TZID=America/New_York:20270503T103000
DTSTAMP:20260424T120744
CREATED:20240916T151257Z
LAST-MODIFIED:20260325T212321Z
UID:10000135-1809338400-1809340200@hilllibrary.org
SUMMARY:Story Time
DESCRIPTION:Join us at 10 am on Mondays for some songs\, stories\, and a craft! All ages welcome.
URL:https://hilllibrary.org/event/story-time/2027-05-03/
LOCATION:Hill Library\, 1151 Parker Mountain Road\, Strafford\, NH\, 03884
CATEGORIES:Ages 0-5
ATTACH;FMTTYPE=image/png:https://hilllibrary.org/wp-content/uploads/2024/04/Storytime.png
ORGANIZER;CN="Hill Library":MAILTO:lmolloy@hilllibrary.org
END:VEVENT
BEGIN:VEVENT
DTSTART;TZID=America/New_York:20270506T100000
DTEND;TZID=America/New_York:20270506T103000
DTSTAMP:20260424T120744
CREATED:20250915T173938Z
LAST-MODIFIED:20260218T171142Z
UID:10001758-1809597600-1809599400@hilllibrary.org
SUMMARY:Music and Movement
DESCRIPTION:Let’s move and groove with songs\, scarves\, egg shakers\, and our parachute! All ages welcome. Music and Movement meets on alternate Thursdays.
URL:https://hilllibrary.org/event/music-and-movement-2-4/2027-05-06/
LOCATION:Hill Library\, 1151 Parker Mountain Road\, Strafford\, NH\, 03884
CATEGORIES:Ages 0-5
ATTACH;FMTTYPE=image/png:https://hilllibrary.org/wp-content/uploads/2024/09/MM.png
ORGANIZER;CN="Hill Library":MAILTO:lmolloy@hilllibrary.org
END:VEVENT
BEGIN:VEVENT
DTSTART;TZID=America/New_York:20270510T100000
DTEND;TZID=America/New_York:20270510T103000
DTSTAMP:20260424T120744
CREATED:20240916T151257Z
LAST-MODIFIED:20260325T212321Z
UID:10000136-1809943200-1809945000@hilllibrary.org
SUMMARY:Story Time
DESCRIPTION:Join us at 10 am on Mondays for some songs\, stories\, and a craft! All ages welcome.
URL:https://hilllibrary.org/event/story-time/2027-05-10/
LOCATION:Hill Library\, 1151 Parker Mountain Road\, Strafford\, NH\, 03884
CATEGORIES:Ages 0-5
ATTACH;FMTTYPE=image/png:https://hilllibrary.org/wp-content/uploads/2024/04/Storytime.png
ORGANIZER;CN="Hill Library":MAILTO:lmolloy@hilllibrary.org
END:VEVENT
BEGIN:VEVENT
DTSTART;TZID=America/New_York:20270513T100000
DTEND;TZID=America/New_York:20270513T110000
DTSTAMP:20260424T120744
CREATED:20250915T174457Z
LAST-MODIFIED:20260325T212358Z
UID:10004804-1810202400-1810206000@hilllibrary.org
SUMMARY:Sensory Playtime
DESCRIPTION:﻿Join us every other Thursday for some sensory play fun! We’ll have playdough\, kinetic sand\, pom-poms\, and all sorts of other rotating activities. Practice fine motor skills and explore the world!
URL:https://hilllibrary.org/event/sensory-playtime-2/2027-05-13/
LOCATION:Hill Library\, 1151 Parker Mountain Road\, Strafford\, NH\, 03884
CATEGORIES:Ages 0-5
ATTACH;FMTTYPE=image/jpeg:https://hilllibrary.org/wp-content/uploads/2025/09/Sensory-Playtime.jpg
ORGANIZER;CN="Hill Library":MAILTO:lmolloy@hilllibrary.org
END:VEVENT
BEGIN:VEVENT
DTSTART;TZID=America/New_York:20270517T100000
DTEND;TZID=America/New_York:20270517T103000
DTSTAMP:20260424T120744
CREATED:20240916T151257Z
LAST-MODIFIED:20260325T212321Z
UID:10000137-1810548000-1810549800@hilllibrary.org
SUMMARY:Story Time
DESCRIPTION:Join us at 10 am on Mondays for some songs\, stories\, and a craft! All ages welcome.
URL:https://hilllibrary.org/event/story-time/2027-05-17/
LOCATION:Hill Library\, 1151 Parker Mountain Road\, Strafford\, NH\, 03884
CATEGORIES:Ages 0-5
ATTACH;FMTTYPE=image/png:https://hilllibrary.org/wp-content/uploads/2024/04/Storytime.png
ORGANIZER;CN="Hill Library":MAILTO:lmolloy@hilllibrary.org
END:VEVENT
BEGIN:VEVENT
DTSTART;TZID=America/New_York:20270520T100000
DTEND;TZID=America/New_York:20270520T103000
DTSTAMP:20260424T120744
CREATED:20250915T173938Z
LAST-MODIFIED:20260218T171142Z
UID:10001760-1810807200-1810809000@hilllibrary.org
SUMMARY:Music and Movement
DESCRIPTION:Let’s move and groove with songs\, scarves\, egg shakers\, and our parachute! All ages welcome. Music and Movement meets on alternate Thursdays.
URL:https://hilllibrary.org/event/music-and-movement-2-4/2027-05-20/
LOCATION:Hill Library\, 1151 Parker Mountain Road\, Strafford\, NH\, 03884
CATEGORIES:Ages 0-5
ATTACH;FMTTYPE=image/png:https://hilllibrary.org/wp-content/uploads/2024/09/MM.png
ORGANIZER;CN="Hill Library":MAILTO:lmolloy@hilllibrary.org
END:VEVENT
BEGIN:VEVENT
DTSTART;TZID=America/New_York:20270524T100000
DTEND;TZID=America/New_York:20270524T103000
DTSTAMP:20260424T120744
CREATED:20240916T151257Z
LAST-MODIFIED:20260325T212321Z
UID:10000138-1811152800-1811154600@hilllibrary.org
SUMMARY:Story Time
DESCRIPTION:Join us at 10 am on Mondays for some songs\, stories\, and a craft! All ages welcome.
URL:https://hilllibrary.org/event/story-time/2027-05-24/
LOCATION:Hill Library\, 1151 Parker Mountain Road\, Strafford\, NH\, 03884
CATEGORIES:Ages 0-5
ATTACH;FMTTYPE=image/png:https://hilllibrary.org/wp-content/uploads/2024/04/Storytime.png
ORGANIZER;CN="Hill Library":MAILTO:lmolloy@hilllibrary.org
END:VEVENT
BEGIN:VEVENT
DTSTART;TZID=America/New_York:20270527T100000
DTEND;TZID=America/New_York:20270527T110000
DTSTAMP:20260424T120744
CREATED:20250915T174457Z
LAST-MODIFIED:20260325T212358Z
UID:10004805-1811412000-1811415600@hilllibrary.org
SUMMARY:Sensory Playtime
DESCRIPTION:﻿Join us every other Thursday for some sensory play fun! We’ll have playdough\, kinetic sand\, pom-poms\, and all sorts of other rotating activities. Practice fine motor skills and explore the world!
URL:https://hilllibrary.org/event/sensory-playtime-2/2027-05-27/
LOCATION:Hill Library\, 1151 Parker Mountain Road\, Strafford\, NH\, 03884
CATEGORIES:Ages 0-5
ATTACH;FMTTYPE=image/jpeg:https://hilllibrary.org/wp-content/uploads/2025/09/Sensory-Playtime.jpg
ORGANIZER;CN="Hill Library":MAILTO:lmolloy@hilllibrary.org
END:VEVENT
BEGIN:VEVENT
DTSTART;TZID=America/New_York:20270531T100000
DTEND;TZID=America/New_York:20270531T103000
DTSTAMP:20260424T120744
CREATED:20240916T151257Z
LAST-MODIFIED:20260325T212321Z
UID:10000139-1811757600-1811759400@hilllibrary.org
SUMMARY:Story Time
DESCRIPTION:Join us at 10 am on Mondays for some songs\, stories\, and a craft! All ages welcome.
URL:https://hilllibrary.org/event/story-time/2027-05-31/
LOCATION:Hill Library\, 1151 Parker Mountain Road\, Strafford\, NH\, 03884
CATEGORIES:Ages 0-5
ATTACH;FMTTYPE=image/png:https://hilllibrary.org/wp-content/uploads/2024/04/Storytime.png
ORGANIZER;CN="Hill Library":MAILTO:lmolloy@hilllibrary.org
END:VEVENT
BEGIN:VEVENT
DTSTART;TZID=America/New_York:20270603T100000
DTEND;TZID=America/New_York:20270603T103000
DTSTAMP:20260424T120744
CREATED:20250915T173938Z
LAST-MODIFIED:20260218T171142Z
UID:10001762-1812016800-1812018600@hilllibrary.org
SUMMARY:Music and Movement
DESCRIPTION:Let’s move and groove with songs\, scarves\, egg shakers\, and our parachute! All ages welcome. Music and Movement meets on alternate Thursdays.
URL:https://hilllibrary.org/event/music-and-movement-2-4/2027-06-03/
LOCATION:Hill Library\, 1151 Parker Mountain Road\, Strafford\, NH\, 03884
CATEGORIES:Ages 0-5
ATTACH;FMTTYPE=image/png:https://hilllibrary.org/wp-content/uploads/2024/09/MM.png
ORGANIZER;CN="Hill Library":MAILTO:lmolloy@hilllibrary.org
END:VEVENT
BEGIN:VEVENT
DTSTART;TZID=America/New_York:20270607T100000
DTEND;TZID=America/New_York:20270607T103000
DTSTAMP:20260424T120744
CREATED:20240916T151257Z
LAST-MODIFIED:20260325T212321Z
UID:10000140-1812362400-1812364200@hilllibrary.org
SUMMARY:Story Time
DESCRIPTION:Join us at 10 am on Mondays for some songs\, stories\, and a craft! All ages welcome.
URL:https://hilllibrary.org/event/story-time/2027-06-07/
LOCATION:Hill Library\, 1151 Parker Mountain Road\, Strafford\, NH\, 03884
CATEGORIES:Ages 0-5
ATTACH;FMTTYPE=image/png:https://hilllibrary.org/wp-content/uploads/2024/04/Storytime.png
ORGANIZER;CN="Hill Library":MAILTO:lmolloy@hilllibrary.org
END:VEVENT
BEGIN:VEVENT
DTSTART;TZID=America/New_York:20270610T100000
DTEND;TZID=America/New_York:20270610T110000
DTSTAMP:20260424T120744
CREATED:20250915T174457Z
LAST-MODIFIED:20260325T212358Z
UID:10004806-1812621600-1812625200@hilllibrary.org
SUMMARY:Sensory Playtime
DESCRIPTION:﻿Join us every other Thursday for some sensory play fun! We’ll have playdough\, kinetic sand\, pom-poms\, and all sorts of other rotating activities. Practice fine motor skills and explore the world!
URL:https://hilllibrary.org/event/sensory-playtime-2/2027-06-10/
LOCATION:Hill Library\, 1151 Parker Mountain Road\, Strafford\, NH\, 03884
CATEGORIES:Ages 0-5
ATTACH;FMTTYPE=image/jpeg:https://hilllibrary.org/wp-content/uploads/2025/09/Sensory-Playtime.jpg
ORGANIZER;CN="Hill Library":MAILTO:lmolloy@hilllibrary.org
END:VEVENT
BEGIN:VEVENT
DTSTART;TZID=America/New_York:20270614T100000
DTEND;TZID=America/New_York:20270614T103000
DTSTAMP:20260424T120744
CREATED:20240916T151257Z
LAST-MODIFIED:20260325T212321Z
UID:10000141-1812967200-1812969000@hilllibrary.org
SUMMARY:Story Time
DESCRIPTION:Join us at 10 am on Mondays for some songs\, stories\, and a craft! All ages welcome.
URL:https://hilllibrary.org/event/story-time/2027-06-14/
LOCATION:Hill Library\, 1151 Parker Mountain Road\, Strafford\, NH\, 03884
CATEGORIES:Ages 0-5
ATTACH;FMTTYPE=image/png:https://hilllibrary.org/wp-content/uploads/2024/04/Storytime.png
ORGANIZER;CN="Hill Library":MAILTO:lmolloy@hilllibrary.org
END:VEVENT
BEGIN:VEVENT
DTSTART;TZID=America/New_York:20270617T100000
DTEND;TZID=America/New_York:20270617T103000
DTSTAMP:20260424T120744
CREATED:20250915T173938Z
LAST-MODIFIED:20260218T171142Z
UID:10001764-1813226400-1813228200@hilllibrary.org
SUMMARY:Music and Movement
DESCRIPTION:Let’s move and groove with songs\, scarves\, egg shakers\, and our parachute! All ages welcome. Music and Movement meets on alternate Thursdays.
URL:https://hilllibrary.org/event/music-and-movement-2-4/2027-06-17/
LOCATION:Hill Library\, 1151 Parker Mountain Road\, Strafford\, NH\, 03884
CATEGORIES:Ages 0-5
ATTACH;FMTTYPE=image/png:https://hilllibrary.org/wp-content/uploads/2024/09/MM.png
ORGANIZER;CN="Hill Library":MAILTO:lmolloy@hilllibrary.org
END:VEVENT
BEGIN:VEVENT
DTSTART;TZID=America/New_York:20270621T100000
DTEND;TZID=America/New_York:20270621T103000
DTSTAMP:20260424T120744
CREATED:20240916T151257Z
LAST-MODIFIED:20260325T212321Z
UID:10000142-1813572000-1813573800@hilllibrary.org
SUMMARY:Story Time
DESCRIPTION:Join us at 10 am on Mondays for some songs\, stories\, and a craft! All ages welcome.
URL:https://hilllibrary.org/event/story-time/2027-06-21/
LOCATION:Hill Library\, 1151 Parker Mountain Road\, Strafford\, NH\, 03884
CATEGORIES:Ages 0-5
ATTACH;FMTTYPE=image/png:https://hilllibrary.org/wp-content/uploads/2024/04/Storytime.png
ORGANIZER;CN="Hill Library":MAILTO:lmolloy@hilllibrary.org
END:VEVENT
BEGIN:VEVENT
DTSTART;TZID=America/New_York:20270624T100000
DTEND;TZID=America/New_York:20270624T110000
DTSTAMP:20260424T120744
CREATED:20250915T174457Z
LAST-MODIFIED:20260325T212358Z
UID:10004807-1813831200-1813834800@hilllibrary.org
SUMMARY:Sensory Playtime
DESCRIPTION:﻿Join us every other Thursday for some sensory play fun! We’ll have playdough\, kinetic sand\, pom-poms\, and all sorts of other rotating activities. Practice fine motor skills and explore the world!
URL:https://hilllibrary.org/event/sensory-playtime-2/2027-06-24/
LOCATION:Hill Library\, 1151 Parker Mountain Road\, Strafford\, NH\, 03884
CATEGORIES:Ages 0-5
ATTACH;FMTTYPE=image/jpeg:https://hilllibrary.org/wp-content/uploads/2025/09/Sensory-Playtime.jpg
ORGANIZER;CN="Hill Library":MAILTO:lmolloy@hilllibrary.org
END:VEVENT
BEGIN:VEVENT
DTSTART;TZID=America/New_York:20270628T100000
DTEND;TZID=America/New_York:20270628T103000
DTSTAMP:20260424T120744
CREATED:20240916T151257Z
LAST-MODIFIED:20260325T212321Z
UID:10000143-1814176800-1814178600@hilllibrary.org
SUMMARY:Story Time
DESCRIPTION:Join us at 10 am on Mondays for some songs\, stories\, and a craft! All ages welcome.
URL:https://hilllibrary.org/event/story-time/2027-06-28/
LOCATION:Hill Library\, 1151 Parker Mountain Road\, Strafford\, NH\, 03884
CATEGORIES:Ages 0-5
ATTACH;FMTTYPE=image/png:https://hilllibrary.org/wp-content/uploads/2024/04/Storytime.png
ORGANIZER;CN="Hill Library":MAILTO:lmolloy@hilllibrary.org
END:VEVENT
END:VCALENDAR