BEGIN:VCALENDAR
VERSION:2.0
PRODID:-//Hill Library, Strafford, NH - ECPv6.15.20//NONSGML v1.0//EN
CALSCALE:GREGORIAN
METHOD:PUBLISH
X-ORIGINAL-URL:https://hilllibrary.org
X-WR-CALDESC:Events for Hill Library, Strafford, NH
REFRESH-INTERVAL;VALUE=DURATION:PT1H
X-Robots-Tag:noindex
X-PUBLISHED-TTL:PT1H
BEGIN:VTIMEZONE
TZID:America/New_York
BEGIN:DAYLIGHT
TZOFFSETFROM:-0500
TZOFFSETTO:-0400
TZNAME:EDT
DTSTART:20280312T070000
END:DAYLIGHT
BEGIN:STANDARD
TZOFFSETFROM:-0400
TZOFFSETTO:-0500
TZNAME:EST
DTSTART:20281105T060000
END:STANDARD
BEGIN:DAYLIGHT
TZOFFSETFROM:-0500
TZOFFSETTO:-0400
TZNAME:EDT
DTSTART:20290311T070000
END:DAYLIGHT
BEGIN:STANDARD
TZOFFSETFROM:-0400
TZOFFSETTO:-0500
TZNAME:EST
DTSTART:20291104T060000
END:STANDARD
BEGIN:DAYLIGHT
TZOFFSETFROM:-0500
TZOFFSETTO:-0400
TZNAME:EDT
DTSTART:20300310T070000
END:DAYLIGHT
BEGIN:STANDARD
TZOFFSETFROM:-0400
TZOFFSETTO:-0500
TZNAME:EST
DTSTART:20301103T060000
END:STANDARD
END:VTIMEZONE
BEGIN:VEVENT
DTSTART;TZID=America/New_York:20290503T100000
DTEND;TZID=America/New_York:20290503T103000
DTSTAMP:20260425T113340
CREATED:20250915T173938Z
LAST-MODIFIED:20260218T171142Z
UID:10001862-1872496800-1872498600@hilllibrary.org
SUMMARY:Music and Movement
DESCRIPTION:Let’s move and groove with songs\, scarves\, egg shakers\, and our parachute! All ages welcome. Music and Movement meets on alternate Thursdays.
URL:https://hilllibrary.org/event/music-and-movement-2-4/2029-05-03/
LOCATION:Hill Library\, 1151 Parker Mountain Road\, Strafford\, NH\, 03884
CATEGORIES:Ages 0-5
ATTACH;FMTTYPE=image/png:https://hilllibrary.org/wp-content/uploads/2024/09/MM.png
ORGANIZER;CN="Hill Library":MAILTO:lmolloy@hilllibrary.org
END:VEVENT
BEGIN:VEVENT
DTSTART;TZID=America/New_York:20290507T100000
DTEND;TZID=America/New_York:20290507T103000
DTSTAMP:20260425T113340
CREATED:20240916T151257Z
LAST-MODIFIED:20260325T212321Z
UID:10000240-1872842400-1872844200@hilllibrary.org
SUMMARY:Story Time
DESCRIPTION:Join us at 10 am on Mondays for some songs\, stories\, and a craft! All ages welcome.
URL:https://hilllibrary.org/event/story-time/2029-05-07/
LOCATION:Hill Library\, 1151 Parker Mountain Road\, Strafford\, NH\, 03884
CATEGORIES:Ages 0-5
ATTACH;FMTTYPE=image/png:https://hilllibrary.org/wp-content/uploads/2024/04/Storytime.png
ORGANIZER;CN="Hill Library":MAILTO:lmolloy@hilllibrary.org
END:VEVENT
BEGIN:VEVENT
DTSTART;TZID=America/New_York:20290510T100000
DTEND;TZID=America/New_York:20290510T110000
DTSTAMP:20260425T113340
CREATED:20250915T174457Z
LAST-MODIFIED:20260325T212358Z
UID:10004856-1873101600-1873105200@hilllibrary.org
SUMMARY:Sensory Playtime
DESCRIPTION:﻿Join us every other Thursday for some sensory play fun! We’ll have playdough\, kinetic sand\, pom-poms\, and all sorts of other rotating activities. Practice fine motor skills and explore the world!
URL:https://hilllibrary.org/event/sensory-playtime-2/2029-05-10/
LOCATION:Hill Library\, 1151 Parker Mountain Road\, Strafford\, NH\, 03884
CATEGORIES:Ages 0-5
ATTACH;FMTTYPE=image/jpeg:https://hilllibrary.org/wp-content/uploads/2025/09/Sensory-Playtime.jpg
ORGANIZER;CN="Hill Library":MAILTO:lmolloy@hilllibrary.org
END:VEVENT
BEGIN:VEVENT
DTSTART;TZID=America/New_York:20290514T100000
DTEND;TZID=America/New_York:20290514T103000
DTSTAMP:20260425T113340
CREATED:20240916T151257Z
LAST-MODIFIED:20260325T212321Z
UID:10000241-1873447200-1873449000@hilllibrary.org
SUMMARY:Story Time
DESCRIPTION:Join us at 10 am on Mondays for some songs\, stories\, and a craft! All ages welcome.
URL:https://hilllibrary.org/event/story-time/2029-05-14/
LOCATION:Hill Library\, 1151 Parker Mountain Road\, Strafford\, NH\, 03884
CATEGORIES:Ages 0-5
ATTACH;FMTTYPE=image/png:https://hilllibrary.org/wp-content/uploads/2024/04/Storytime.png
ORGANIZER;CN="Hill Library":MAILTO:lmolloy@hilllibrary.org
END:VEVENT
BEGIN:VEVENT
DTSTART;TZID=America/New_York:20290517T100000
DTEND;TZID=America/New_York:20290517T103000
DTSTAMP:20260425T113340
CREATED:20250915T173938Z
LAST-MODIFIED:20260218T171142Z
UID:10001864-1873706400-1873708200@hilllibrary.org
SUMMARY:Music and Movement
DESCRIPTION:Let’s move and groove with songs\, scarves\, egg shakers\, and our parachute! All ages welcome. Music and Movement meets on alternate Thursdays.
URL:https://hilllibrary.org/event/music-and-movement-2-4/2029-05-17/
LOCATION:Hill Library\, 1151 Parker Mountain Road\, Strafford\, NH\, 03884
CATEGORIES:Ages 0-5
ATTACH;FMTTYPE=image/png:https://hilllibrary.org/wp-content/uploads/2024/09/MM.png
ORGANIZER;CN="Hill Library":MAILTO:lmolloy@hilllibrary.org
END:VEVENT
BEGIN:VEVENT
DTSTART;TZID=America/New_York:20290521T100000
DTEND;TZID=America/New_York:20290521T103000
DTSTAMP:20260425T113340
CREATED:20240916T151257Z
LAST-MODIFIED:20260325T212321Z
UID:10000242-1874052000-1874053800@hilllibrary.org
SUMMARY:Story Time
DESCRIPTION:Join us at 10 am on Mondays for some songs\, stories\, and a craft! All ages welcome.
URL:https://hilllibrary.org/event/story-time/2029-05-21/
LOCATION:Hill Library\, 1151 Parker Mountain Road\, Strafford\, NH\, 03884
CATEGORIES:Ages 0-5
ATTACH;FMTTYPE=image/png:https://hilllibrary.org/wp-content/uploads/2024/04/Storytime.png
ORGANIZER;CN="Hill Library":MAILTO:lmolloy@hilllibrary.org
END:VEVENT
BEGIN:VEVENT
DTSTART;TZID=America/New_York:20290524T100000
DTEND;TZID=America/New_York:20290524T110000
DTSTAMP:20260425T113340
CREATED:20250915T174457Z
LAST-MODIFIED:20260325T212358Z
UID:10004857-1874311200-1874314800@hilllibrary.org
SUMMARY:Sensory Playtime
DESCRIPTION:﻿Join us every other Thursday for some sensory play fun! We’ll have playdough\, kinetic sand\, pom-poms\, and all sorts of other rotating activities. Practice fine motor skills and explore the world!
URL:https://hilllibrary.org/event/sensory-playtime-2/2029-05-24/
LOCATION:Hill Library\, 1151 Parker Mountain Road\, Strafford\, NH\, 03884
CATEGORIES:Ages 0-5
ATTACH;FMTTYPE=image/jpeg:https://hilllibrary.org/wp-content/uploads/2025/09/Sensory-Playtime.jpg
ORGANIZER;CN="Hill Library":MAILTO:lmolloy@hilllibrary.org
END:VEVENT
BEGIN:VEVENT
DTSTART;TZID=America/New_York:20290528T100000
DTEND;TZID=America/New_York:20290528T103000
DTSTAMP:20260425T113340
CREATED:20240916T151257Z
LAST-MODIFIED:20260325T212321Z
UID:10000243-1874656800-1874658600@hilllibrary.org
SUMMARY:Story Time
DESCRIPTION:Join us at 10 am on Mondays for some songs\, stories\, and a craft! All ages welcome.
URL:https://hilllibrary.org/event/story-time/2029-05-28/
LOCATION:Hill Library\, 1151 Parker Mountain Road\, Strafford\, NH\, 03884
CATEGORIES:Ages 0-5
ATTACH;FMTTYPE=image/png:https://hilllibrary.org/wp-content/uploads/2024/04/Storytime.png
ORGANIZER;CN="Hill Library":MAILTO:lmolloy@hilllibrary.org
END:VEVENT
BEGIN:VEVENT
DTSTART;TZID=America/New_York:20290531T100000
DTEND;TZID=America/New_York:20290531T103000
DTSTAMP:20260425T113340
CREATED:20250915T173938Z
LAST-MODIFIED:20260218T171142Z
UID:10001866-1874916000-1874917800@hilllibrary.org
SUMMARY:Music and Movement
DESCRIPTION:Let’s move and groove with songs\, scarves\, egg shakers\, and our parachute! All ages welcome. Music and Movement meets on alternate Thursdays.
URL:https://hilllibrary.org/event/music-and-movement-2-4/2029-05-31/
LOCATION:Hill Library\, 1151 Parker Mountain Road\, Strafford\, NH\, 03884
CATEGORIES:Ages 0-5
ATTACH;FMTTYPE=image/png:https://hilllibrary.org/wp-content/uploads/2024/09/MM.png
ORGANIZER;CN="Hill Library":MAILTO:lmolloy@hilllibrary.org
END:VEVENT
BEGIN:VEVENT
DTSTART;TZID=America/New_York:20290604T100000
DTEND;TZID=America/New_York:20290604T103000
DTSTAMP:20260425T113340
CREATED:20240916T151257Z
LAST-MODIFIED:20260325T212321Z
UID:10000244-1875261600-1875263400@hilllibrary.org
SUMMARY:Story Time
DESCRIPTION:Join us at 10 am on Mondays for some songs\, stories\, and a craft! All ages welcome.
URL:https://hilllibrary.org/event/story-time/2029-06-04/
LOCATION:Hill Library\, 1151 Parker Mountain Road\, Strafford\, NH\, 03884
CATEGORIES:Ages 0-5
ATTACH;FMTTYPE=image/png:https://hilllibrary.org/wp-content/uploads/2024/04/Storytime.png
ORGANIZER;CN="Hill Library":MAILTO:lmolloy@hilllibrary.org
END:VEVENT
BEGIN:VEVENT
DTSTART;TZID=America/New_York:20290607T100000
DTEND;TZID=America/New_York:20290607T110000
DTSTAMP:20260425T113340
CREATED:20250915T174457Z
LAST-MODIFIED:20260325T212358Z
UID:10004858-1875520800-1875524400@hilllibrary.org
SUMMARY:Sensory Playtime
DESCRIPTION:﻿Join us every other Thursday for some sensory play fun! We’ll have playdough\, kinetic sand\, pom-poms\, and all sorts of other rotating activities. Practice fine motor skills and explore the world!
URL:https://hilllibrary.org/event/sensory-playtime-2/2029-06-07/
LOCATION:Hill Library\, 1151 Parker Mountain Road\, Strafford\, NH\, 03884
CATEGORIES:Ages 0-5
ATTACH;FMTTYPE=image/jpeg:https://hilllibrary.org/wp-content/uploads/2025/09/Sensory-Playtime.jpg
ORGANIZER;CN="Hill Library":MAILTO:lmolloy@hilllibrary.org
END:VEVENT
BEGIN:VEVENT
DTSTART;TZID=America/New_York:20290611T100000
DTEND;TZID=America/New_York:20290611T103000
DTSTAMP:20260425T113340
CREATED:20240916T151257Z
LAST-MODIFIED:20260325T212321Z
UID:10000245-1875866400-1875868200@hilllibrary.org
SUMMARY:Story Time
DESCRIPTION:Join us at 10 am on Mondays for some songs\, stories\, and a craft! All ages welcome.
URL:https://hilllibrary.org/event/story-time/2029-06-11/
LOCATION:Hill Library\, 1151 Parker Mountain Road\, Strafford\, NH\, 03884
CATEGORIES:Ages 0-5
ATTACH;FMTTYPE=image/png:https://hilllibrary.org/wp-content/uploads/2024/04/Storytime.png
ORGANIZER;CN="Hill Library":MAILTO:lmolloy@hilllibrary.org
END:VEVENT
BEGIN:VEVENT
DTSTART;TZID=America/New_York:20290614T100000
DTEND;TZID=America/New_York:20290614T103000
DTSTAMP:20260425T113340
CREATED:20250915T173938Z
LAST-MODIFIED:20260218T171142Z
UID:10001868-1876125600-1876127400@hilllibrary.org
SUMMARY:Music and Movement
DESCRIPTION:Let’s move and groove with songs\, scarves\, egg shakers\, and our parachute! All ages welcome. Music and Movement meets on alternate Thursdays.
URL:https://hilllibrary.org/event/music-and-movement-2-4/2029-06-14/
LOCATION:Hill Library\, 1151 Parker Mountain Road\, Strafford\, NH\, 03884
CATEGORIES:Ages 0-5
ATTACH;FMTTYPE=image/png:https://hilllibrary.org/wp-content/uploads/2024/09/MM.png
ORGANIZER;CN="Hill Library":MAILTO:lmolloy@hilllibrary.org
END:VEVENT
BEGIN:VEVENT
DTSTART;TZID=America/New_York:20290618T100000
DTEND;TZID=America/New_York:20290618T103000
DTSTAMP:20260425T113340
CREATED:20240916T151257Z
LAST-MODIFIED:20260325T212321Z
UID:10000246-1876471200-1876473000@hilllibrary.org
SUMMARY:Story Time
DESCRIPTION:Join us at 10 am on Mondays for some songs\, stories\, and a craft! All ages welcome.
URL:https://hilllibrary.org/event/story-time/2029-06-18/
LOCATION:Hill Library\, 1151 Parker Mountain Road\, Strafford\, NH\, 03884
CATEGORIES:Ages 0-5
ATTACH;FMTTYPE=image/png:https://hilllibrary.org/wp-content/uploads/2024/04/Storytime.png
ORGANIZER;CN="Hill Library":MAILTO:lmolloy@hilllibrary.org
END:VEVENT
BEGIN:VEVENT
DTSTART;TZID=America/New_York:20290621T100000
DTEND;TZID=America/New_York:20290621T110000
DTSTAMP:20260425T113340
CREATED:20250915T174457Z
LAST-MODIFIED:20260325T212358Z
UID:10004859-1876730400-1876734000@hilllibrary.org
SUMMARY:Sensory Playtime
DESCRIPTION:﻿Join us every other Thursday for some sensory play fun! We’ll have playdough\, kinetic sand\, pom-poms\, and all sorts of other rotating activities. Practice fine motor skills and explore the world!
URL:https://hilllibrary.org/event/sensory-playtime-2/2029-06-21/
LOCATION:Hill Library\, 1151 Parker Mountain Road\, Strafford\, NH\, 03884
CATEGORIES:Ages 0-5
ATTACH;FMTTYPE=image/jpeg:https://hilllibrary.org/wp-content/uploads/2025/09/Sensory-Playtime.jpg
ORGANIZER;CN="Hill Library":MAILTO:lmolloy@hilllibrary.org
END:VEVENT
BEGIN:VEVENT
DTSTART;TZID=America/New_York:20290625T100000
DTEND;TZID=America/New_York:20290625T103000
DTSTAMP:20260425T113340
CREATED:20240916T151257Z
LAST-MODIFIED:20260325T212321Z
UID:10000247-1877076000-1877077800@hilllibrary.org
SUMMARY:Story Time
DESCRIPTION:Join us at 10 am on Mondays for some songs\, stories\, and a craft! All ages welcome.
URL:https://hilllibrary.org/event/story-time/2029-06-25/
LOCATION:Hill Library\, 1151 Parker Mountain Road\, Strafford\, NH\, 03884
CATEGORIES:Ages 0-5
ATTACH;FMTTYPE=image/png:https://hilllibrary.org/wp-content/uploads/2024/04/Storytime.png
ORGANIZER;CN="Hill Library":MAILTO:lmolloy@hilllibrary.org
END:VEVENT
BEGIN:VEVENT
DTSTART;TZID=America/New_York:20290628T100000
DTEND;TZID=America/New_York:20290628T103000
DTSTAMP:20260425T113340
CREATED:20250915T173938Z
LAST-MODIFIED:20260218T171142Z
UID:10001870-1877335200-1877337000@hilllibrary.org
SUMMARY:Music and Movement
DESCRIPTION:Let’s move and groove with songs\, scarves\, egg shakers\, and our parachute! All ages welcome. Music and Movement meets on alternate Thursdays.
URL:https://hilllibrary.org/event/music-and-movement-2-4/2029-06-28/
LOCATION:Hill Library\, 1151 Parker Mountain Road\, Strafford\, NH\, 03884
CATEGORIES:Ages 0-5
ATTACH;FMTTYPE=image/png:https://hilllibrary.org/wp-content/uploads/2024/09/MM.png
ORGANIZER;CN="Hill Library":MAILTO:lmolloy@hilllibrary.org
END:VEVENT
BEGIN:VEVENT
DTSTART;TZID=America/New_York:20290702T100000
DTEND;TZID=America/New_York:20290702T103000
DTSTAMP:20260425T113340
CREATED:20240916T151257Z
LAST-MODIFIED:20260325T212321Z
UID:10000248-1877680800-1877682600@hilllibrary.org
SUMMARY:Story Time
DESCRIPTION:Join us at 10 am on Mondays for some songs\, stories\, and a craft! All ages welcome.
URL:https://hilllibrary.org/event/story-time/2029-07-02/
LOCATION:Hill Library\, 1151 Parker Mountain Road\, Strafford\, NH\, 03884
CATEGORIES:Ages 0-5
ATTACH;FMTTYPE=image/png:https://hilllibrary.org/wp-content/uploads/2024/04/Storytime.png
ORGANIZER;CN="Hill Library":MAILTO:lmolloy@hilllibrary.org
END:VEVENT
BEGIN:VEVENT
DTSTART;TZID=America/New_York:20290705T100000
DTEND;TZID=America/New_York:20290705T110000
DTSTAMP:20260425T113340
CREATED:20250915T174457Z
LAST-MODIFIED:20260325T212358Z
UID:10004860-1877940000-1877943600@hilllibrary.org
SUMMARY:Sensory Playtime
DESCRIPTION:﻿Join us every other Thursday for some sensory play fun! We’ll have playdough\, kinetic sand\, pom-poms\, and all sorts of other rotating activities. Practice fine motor skills and explore the world!
URL:https://hilllibrary.org/event/sensory-playtime-2/2029-07-05/
LOCATION:Hill Library\, 1151 Parker Mountain Road\, Strafford\, NH\, 03884
CATEGORIES:Ages 0-5
ATTACH;FMTTYPE=image/jpeg:https://hilllibrary.org/wp-content/uploads/2025/09/Sensory-Playtime.jpg
ORGANIZER;CN="Hill Library":MAILTO:lmolloy@hilllibrary.org
END:VEVENT
BEGIN:VEVENT
DTSTART;TZID=America/New_York:20290709T100000
DTEND;TZID=America/New_York:20290709T103000
DTSTAMP:20260425T113340
CREATED:20240916T151257Z
LAST-MODIFIED:20260325T212321Z
UID:10000249-1878285600-1878287400@hilllibrary.org
SUMMARY:Story Time
DESCRIPTION:Join us at 10 am on Mondays for some songs\, stories\, and a craft! All ages welcome.
URL:https://hilllibrary.org/event/story-time/2029-07-09/
LOCATION:Hill Library\, 1151 Parker Mountain Road\, Strafford\, NH\, 03884
CATEGORIES:Ages 0-5
ATTACH;FMTTYPE=image/png:https://hilllibrary.org/wp-content/uploads/2024/04/Storytime.png
ORGANIZER;CN="Hill Library":MAILTO:lmolloy@hilllibrary.org
END:VEVENT
BEGIN:VEVENT
DTSTART;TZID=America/New_York:20290712T100000
DTEND;TZID=America/New_York:20290712T103000
DTSTAMP:20260425T113340
CREATED:20250915T173938Z
LAST-MODIFIED:20260218T171142Z
UID:10001872-1878544800-1878546600@hilllibrary.org
SUMMARY:Music and Movement
DESCRIPTION:Let’s move and groove with songs\, scarves\, egg shakers\, and our parachute! All ages welcome. Music and Movement meets on alternate Thursdays.
URL:https://hilllibrary.org/event/music-and-movement-2-4/2029-07-12/
LOCATION:Hill Library\, 1151 Parker Mountain Road\, Strafford\, NH\, 03884
CATEGORIES:Ages 0-5
ATTACH;FMTTYPE=image/png:https://hilllibrary.org/wp-content/uploads/2024/09/MM.png
ORGANIZER;CN="Hill Library":MAILTO:lmolloy@hilllibrary.org
END:VEVENT
BEGIN:VEVENT
DTSTART;TZID=America/New_York:20290716T100000
DTEND;TZID=America/New_York:20290716T103000
DTSTAMP:20260425T113340
CREATED:20240916T151257Z
LAST-MODIFIED:20260325T212321Z
UID:10000250-1878890400-1878892200@hilllibrary.org
SUMMARY:Story Time
DESCRIPTION:Join us at 10 am on Mondays for some songs\, stories\, and a craft! All ages welcome.
URL:https://hilllibrary.org/event/story-time/2029-07-16/
LOCATION:Hill Library\, 1151 Parker Mountain Road\, Strafford\, NH\, 03884
CATEGORIES:Ages 0-5
ATTACH;FMTTYPE=image/png:https://hilllibrary.org/wp-content/uploads/2024/04/Storytime.png
ORGANIZER;CN="Hill Library":MAILTO:lmolloy@hilllibrary.org
END:VEVENT
BEGIN:VEVENT
DTSTART;TZID=America/New_York:20290719T100000
DTEND;TZID=America/New_York:20290719T110000
DTSTAMP:20260425T113340
CREATED:20250915T174457Z
LAST-MODIFIED:20260325T212358Z
UID:10004861-1879149600-1879153200@hilllibrary.org
SUMMARY:Sensory Playtime
DESCRIPTION:﻿Join us every other Thursday for some sensory play fun! We’ll have playdough\, kinetic sand\, pom-poms\, and all sorts of other rotating activities. Practice fine motor skills and explore the world!
URL:https://hilllibrary.org/event/sensory-playtime-2/2029-07-19/
LOCATION:Hill Library\, 1151 Parker Mountain Road\, Strafford\, NH\, 03884
CATEGORIES:Ages 0-5
ATTACH;FMTTYPE=image/jpeg:https://hilllibrary.org/wp-content/uploads/2025/09/Sensory-Playtime.jpg
ORGANIZER;CN="Hill Library":MAILTO:lmolloy@hilllibrary.org
END:VEVENT
BEGIN:VEVENT
DTSTART;TZID=America/New_York:20290723T100000
DTEND;TZID=America/New_York:20290723T103000
DTSTAMP:20260425T113340
CREATED:20240916T151257Z
LAST-MODIFIED:20260325T212321Z
UID:10000251-1879495200-1879497000@hilllibrary.org
SUMMARY:Story Time
DESCRIPTION:Join us at 10 am on Mondays for some songs\, stories\, and a craft! All ages welcome.
URL:https://hilllibrary.org/event/story-time/2029-07-23/
LOCATION:Hill Library\, 1151 Parker Mountain Road\, Strafford\, NH\, 03884
CATEGORIES:Ages 0-5
ATTACH;FMTTYPE=image/png:https://hilllibrary.org/wp-content/uploads/2024/04/Storytime.png
ORGANIZER;CN="Hill Library":MAILTO:lmolloy@hilllibrary.org
END:VEVENT
BEGIN:VEVENT
DTSTART;TZID=America/New_York:20290726T100000
DTEND;TZID=America/New_York:20290726T103000
DTSTAMP:20260425T113340
CREATED:20250915T173938Z
LAST-MODIFIED:20260218T171142Z
UID:10001874-1879754400-1879756200@hilllibrary.org
SUMMARY:Music and Movement
DESCRIPTION:Let’s move and groove with songs\, scarves\, egg shakers\, and our parachute! All ages welcome. Music and Movement meets on alternate Thursdays.
URL:https://hilllibrary.org/event/music-and-movement-2-4/2029-07-26/
LOCATION:Hill Library\, 1151 Parker Mountain Road\, Strafford\, NH\, 03884
CATEGORIES:Ages 0-5
ATTACH;FMTTYPE=image/png:https://hilllibrary.org/wp-content/uploads/2024/09/MM.png
ORGANIZER;CN="Hill Library":MAILTO:lmolloy@hilllibrary.org
END:VEVENT
BEGIN:VEVENT
DTSTART;TZID=America/New_York:20290730T100000
DTEND;TZID=America/New_York:20290730T103000
DTSTAMP:20260425T113340
CREATED:20240916T151257Z
LAST-MODIFIED:20260325T212321Z
UID:10000252-1880100000-1880101800@hilllibrary.org
SUMMARY:Story Time
DESCRIPTION:Join us at 10 am on Mondays for some songs\, stories\, and a craft! All ages welcome.
URL:https://hilllibrary.org/event/story-time/2029-07-30/
LOCATION:Hill Library\, 1151 Parker Mountain Road\, Strafford\, NH\, 03884
CATEGORIES:Ages 0-5
ATTACH;FMTTYPE=image/png:https://hilllibrary.org/wp-content/uploads/2024/04/Storytime.png
ORGANIZER;CN="Hill Library":MAILTO:lmolloy@hilllibrary.org
END:VEVENT
BEGIN:VEVENT
DTSTART;TZID=America/New_York:20290802T100000
DTEND;TZID=America/New_York:20290802T110000
DTSTAMP:20260425T113340
CREATED:20250915T174457Z
LAST-MODIFIED:20260325T212358Z
UID:10004862-1880359200-1880362800@hilllibrary.org
SUMMARY:Sensory Playtime
DESCRIPTION:﻿Join us every other Thursday for some sensory play fun! We’ll have playdough\, kinetic sand\, pom-poms\, and all sorts of other rotating activities. Practice fine motor skills and explore the world!
URL:https://hilllibrary.org/event/sensory-playtime-2/2029-08-02/
LOCATION:Hill Library\, 1151 Parker Mountain Road\, Strafford\, NH\, 03884
CATEGORIES:Ages 0-5
ATTACH;FMTTYPE=image/jpeg:https://hilllibrary.org/wp-content/uploads/2025/09/Sensory-Playtime.jpg
ORGANIZER;CN="Hill Library":MAILTO:lmolloy@hilllibrary.org
END:VEVENT
BEGIN:VEVENT
DTSTART;TZID=America/New_York:20290806T100000
DTEND;TZID=America/New_York:20290806T103000
DTSTAMP:20260425T113340
CREATED:20240916T151257Z
LAST-MODIFIED:20260325T212321Z
UID:10000253-1880704800-1880706600@hilllibrary.org
SUMMARY:Story Time
DESCRIPTION:Join us at 10 am on Mondays for some songs\, stories\, and a craft! All ages welcome.
URL:https://hilllibrary.org/event/story-time/2029-08-06/
LOCATION:Hill Library\, 1151 Parker Mountain Road\, Strafford\, NH\, 03884
CATEGORIES:Ages 0-5
ATTACH;FMTTYPE=image/png:https://hilllibrary.org/wp-content/uploads/2024/04/Storytime.png
ORGANIZER;CN="Hill Library":MAILTO:lmolloy@hilllibrary.org
END:VEVENT
BEGIN:VEVENT
DTSTART;TZID=America/New_York:20290809T100000
DTEND;TZID=America/New_York:20290809T103000
DTSTAMP:20260425T113340
CREATED:20250915T173938Z
LAST-MODIFIED:20260218T171142Z
UID:10001876-1880964000-1880965800@hilllibrary.org
SUMMARY:Music and Movement
DESCRIPTION:Let’s move and groove with songs\, scarves\, egg shakers\, and our parachute! All ages welcome. Music and Movement meets on alternate Thursdays.
URL:https://hilllibrary.org/event/music-and-movement-2-4/2029-08-09/
LOCATION:Hill Library\, 1151 Parker Mountain Road\, Strafford\, NH\, 03884
CATEGORIES:Ages 0-5
ATTACH;FMTTYPE=image/png:https://hilllibrary.org/wp-content/uploads/2024/09/MM.png
ORGANIZER;CN="Hill Library":MAILTO:lmolloy@hilllibrary.org
END:VEVENT
BEGIN:VEVENT
DTSTART;TZID=America/New_York:20290813T100000
DTEND;TZID=America/New_York:20290813T103000
DTSTAMP:20260425T113340
CREATED:20240916T151257Z
LAST-MODIFIED:20260325T212321Z
UID:10000254-1881309600-1881311400@hilllibrary.org
SUMMARY:Story Time
DESCRIPTION:Join us at 10 am on Mondays for some songs\, stories\, and a craft! All ages welcome.
URL:https://hilllibrary.org/event/story-time/2029-08-13/
LOCATION:Hill Library\, 1151 Parker Mountain Road\, Strafford\, NH\, 03884
CATEGORIES:Ages 0-5
ATTACH;FMTTYPE=image/png:https://hilllibrary.org/wp-content/uploads/2024/04/Storytime.png
ORGANIZER;CN="Hill Library":MAILTO:lmolloy@hilllibrary.org
END:VEVENT
END:VCALENDAR