BEGIN:VCALENDAR
VERSION:2.0
PRODID:-//Hill Library, Strafford, NH - ECPv6.15.20//NONSGML v1.0//EN
CALSCALE:GREGORIAN
METHOD:PUBLISH
X-ORIGINAL-URL:https://hilllibrary.org
X-WR-CALDESC:Events for Hill Library, Strafford, NH
REFRESH-INTERVAL;VALUE=DURATION:PT1H
X-Robots-Tag:noindex
X-PUBLISHED-TTL:PT1H
BEGIN:VTIMEZONE
TZID:America/New_York
BEGIN:DAYLIGHT
TZOFFSETFROM:-0500
TZOFFSETTO:-0400
TZNAME:EDT
DTSTART:20250309T070000
END:DAYLIGHT
BEGIN:STANDARD
TZOFFSETFROM:-0400
TZOFFSETTO:-0500
TZNAME:EST
DTSTART:20251102T060000
END:STANDARD
BEGIN:DAYLIGHT
TZOFFSETFROM:-0500
TZOFFSETTO:-0400
TZNAME:EDT
DTSTART:20260308T070000
END:DAYLIGHT
BEGIN:STANDARD
TZOFFSETFROM:-0400
TZOFFSETTO:-0500
TZNAME:EST
DTSTART:20261101T060000
END:STANDARD
BEGIN:DAYLIGHT
TZOFFSETFROM:-0500
TZOFFSETTO:-0400
TZNAME:EDT
DTSTART:20270314T070000
END:DAYLIGHT
BEGIN:STANDARD
TZOFFSETFROM:-0400
TZOFFSETTO:-0500
TZNAME:EST
DTSTART:20271107T060000
END:STANDARD
END:VTIMEZONE
BEGIN:VEVENT
DTSTART;TZID=America/New_York:20260202T100000
DTEND;TZID=America/New_York:20260202T103000
DTSTAMP:20260423T221709
CREATED:20240916T151257Z
LAST-MODIFIED:20260325T212321Z
UID:10000070-1770026400-1770028200@hilllibrary.org
SUMMARY:Story Time
DESCRIPTION:Join us at 10 am on Mondays for some songs\, stories\, and a craft! All ages welcome.
URL:https://hilllibrary.org/event/story-time/2026-02-02/
LOCATION:Hill Library\, 1151 Parker Mountain Road\, Strafford\, NH\, 03884
CATEGORIES:Ages 0-5
ATTACH;FMTTYPE=image/png:https://hilllibrary.org/wp-content/uploads/2024/04/Storytime.png
ORGANIZER;CN="Hill Library":MAILTO:lmolloy@hilllibrary.org
END:VEVENT
BEGIN:VEVENT
DTSTART;TZID=America/New_York:20260205T100000
DTEND;TZID=America/New_York:20260205T110000
DTSTAMP:20260423T221709
CREATED:20250915T174457Z
LAST-MODIFIED:20260325T212358Z
UID:10004771-1770285600-1770289200@hilllibrary.org
SUMMARY:Sensory Playtime
DESCRIPTION:﻿Join us every other Thursday for some sensory play fun! We’ll have playdough\, kinetic sand\, pom-poms\, and all sorts of other rotating activities. Practice fine motor skills and explore the world!
URL:https://hilllibrary.org/event/sensory-playtime-2/2026-02-05/
LOCATION:Hill Library\, 1151 Parker Mountain Road\, Strafford\, NH\, 03884
CATEGORIES:Ages 0-5
ATTACH;FMTTYPE=image/jpeg:https://hilllibrary.org/wp-content/uploads/2025/09/Sensory-Playtime.jpg
ORGANIZER;CN="Hill Library":MAILTO:lmolloy@hilllibrary.org
END:VEVENT
BEGIN:VEVENT
DTSTART;TZID=America/New_York:20260209T100000
DTEND;TZID=America/New_York:20260209T103000
DTSTAMP:20260423T221709
CREATED:20240916T151257Z
LAST-MODIFIED:20260325T212321Z
UID:10000071-1770631200-1770633000@hilllibrary.org
SUMMARY:Story Time
DESCRIPTION:Join us at 10 am on Mondays for some songs\, stories\, and a craft! All ages welcome.
URL:https://hilllibrary.org/event/story-time/2026-02-09/
LOCATION:Hill Library\, 1151 Parker Mountain Road\, Strafford\, NH\, 03884
CATEGORIES:Ages 0-5
ATTACH;FMTTYPE=image/png:https://hilllibrary.org/wp-content/uploads/2024/04/Storytime.png
ORGANIZER;CN="Hill Library":MAILTO:lmolloy@hilllibrary.org
END:VEVENT
BEGIN:VEVENT
DTSTART;TZID=America/New_York:20260212T100000
DTEND;TZID=America/New_York:20260212T103000
DTSTAMP:20260423T221709
CREATED:20250915T173938Z
LAST-MODIFIED:20260218T171142Z
UID:10001694-1770890400-1770892200@hilllibrary.org
SUMMARY:Music and Movement
DESCRIPTION:Let’s move and groove with songs\, scarves\, egg shakers\, and our parachute! All ages welcome. Music and Movement meets on alternate Thursdays.
URL:https://hilllibrary.org/event/music-and-movement-2-4/2026-02-12/
LOCATION:Hill Library\, 1151 Parker Mountain Road\, Strafford\, NH\, 03884
CATEGORIES:Ages 0-5
ATTACH;FMTTYPE=image/png:https://hilllibrary.org/wp-content/uploads/2024/09/MM.png
ORGANIZER;CN="Hill Library":MAILTO:lmolloy@hilllibrary.org
END:VEVENT
BEGIN:VEVENT
DTSTART;TZID=America/New_York:20260219T100000
DTEND;TZID=America/New_York:20260219T110000
DTSTAMP:20260423T221709
CREATED:20250915T174457Z
LAST-MODIFIED:20260325T212358Z
UID:10004772-1771495200-1771498800@hilllibrary.org
SUMMARY:Sensory Playtime
DESCRIPTION:﻿Join us every other Thursday for some sensory play fun! We’ll have playdough\, kinetic sand\, pom-poms\, and all sorts of other rotating activities. Practice fine motor skills and explore the world!
URL:https://hilllibrary.org/event/sensory-playtime-2/2026-02-19/
LOCATION:Hill Library\, 1151 Parker Mountain Road\, Strafford\, NH\, 03884
CATEGORIES:Ages 0-5
ATTACH;FMTTYPE=image/jpeg:https://hilllibrary.org/wp-content/uploads/2025/09/Sensory-Playtime.jpg
ORGANIZER;CN="Hill Library":MAILTO:lmolloy@hilllibrary.org
END:VEVENT
END:VCALENDAR