BEGIN:VCALENDAR
VERSION:2.0
PRODID:-//Hill Library, Strafford, NH - ECPv6.15.20//NONSGML v1.0//EN
CALSCALE:GREGORIAN
METHOD:PUBLISH
X-ORIGINAL-URL:https://hilllibrary.org
X-WR-CALDESC:Events for Hill Library, Strafford, NH
REFRESH-INTERVAL;VALUE=DURATION:PT1H
X-Robots-Tag:noindex
X-PUBLISHED-TTL:PT1H
BEGIN:VTIMEZONE
TZID:America/New_York
BEGIN:DAYLIGHT
TZOFFSETFROM:-0500
TZOFFSETTO:-0400
TZNAME:EDT
DTSTART:20270314T070000
END:DAYLIGHT
BEGIN:STANDARD
TZOFFSETFROM:-0400
TZOFFSETTO:-0500
TZNAME:EST
DTSTART:20271107T060000
END:STANDARD
BEGIN:DAYLIGHT
TZOFFSETFROM:-0500
TZOFFSETTO:-0400
TZNAME:EDT
DTSTART:20280312T070000
END:DAYLIGHT
BEGIN:STANDARD
TZOFFSETFROM:-0400
TZOFFSETTO:-0500
TZNAME:EST
DTSTART:20281105T060000
END:STANDARD
BEGIN:DAYLIGHT
TZOFFSETFROM:-0500
TZOFFSETTO:-0400
TZNAME:EDT
DTSTART:20290311T070000
END:DAYLIGHT
BEGIN:STANDARD
TZOFFSETFROM:-0400
TZOFFSETTO:-0500
TZNAME:EST
DTSTART:20291104T060000
END:STANDARD
END:VTIMEZONE
BEGIN:VEVENT
DTSTART;TZID=America/New_York:20280601T130000
DTEND;TZID=America/New_York:20280601T150000
DTSTAMP:20260425T203726
CREATED:20241229T224919Z
LAST-MODIFIED:20251021T174443Z
UID:10002909-1843477200-1843484400@hilllibrary.org
SUMMARY:Mah Jongg Club
DESCRIPTION:
URL:https://hilllibrary.org/event/mah-jongg-club-2/2028-06-01/
LOCATION:Hill Library\, 1151 Parker Mountain Road\, Strafford\, NH\, 03884
CATEGORIES:Adult programs
ATTACH;FMTTYPE=image/png:https://hilllibrary.org/wp-content/uploads/2022/08/mahjong-1080-×-400-px.png
ORGANIZER;CN="Hill Library":MAILTO:lmolloy@hilllibrary.org
END:VEVENT
BEGIN:VEVENT
DTSTART;TZID=America/New_York:20280602T100000
DTEND;TZID=America/New_York:20280602T110000
DTSTAMP:20260425T203726
CREATED:20250815T205028Z
LAST-MODIFIED:20251215T155000Z
UID:10005979-1843552800-1843556400@hilllibrary.org
SUMMARY:Balance Exercise class
DESCRIPTION:Balance exercise class is staring back up on Tuesday and Friday mornings at 10 am. Join us for an hour of gentle stretching\, balance exercises and strength training. Registration is required. \n 
URL:https://hilllibrary.org/event/balance-exercise-class/2028-06-02/
LOCATION:Hill Library\, 1151 Parker Mountain Road\, Strafford\, NH\, 03884
CATEGORIES:Adult programs
ATTACH;FMTTYPE=image/png:https://hilllibrary.org/wp-content/uploads/2025/04/Balance-cancelled.png
ORGANIZER;CN="Hill Library":MAILTO:lmolloy@hilllibrary.org
END:VEVENT
BEGIN:VEVENT
DTSTART;TZID=America/New_York:20280603T090000
DTEND;TZID=America/New_York:20280603T100000
DTSTAMP:20260425T203726
CREATED:20241005T161420Z
LAST-MODIFIED:20260206T193134Z
UID:10004258-1843635600-1843639200@hilllibrary.org
SUMMARY:Gentle Flow Yoga 9am-10am
DESCRIPTION:
URL:https://hilllibrary.org/event/gentle-flow-yoga-2-2/2028-06-03/
LOCATION:Hill Library\, 1151 Parker Mountain Road\, Strafford\, NH\, 03884
CATEGORIES:Adult programs
ATTACH;FMTTYPE=image/png:https://hilllibrary.org/wp-content/uploads/2024/03/Copy-of-Copy-of-Copy-of-Copy-of-GENTLE-FLOW-YOGA.png
ORGANIZER;CN="Hill Library":MAILTO:lmolloy@hilllibrary.org
END:VEVENT
BEGIN:VEVENT
DTSTART;TZID=America/New_York:20280606T100000
DTEND;TZID=America/New_York:20280606T110000
DTSTAMP:20260425T203726
CREATED:20250815T204732Z
LAST-MODIFIED:20260113T122132Z
UID:10006237-1843898400-1843902000@hilllibrary.org
SUMMARY:Balance Exercise class
DESCRIPTION:Balance exercise class is staring back up on Tuesday and Friday mornings at 10 am. Join us for an hour of gentle stretching\, balance exercises and strength training. Registration is required.
URL:https://hilllibrary.org/event/better-balance-exercise-class-2/2028-06-06/
LOCATION:Hill Library\, 1151 Parker Mountain Road\, Strafford\, NH\, 03884
CATEGORIES:Adult programs
ATTACH;FMTTYPE=image/png:https://hilllibrary.org/wp-content/uploads/2025/04/Balance-cancelled.png
ORGANIZER;CN="Hill Library":MAILTO:lmolloy@hilllibrary.org
END:VEVENT
BEGIN:VEVENT
DTSTART;TZID=America/New_York:20280606T120000
DTEND;TZID=America/New_York:20280606T140000
DTSTAMP:20260425T203726
CREATED:20240918T195441Z
LAST-MODIFIED:20251215T155612Z
UID:10001033-1843905600-1843912800@hilllibrary.org
SUMMARY:Handy Crafters
DESCRIPTION:
URL:https://hilllibrary.org/event/handy-crafters/2028-06-06/
LOCATION:Hill Library\, 1151 Parker Mountain Road\, Strafford\, NH\, 03884
CATEGORIES:Adult programs
ATTACH;FMTTYPE=image/png:https://hilllibrary.org/wp-content/uploads/2024/09/Copy-of-If-youre-handy-join-the-Handy-Crafters-as-they-work-on-crafting-hats-and-scarves-for-members-of-the-military.-Stop-by-for-a-pattern.png
ORGANIZER;CN="Hill Library":MAILTO:lmolloy@hilllibrary.org
END:VEVENT
BEGIN:VEVENT
DTSTART;TZID=America/New_York:20280607T103000
DTEND;TZID=America/New_York:20280607T113000
DTSTAMP:20260425T203726
CREATED:20250127T182435Z
LAST-MODIFIED:20260107T131201Z
UID:10003048-1843986600-1843990200@hilllibrary.org
SUMMARY:Caregiver Café
DESCRIPTION:
URL:https://hilllibrary.org/event/caregiver-cafe-4-2/2028-06-07/
LOCATION:Hill Library\, 1151 Parker Mountain Road\, Strafford\, NH\, 03884
CATEGORIES:Adult programs
ATTACH;FMTTYPE=image/png:https://hilllibrary.org/wp-content/uploads/2025/01/Copy-of-Untitled-design.png
ORGANIZER;CN="Hill Library":MAILTO:lmolloy@hilllibrary.org
END:VEVENT
BEGIN:VEVENT
DTSTART;TZID=America/New_York:20280608T130000
DTEND;TZID=America/New_York:20280608T150000
DTSTAMP:20260425T203726
CREATED:20241229T224919Z
LAST-MODIFIED:20251021T174443Z
UID:10002910-1844082000-1844089200@hilllibrary.org
SUMMARY:Mah Jongg Club
DESCRIPTION:
URL:https://hilllibrary.org/event/mah-jongg-club-2/2028-06-08/
LOCATION:Hill Library\, 1151 Parker Mountain Road\, Strafford\, NH\, 03884
CATEGORIES:Adult programs
ATTACH;FMTTYPE=image/png:https://hilllibrary.org/wp-content/uploads/2022/08/mahjong-1080-×-400-px.png
ORGANIZER;CN="Hill Library":MAILTO:lmolloy@hilllibrary.org
END:VEVENT
BEGIN:VEVENT
DTSTART;TZID=America/New_York:20280609T100000
DTEND;TZID=America/New_York:20280609T110000
DTSTAMP:20260425T203726
CREATED:20250815T205028Z
LAST-MODIFIED:20251215T155000Z
UID:10005980-1844157600-1844161200@hilllibrary.org
SUMMARY:Balance Exercise class
DESCRIPTION:Balance exercise class is staring back up on Tuesday and Friday mornings at 10 am. Join us for an hour of gentle stretching\, balance exercises and strength training. Registration is required. \n 
URL:https://hilllibrary.org/event/balance-exercise-class/2028-06-09/
LOCATION:Hill Library\, 1151 Parker Mountain Road\, Strafford\, NH\, 03884
CATEGORIES:Adult programs
ATTACH;FMTTYPE=image/png:https://hilllibrary.org/wp-content/uploads/2025/04/Balance-cancelled.png
ORGANIZER;CN="Hill Library":MAILTO:lmolloy@hilllibrary.org
END:VEVENT
BEGIN:VEVENT
DTSTART;TZID=America/New_York:20280610T090000
DTEND;TZID=America/New_York:20280610T100000
DTSTAMP:20260425T203726
CREATED:20241005T161420Z
LAST-MODIFIED:20260206T193134Z
UID:10004259-1844240400-1844244000@hilllibrary.org
SUMMARY:Gentle Flow Yoga 9am-10am
DESCRIPTION:
URL:https://hilllibrary.org/event/gentle-flow-yoga-2-2/2028-06-10/
LOCATION:Hill Library\, 1151 Parker Mountain Road\, Strafford\, NH\, 03884
CATEGORIES:Adult programs
ATTACH;FMTTYPE=image/png:https://hilllibrary.org/wp-content/uploads/2024/03/Copy-of-Copy-of-Copy-of-Copy-of-GENTLE-FLOW-YOGA.png
ORGANIZER;CN="Hill Library":MAILTO:lmolloy@hilllibrary.org
END:VEVENT
BEGIN:VEVENT
DTSTART;TZID=America/New_York:20280613T100000
DTEND;TZID=America/New_York:20280613T110000
DTSTAMP:20260425T203726
CREATED:20250815T204732Z
LAST-MODIFIED:20260113T122132Z
UID:10006238-1844503200-1844506800@hilllibrary.org
SUMMARY:Balance Exercise class
DESCRIPTION:Balance exercise class is staring back up on Tuesday and Friday mornings at 10 am. Join us for an hour of gentle stretching\, balance exercises and strength training. Registration is required.
URL:https://hilllibrary.org/event/better-balance-exercise-class-2/2028-06-13/
LOCATION:Hill Library\, 1151 Parker Mountain Road\, Strafford\, NH\, 03884
CATEGORIES:Adult programs
ATTACH;FMTTYPE=image/png:https://hilllibrary.org/wp-content/uploads/2025/04/Balance-cancelled.png
ORGANIZER;CN="Hill Library":MAILTO:lmolloy@hilllibrary.org
END:VEVENT
BEGIN:VEVENT
DTSTART;TZID=America/New_York:20280613T120000
DTEND;TZID=America/New_York:20280613T140000
DTSTAMP:20260425T203726
CREATED:20240918T195441Z
LAST-MODIFIED:20251215T155612Z
UID:10001034-1844510400-1844517600@hilllibrary.org
SUMMARY:Handy Crafters
DESCRIPTION:
URL:https://hilllibrary.org/event/handy-crafters/2028-06-13/
LOCATION:Hill Library\, 1151 Parker Mountain Road\, Strafford\, NH\, 03884
CATEGORIES:Adult programs
ATTACH;FMTTYPE=image/png:https://hilllibrary.org/wp-content/uploads/2024/09/Copy-of-If-youre-handy-join-the-Handy-Crafters-as-they-work-on-crafting-hats-and-scarves-for-members-of-the-military.-Stop-by-for-a-pattern.png
ORGANIZER;CN="Hill Library":MAILTO:lmolloy@hilllibrary.org
END:VEVENT
BEGIN:VEVENT
DTSTART;TZID=America/New_York:20280613T140000
DTEND;TZID=America/New_York:20280613T160000
DTSTAMP:20260425T203726
CREATED:20240916T193239Z
LAST-MODIFIED:20251020T180237Z
UID:10000486-1844517600-1844524800@hilllibrary.org
SUMMARY:Computer Clinic
DESCRIPTION:
URL:https://hilllibrary.org/event/computer-clinic/2028-06-13/
LOCATION:Hill Library\, 1151 Parker Mountain Road\, Strafford\, NH\, 03884
CATEGORIES:Adult programs
ATTACH;FMTTYPE=image/png:https://hilllibrary.org/wp-content/uploads/2023/10/Copy-of-Computer-Clinic-1080-×-400-px-1.png
ORGANIZER;CN="Hill Library":MAILTO:lmolloy@hilllibrary.org
END:VEVENT
BEGIN:VEVENT
DTSTART;TZID=America/New_York:20280615T130000
DTEND;TZID=America/New_York:20280615T150000
DTSTAMP:20260425T203726
CREATED:20241229T224919Z
LAST-MODIFIED:20251021T174443Z
UID:10002911-1844686800-1844694000@hilllibrary.org
SUMMARY:Mah Jongg Club
DESCRIPTION:
URL:https://hilllibrary.org/event/mah-jongg-club-2/2028-06-15/
LOCATION:Hill Library\, 1151 Parker Mountain Road\, Strafford\, NH\, 03884
CATEGORIES:Adult programs
ATTACH;FMTTYPE=image/png:https://hilllibrary.org/wp-content/uploads/2022/08/mahjong-1080-×-400-px.png
ORGANIZER;CN="Hill Library":MAILTO:lmolloy@hilllibrary.org
END:VEVENT
BEGIN:VEVENT
DTSTART;TZID=America/New_York:20280616T100000
DTEND;TZID=America/New_York:20280616T110000
DTSTAMP:20260425T203726
CREATED:20250815T205028Z
LAST-MODIFIED:20251215T155000Z
UID:10005981-1844762400-1844766000@hilllibrary.org
SUMMARY:Balance Exercise class
DESCRIPTION:Balance exercise class is staring back up on Tuesday and Friday mornings at 10 am. Join us for an hour of gentle stretching\, balance exercises and strength training. Registration is required. \n 
URL:https://hilllibrary.org/event/balance-exercise-class/2028-06-16/
LOCATION:Hill Library\, 1151 Parker Mountain Road\, Strafford\, NH\, 03884
CATEGORIES:Adult programs
ATTACH;FMTTYPE=image/png:https://hilllibrary.org/wp-content/uploads/2025/04/Balance-cancelled.png
ORGANIZER;CN="Hill Library":MAILTO:lmolloy@hilllibrary.org
END:VEVENT
BEGIN:VEVENT
DTSTART;TZID=America/New_York:20280617T090000
DTEND;TZID=America/New_York:20280617T100000
DTSTAMP:20260425T203726
CREATED:20241005T161420Z
LAST-MODIFIED:20260206T193134Z
UID:10004260-1844845200-1844848800@hilllibrary.org
SUMMARY:Gentle Flow Yoga 9am-10am
DESCRIPTION:
URL:https://hilllibrary.org/event/gentle-flow-yoga-2-2/2028-06-17/
LOCATION:Hill Library\, 1151 Parker Mountain Road\, Strafford\, NH\, 03884
CATEGORIES:Adult programs
ATTACH;FMTTYPE=image/png:https://hilllibrary.org/wp-content/uploads/2024/03/Copy-of-Copy-of-Copy-of-Copy-of-GENTLE-FLOW-YOGA.png
ORGANIZER;CN="Hill Library":MAILTO:lmolloy@hilllibrary.org
END:VEVENT
BEGIN:VEVENT
DTSTART;TZID=America/New_York:20280620T100000
DTEND;TZID=America/New_York:20280620T110000
DTSTAMP:20260425T203726
CREATED:20250815T204732Z
LAST-MODIFIED:20260113T122132Z
UID:10006239-1845108000-1845111600@hilllibrary.org
SUMMARY:Balance Exercise class
DESCRIPTION:Balance exercise class is staring back up on Tuesday and Friday mornings at 10 am. Join us for an hour of gentle stretching\, balance exercises and strength training. Registration is required.
URL:https://hilllibrary.org/event/better-balance-exercise-class-2/2028-06-20/
LOCATION:Hill Library\, 1151 Parker Mountain Road\, Strafford\, NH\, 03884
CATEGORIES:Adult programs
ATTACH;FMTTYPE=image/png:https://hilllibrary.org/wp-content/uploads/2025/04/Balance-cancelled.png
ORGANIZER;CN="Hill Library":MAILTO:lmolloy@hilllibrary.org
END:VEVENT
BEGIN:VEVENT
DTSTART;TZID=America/New_York:20280620T120000
DTEND;TZID=America/New_York:20280620T140000
DTSTAMP:20260425T203726
CREATED:20240918T195441Z
LAST-MODIFIED:20251215T155612Z
UID:10001035-1845115200-1845122400@hilllibrary.org
SUMMARY:Handy Crafters
DESCRIPTION:
URL:https://hilllibrary.org/event/handy-crafters/2028-06-20/
LOCATION:Hill Library\, 1151 Parker Mountain Road\, Strafford\, NH\, 03884
CATEGORIES:Adult programs
ATTACH;FMTTYPE=image/png:https://hilllibrary.org/wp-content/uploads/2024/09/Copy-of-If-youre-handy-join-the-Handy-Crafters-as-they-work-on-crafting-hats-and-scarves-for-members-of-the-military.-Stop-by-for-a-pattern.png
ORGANIZER;CN="Hill Library":MAILTO:lmolloy@hilllibrary.org
END:VEVENT
BEGIN:VEVENT
DTSTART;TZID=America/New_York:20280622T130000
DTEND;TZID=America/New_York:20280622T150000
DTSTAMP:20260425T203726
CREATED:20241229T224919Z
LAST-MODIFIED:20251021T174443Z
UID:10002912-1845291600-1845298800@hilllibrary.org
SUMMARY:Mah Jongg Club
DESCRIPTION:
URL:https://hilllibrary.org/event/mah-jongg-club-2/2028-06-22/
LOCATION:Hill Library\, 1151 Parker Mountain Road\, Strafford\, NH\, 03884
CATEGORIES:Adult programs
ATTACH;FMTTYPE=image/png:https://hilllibrary.org/wp-content/uploads/2022/08/mahjong-1080-×-400-px.png
ORGANIZER;CN="Hill Library":MAILTO:lmolloy@hilllibrary.org
END:VEVENT
BEGIN:VEVENT
DTSTART;TZID=America/New_York:20280623T100000
DTEND;TZID=America/New_York:20280623T110000
DTSTAMP:20260425T203726
CREATED:20250815T205028Z
LAST-MODIFIED:20251215T155000Z
UID:10005982-1845367200-1845370800@hilllibrary.org
SUMMARY:Balance Exercise class
DESCRIPTION:Balance exercise class is staring back up on Tuesday and Friday mornings at 10 am. Join us for an hour of gentle stretching\, balance exercises and strength training. Registration is required. \n 
URL:https://hilllibrary.org/event/balance-exercise-class/2028-06-23/
LOCATION:Hill Library\, 1151 Parker Mountain Road\, Strafford\, NH\, 03884
CATEGORIES:Adult programs
ATTACH;FMTTYPE=image/png:https://hilllibrary.org/wp-content/uploads/2025/04/Balance-cancelled.png
ORGANIZER;CN="Hill Library":MAILTO:lmolloy@hilllibrary.org
END:VEVENT
BEGIN:VEVENT
DTSTART;TZID=America/New_York:20280624T090000
DTEND;TZID=America/New_York:20280624T100000
DTSTAMP:20260425T203726
CREATED:20241005T161420Z
LAST-MODIFIED:20260206T193134Z
UID:10004261-1845450000-1845453600@hilllibrary.org
SUMMARY:Gentle Flow Yoga 9am-10am
DESCRIPTION:
URL:https://hilllibrary.org/event/gentle-flow-yoga-2-2/2028-06-24/
LOCATION:Hill Library\, 1151 Parker Mountain Road\, Strafford\, NH\, 03884
CATEGORIES:Adult programs
ATTACH;FMTTYPE=image/png:https://hilllibrary.org/wp-content/uploads/2024/03/Copy-of-Copy-of-Copy-of-Copy-of-GENTLE-FLOW-YOGA.png
ORGANIZER;CN="Hill Library":MAILTO:lmolloy@hilllibrary.org
END:VEVENT
BEGIN:VEVENT
DTSTART;TZID=America/New_York:20280627T100000
DTEND;TZID=America/New_York:20280627T110000
DTSTAMP:20260425T203726
CREATED:20250815T204732Z
LAST-MODIFIED:20260113T122132Z
UID:10006240-1845712800-1845716400@hilllibrary.org
SUMMARY:Balance Exercise class
DESCRIPTION:Balance exercise class is staring back up on Tuesday and Friday mornings at 10 am. Join us for an hour of gentle stretching\, balance exercises and strength training. Registration is required.
URL:https://hilllibrary.org/event/better-balance-exercise-class-2/2028-06-27/
LOCATION:Hill Library\, 1151 Parker Mountain Road\, Strafford\, NH\, 03884
CATEGORIES:Adult programs
ATTACH;FMTTYPE=image/png:https://hilllibrary.org/wp-content/uploads/2025/04/Balance-cancelled.png
ORGANIZER;CN="Hill Library":MAILTO:lmolloy@hilllibrary.org
END:VEVENT
BEGIN:VEVENT
DTSTART;TZID=America/New_York:20280627T120000
DTEND;TZID=America/New_York:20280627T140000
DTSTAMP:20260425T203726
CREATED:20240918T195441Z
LAST-MODIFIED:20251215T155612Z
UID:10001036-1845720000-1845727200@hilllibrary.org
SUMMARY:Handy Crafters
DESCRIPTION:
URL:https://hilllibrary.org/event/handy-crafters/2028-06-27/
LOCATION:Hill Library\, 1151 Parker Mountain Road\, Strafford\, NH\, 03884
CATEGORIES:Adult programs
ATTACH;FMTTYPE=image/png:https://hilllibrary.org/wp-content/uploads/2024/09/Copy-of-If-youre-handy-join-the-Handy-Crafters-as-they-work-on-crafting-hats-and-scarves-for-members-of-the-military.-Stop-by-for-a-pattern.png
ORGANIZER;CN="Hill Library":MAILTO:lmolloy@hilllibrary.org
END:VEVENT
BEGIN:VEVENT
DTSTART;TZID=America/New_York:20280628T180000
DTEND;TZID=America/New_York:20280628T193000
DTSTAMP:20260425T203726
CREATED:20250404T193558Z
LAST-MODIFIED:20260423T180749Z
UID:10003608-1845828000-1845833400@hilllibrary.org
SUMMARY:Board of Trustees Meeting
DESCRIPTION:
URL:https://hilllibrary.org/event/board-of-trustees-meeting/2028-06-28/
LOCATION:Hill Library\, 1151 Parker Mountain Road\, Strafford\, NH\, 03884
CATEGORIES:Adult programs
ATTACH;FMTTYPE=image/png:https://hilllibrary.org/wp-content/uploads/2023/08/Trustees-1080-×-400-px-1.png
ORGANIZER;CN="Hill Library":MAILTO:lmolloy@hilllibrary.org
END:VEVENT
BEGIN:VEVENT
DTSTART;TZID=America/New_York:20280629T130000
DTEND;TZID=America/New_York:20280629T150000
DTSTAMP:20260425T203726
CREATED:20241229T224919Z
LAST-MODIFIED:20251021T174443Z
UID:10002913-1845896400-1845903600@hilllibrary.org
SUMMARY:Mah Jongg Club
DESCRIPTION:
URL:https://hilllibrary.org/event/mah-jongg-club-2/2028-06-29/
LOCATION:Hill Library\, 1151 Parker Mountain Road\, Strafford\, NH\, 03884
CATEGORIES:Adult programs
ATTACH;FMTTYPE=image/png:https://hilllibrary.org/wp-content/uploads/2022/08/mahjong-1080-×-400-px.png
ORGANIZER;CN="Hill Library":MAILTO:lmolloy@hilllibrary.org
END:VEVENT
BEGIN:VEVENT
DTSTART;TZID=America/New_York:20280630T100000
DTEND;TZID=America/New_York:20280630T110000
DTSTAMP:20260425T203726
CREATED:20250815T205028Z
LAST-MODIFIED:20251215T155000Z
UID:10005983-1845972000-1845975600@hilllibrary.org
SUMMARY:Balance Exercise class
DESCRIPTION:Balance exercise class is staring back up on Tuesday and Friday mornings at 10 am. Join us for an hour of gentle stretching\, balance exercises and strength training. Registration is required. \n 
URL:https://hilllibrary.org/event/balance-exercise-class/2028-06-30/
LOCATION:Hill Library\, 1151 Parker Mountain Road\, Strafford\, NH\, 03884
CATEGORIES:Adult programs
ATTACH;FMTTYPE=image/png:https://hilllibrary.org/wp-content/uploads/2025/04/Balance-cancelled.png
ORGANIZER;CN="Hill Library":MAILTO:lmolloy@hilllibrary.org
END:VEVENT
END:VCALENDAR