BEGIN:VCALENDAR
VERSION:2.0
PRODID:-//Hill Library, Strafford, NH - ECPv6.15.20//NONSGML v1.0//EN
CALSCALE:GREGORIAN
METHOD:PUBLISH
X-ORIGINAL-URL:https://hilllibrary.org
X-WR-CALDESC:Events for Hill Library, Strafford, NH
REFRESH-INTERVAL;VALUE=DURATION:PT1H
X-Robots-Tag:noindex
X-PUBLISHED-TTL:PT1H
BEGIN:VTIMEZONE
TZID:America/New_York
BEGIN:DAYLIGHT
TZOFFSETFROM:-0500
TZOFFSETTO:-0400
TZNAME:EDT
DTSTART:20230312T070000
END:DAYLIGHT
BEGIN:STANDARD
TZOFFSETFROM:-0400
TZOFFSETTO:-0500
TZNAME:EST
DTSTART:20231105T060000
END:STANDARD
BEGIN:DAYLIGHT
TZOFFSETFROM:-0500
TZOFFSETTO:-0400
TZNAME:EDT
DTSTART:20240310T070000
END:DAYLIGHT
BEGIN:STANDARD
TZOFFSETFROM:-0400
TZOFFSETTO:-0500
TZNAME:EST
DTSTART:20241103T060000
END:STANDARD
BEGIN:DAYLIGHT
TZOFFSETFROM:-0500
TZOFFSETTO:-0400
TZNAME:EDT
DTSTART:20250309T070000
END:DAYLIGHT
BEGIN:STANDARD
TZOFFSETFROM:-0400
TZOFFSETTO:-0500
TZNAME:EST
DTSTART:20251102T060000
END:STANDARD
END:VTIMEZONE
BEGIN:VEVENT
DTSTART;TZID=America/New_York:20241001T120000
DTEND;TZID=America/New_York:20241001T140000
DTSTAMP:20260425T062456
CREATED:20240918T195441Z
LAST-MODIFIED:20251215T155612Z
UID:10000841-1727784000-1727791200@hilllibrary.org
SUMMARY:Handy Crafters
DESCRIPTION:
URL:https://hilllibrary.org/event/handy-crafters/2024-10-01/
LOCATION:Hill Library\, 1151 Parker Mountain Road\, Strafford\, NH\, 03884
CATEGORIES:Adult programs
ATTACH;FMTTYPE=image/png:https://hilllibrary.org/wp-content/uploads/2024/09/Copy-of-If-youre-handy-join-the-Handy-Crafters-as-they-work-on-crafting-hats-and-scarves-for-members-of-the-military.-Stop-by-for-a-pattern.png
ORGANIZER;CN="Hill Library":MAILTO:lmolloy@hilllibrary.org
END:VEVENT
BEGIN:VEVENT
DTSTART;TZID=America/New_York:20241002T130000
DTEND;TZID=America/New_York:20241002T150000
DTSTAMP:20260425T062456
CREATED:20240918T195907Z
LAST-MODIFIED:20241124T235444Z
UID:10001365-1727874000-1727881200@hilllibrary.org
SUMMARY:Mah Jongg Club
DESCRIPTION:
URL:https://hilllibrary.org/event/mah-jongg-club/2024-10-02/
LOCATION:Hill Library\, 1151 Parker Mountain Road\, Strafford\, NH\, 03884
CATEGORIES:Adult programs
ATTACH;FMTTYPE=image/png:https://hilllibrary.org/wp-content/uploads/2022/08/mahjong-1080-×-400-px.png
ORGANIZER;CN="Hill Library":MAILTO:lmolloy@hilllibrary.org
END:VEVENT
BEGIN:VEVENT
DTSTART;TZID=America/New_York:20241002T183000
DTEND;TZID=America/New_York:20241002T193000
DTSTAMP:20260425T062456
CREATED:20240916T211227Z
LAST-MODIFIED:20240926T151911Z
UID:10000514-1727893800-1727897400@hilllibrary.org
SUMMARY:Putting the Garden to Bed
DESCRIPTION:Putting the Garden to Bed: Tips for the Home Gardener \nLearn from Advanced Master Gardener Ron Trexler
URL:https://hilllibrary.org/event/putting-the-garden-to-bed/
LOCATION:Hill Library\, 1151 Parker Mountain Road\, Strafford\, NH\, 03884
CATEGORIES:Adult programs
ATTACH;FMTTYPE=image/png:https://hilllibrary.org/wp-content/uploads/2024/09/Copy-of-Putting-the-Garden-to-Bed-Tips-for-the-Home-Gardener.png
ORGANIZER;CN="Hill Library":MAILTO:lmolloy@hilllibrary.org
END:VEVENT
BEGIN:VEVENT
DTSTART;TZID=America/New_York:20241008T090000
DTEND;TZID=America/New_York:20241008T110000
DTSTAMP:20260425T062456
CREATED:20240916T205211Z
LAST-MODIFIED:20240926T153946Z
UID:10000502-1728378000-1728385200@hilllibrary.org
SUMMARY:A Matter of Balance Class
DESCRIPTION:
URL:https://hilllibrary.org/event/a-matter-of-balance-class/2024-10-08/
LOCATION:Hill Library\, 1151 Parker Mountain Road\, Strafford\, NH\, 03884
CATEGORIES:Adult programs
ATTACH;FMTTYPE=image/png:https://hilllibrary.org/wp-content/uploads/2024/09/Copy-of-Copy-of-Matter-of-Balance-class.png
ORGANIZER;CN="Hill Library":MAILTO:lmolloy@hilllibrary.org
END:VEVENT
BEGIN:VEVENT
DTSTART;TZID=America/New_York:20241008T120000
DTEND;TZID=America/New_York:20241008T140000
DTSTAMP:20260425T062456
CREATED:20240918T195441Z
LAST-MODIFIED:20251215T155612Z
UID:10000842-1728388800-1728396000@hilllibrary.org
SUMMARY:Handy Crafters
DESCRIPTION:
URL:https://hilllibrary.org/event/handy-crafters/2024-10-08/
LOCATION:Hill Library\, 1151 Parker Mountain Road\, Strafford\, NH\, 03884
CATEGORIES:Adult programs
ATTACH;FMTTYPE=image/png:https://hilllibrary.org/wp-content/uploads/2024/09/Copy-of-If-youre-handy-join-the-Handy-Crafters-as-they-work-on-crafting-hats-and-scarves-for-members-of-the-military.-Stop-by-for-a-pattern.png
ORGANIZER;CN="Hill Library":MAILTO:lmolloy@hilllibrary.org
END:VEVENT
BEGIN:VEVENT
DTSTART;TZID=America/New_York:20241008T140000
DTEND;TZID=America/New_York:20241008T160000
DTSTAMP:20260425T062456
CREATED:20240916T193239Z
LAST-MODIFIED:20251020T180237Z
UID:10000442-1728396000-1728403200@hilllibrary.org
SUMMARY:Computer Clinic
DESCRIPTION:
URL:https://hilllibrary.org/event/computer-clinic/2024-10-08/
LOCATION:Hill Library\, 1151 Parker Mountain Road\, Strafford\, NH\, 03884
CATEGORIES:Adult programs
ATTACH;FMTTYPE=image/png:https://hilllibrary.org/wp-content/uploads/2023/10/Copy-of-Computer-Clinic-1080-×-400-px-1.png
ORGANIZER;CN="Hill Library":MAILTO:lmolloy@hilllibrary.org
END:VEVENT
BEGIN:VEVENT
DTSTART;TZID=America/New_York:20241009T103000
DTEND;TZID=America/New_York:20241009T113000
DTSTAMP:20260425T062456
CREATED:20240926T160955Z
LAST-MODIFIED:20241014T190625Z
UID:10002010-1728469800-1728473400@hilllibrary.org
SUMMARY:Caregiver Cafe'
DESCRIPTION:
URL:https://hilllibrary.org/event/caregiver-cafe-4/2024-10-09/
LOCATION:Hill Library\, 1151 Parker Mountain Road\, Strafford\, NH\, 03884
CATEGORIES:Adult programs
ATTACH;FMTTYPE=image/png:https://hilllibrary.org/wp-content/uploads/2023/10/Copy-of-Caregiver-Cafe-1080-x-400-px.png
ORGANIZER;CN="Hill Library":MAILTO:lmolloy@hilllibrary.org
END:VEVENT
BEGIN:VEVENT
DTSTART;TZID=America/New_York:20241009T130000
DTEND;TZID=America/New_York:20241009T150000
DTSTAMP:20260425T062456
CREATED:20240918T195907Z
LAST-MODIFIED:20241124T235444Z
UID:10001366-1728478800-1728486000@hilllibrary.org
SUMMARY:Mah Jongg Club
DESCRIPTION:
URL:https://hilllibrary.org/event/mah-jongg-club/2024-10-09/
LOCATION:Hill Library\, 1151 Parker Mountain Road\, Strafford\, NH\, 03884
CATEGORIES:Adult programs
ATTACH;FMTTYPE=image/png:https://hilllibrary.org/wp-content/uploads/2022/08/mahjong-1080-×-400-px.png
ORGANIZER;CN="Hill Library":MAILTO:lmolloy@hilllibrary.org
END:VEVENT
BEGIN:VEVENT
DTSTART;TZID=America/New_York:20241011T090000
DTEND;TZID=America/New_York:20241011T110000
DTSTAMP:20260425T062456
CREATED:20240916T210556Z
LAST-MODIFIED:20240926T153807Z
UID:10000510-1728637200-1728644400@hilllibrary.org
SUMMARY:A Matter of Balance Class
DESCRIPTION:
URL:https://hilllibrary.org/event/a-matter-of-balance-class-2-2/2024-10-11/
LOCATION:Hill Library\, 1151 Parker Mountain Road\, Strafford\, NH\, 03884
CATEGORIES:Adult programs
ATTACH;FMTTYPE=image/png:https://hilllibrary.org/wp-content/uploads/2024/09/Copy-of-Copy-of-Matter-of-Balance-class.png
ORGANIZER;CN="Hill Library":MAILTO:lmolloy@hilllibrary.org
END:VEVENT
BEGIN:VEVENT
DTSTART;TZID=America/New_York:20241011T173000
DTEND;TZID=America/New_York:20241011T190000
DTSTAMP:20260425T062456
CREATED:20240916T211638Z
LAST-MODIFIED:20240918T194040Z
UID:10000515-1728667800-1728673200@hilllibrary.org
SUMMARY:From Open Cockpit to Around the World in 12 Days!
DESCRIPTION:
URL:https://hilllibrary.org/event/from-open-cockpit-to-around-the-world-in-12-days/
LOCATION:Hill Library\, 1151 Parker Mountain Road\, Strafford\, NH\, 03884
CATEGORIES:Adult programs
ATTACH;FMTTYPE=image/png:https://hilllibrary.org/wp-content/uploads/2024/09/Copy-of-JD-Flight-Program.png
ORGANIZER;CN="Hill Library":MAILTO:lmolloy@hilllibrary.org
END:VEVENT
BEGIN:VEVENT
DTSTART;TZID=America/New_York:20241015T090000
DTEND;TZID=America/New_York:20241015T110000
DTSTAMP:20260425T062456
CREATED:20240916T205211Z
LAST-MODIFIED:20240926T153946Z
UID:10000503-1728982800-1728990000@hilllibrary.org
SUMMARY:A Matter of Balance Class
DESCRIPTION:
URL:https://hilllibrary.org/event/a-matter-of-balance-class/2024-10-15/
LOCATION:Hill Library\, 1151 Parker Mountain Road\, Strafford\, NH\, 03884
CATEGORIES:Adult programs
ATTACH;FMTTYPE=image/png:https://hilllibrary.org/wp-content/uploads/2024/09/Copy-of-Copy-of-Matter-of-Balance-class.png
ORGANIZER;CN="Hill Library":MAILTO:lmolloy@hilllibrary.org
END:VEVENT
BEGIN:VEVENT
DTSTART;TZID=America/New_York:20241015T120000
DTEND;TZID=America/New_York:20241015T140000
DTSTAMP:20260425T062456
CREATED:20240918T195441Z
LAST-MODIFIED:20251215T155612Z
UID:10000843-1728993600-1729000800@hilllibrary.org
SUMMARY:Handy Crafters
DESCRIPTION:
URL:https://hilllibrary.org/event/handy-crafters/2024-10-15/
LOCATION:Hill Library\, 1151 Parker Mountain Road\, Strafford\, NH\, 03884
CATEGORIES:Adult programs
ATTACH;FMTTYPE=image/png:https://hilllibrary.org/wp-content/uploads/2024/09/Copy-of-If-youre-handy-join-the-Handy-Crafters-as-they-work-on-crafting-hats-and-scarves-for-members-of-the-military.-Stop-by-for-a-pattern.png
ORGANIZER;CN="Hill Library":MAILTO:lmolloy@hilllibrary.org
END:VEVENT
BEGIN:VEVENT
DTSTART;TZID=America/New_York:20241015T180000
DTEND;TZID=America/New_York:20241015T190000
DTSTAMP:20260425T062456
CREATED:20240926T161508Z
LAST-MODIFIED:20260326T144328Z
UID:10002135-1729015200-1729018800@hilllibrary.org
SUMMARY:New Library Meeting
DESCRIPTION:
URL:https://hilllibrary.org/event/new-library-meeting/2024-10-15/
LOCATION:Hill Library\, 1151 Parker Mountain Road\, Strafford\, NH\, 03884
CATEGORIES:Adult programs
ATTACH;FMTTYPE=image/png:https://hilllibrary.org/wp-content/uploads/2024/09/Copy-of-New-Library-MTGInstagram-Post.png
ORGANIZER;CN="Hill Library":MAILTO:lmolloy@hilllibrary.org
END:VEVENT
BEGIN:VEVENT
DTSTART;TZID=America/New_York:20241016T130000
DTEND;TZID=America/New_York:20241016T150000
DTSTAMP:20260425T062456
CREATED:20240918T195907Z
LAST-MODIFIED:20241124T235444Z
UID:10001367-1729083600-1729090800@hilllibrary.org
SUMMARY:Mah Jongg Club
DESCRIPTION:
URL:https://hilllibrary.org/event/mah-jongg-club/2024-10-16/
LOCATION:Hill Library\, 1151 Parker Mountain Road\, Strafford\, NH\, 03884
CATEGORIES:Adult programs
ATTACH;FMTTYPE=image/png:https://hilllibrary.org/wp-content/uploads/2022/08/mahjong-1080-×-400-px.png
ORGANIZER;CN="Hill Library":MAILTO:lmolloy@hilllibrary.org
END:VEVENT
BEGIN:VEVENT
DTSTART;TZID=America/New_York:20241018T090000
DTEND;TZID=America/New_York:20241018T110000
DTSTAMP:20260425T062456
CREATED:20240916T210556Z
LAST-MODIFIED:20240926T153807Z
UID:10000511-1729242000-1729249200@hilllibrary.org
SUMMARY:A Matter of Balance Class
DESCRIPTION:
URL:https://hilllibrary.org/event/a-matter-of-balance-class-2-2/2024-10-18/
LOCATION:Hill Library\, 1151 Parker Mountain Road\, Strafford\, NH\, 03884
CATEGORIES:Adult programs
ATTACH;FMTTYPE=image/png:https://hilllibrary.org/wp-content/uploads/2024/09/Copy-of-Copy-of-Matter-of-Balance-class.png
ORGANIZER;CN="Hill Library":MAILTO:lmolloy@hilllibrary.org
END:VEVENT
BEGIN:VEVENT
DTSTART;TZID=America/New_York:20241019T090000
DTEND;TZID=America/New_York:20241019T100000
DTSTAMP:20260425T062456
CREATED:20241005T161420Z
LAST-MODIFIED:20260206T193134Z
UID:10004070-1729328400-1729332000@hilllibrary.org
SUMMARY:Gentle Flow Yoga 9am-10am
DESCRIPTION:
URL:https://hilllibrary.org/event/gentle-flow-yoga-2-2/2024-10-19/
LOCATION:Hill Library\, 1151 Parker Mountain Road\, Strafford\, NH\, 03884
CATEGORIES:Adult programs
ATTACH;FMTTYPE=image/png:https://hilllibrary.org/wp-content/uploads/2024/03/Copy-of-Copy-of-Copy-of-Copy-of-GENTLE-FLOW-YOGA.png
ORGANIZER;CN="Hill Library":MAILTO:lmolloy@hilllibrary.org
END:VEVENT
BEGIN:VEVENT
DTSTART;TZID=America/New_York:20241020T120000
DTEND;TZID=America/New_York:20241020T160000
DTSTAMP:20260425T062456
CREATED:20240923T005648Z
LAST-MODIFIED:20241025T203701Z
UID:10002005-1729425600-1729440000@hilllibrary.org
SUMMARY:Spinners & Fiber Arts Group
DESCRIPTION:
URL:https://hilllibrary.org/event/spinners-fiber-arts-group/2024-10-20/
LOCATION:Hill Library\, 1151 Parker Mountain Road\, Strafford\, NH\, 03884
CATEGORIES:Adult programs
ATTACH;FMTTYPE=image/png:https://hilllibrary.org/wp-content/uploads/2024/09/Copy-of-Copy-of-Spinners-Collage-1080-x-400-px.png
ORGANIZER;CN="Hill Library":MAILTO:lmolloy@hilllibrary.org
END:VEVENT
BEGIN:VEVENT
DTSTART;TZID=America/New_York:20241022T090000
DTEND;TZID=America/New_York:20241022T110000
DTSTAMP:20260425T062456
CREATED:20240916T205211Z
LAST-MODIFIED:20240926T153946Z
UID:10000504-1729587600-1729594800@hilllibrary.org
SUMMARY:A Matter of Balance Class
DESCRIPTION:
URL:https://hilllibrary.org/event/a-matter-of-balance-class/2024-10-22/
LOCATION:Hill Library\, 1151 Parker Mountain Road\, Strafford\, NH\, 03884
CATEGORIES:Adult programs
ATTACH;FMTTYPE=image/png:https://hilllibrary.org/wp-content/uploads/2024/09/Copy-of-Copy-of-Matter-of-Balance-class.png
ORGANIZER;CN="Hill Library":MAILTO:lmolloy@hilllibrary.org
END:VEVENT
BEGIN:VEVENT
DTSTART;TZID=America/New_York:20241022T120000
DTEND;TZID=America/New_York:20241022T140000
DTSTAMP:20260425T062456
CREATED:20240918T195441Z
LAST-MODIFIED:20251215T155612Z
UID:10000844-1729598400-1729605600@hilllibrary.org
SUMMARY:Handy Crafters
DESCRIPTION:
URL:https://hilllibrary.org/event/handy-crafters/2024-10-22/
LOCATION:Hill Library\, 1151 Parker Mountain Road\, Strafford\, NH\, 03884
CATEGORIES:Adult programs
ATTACH;FMTTYPE=image/png:https://hilllibrary.org/wp-content/uploads/2024/09/Copy-of-If-youre-handy-join-the-Handy-Crafters-as-they-work-on-crafting-hats-and-scarves-for-members-of-the-military.-Stop-by-for-a-pattern.png
ORGANIZER;CN="Hill Library":MAILTO:lmolloy@hilllibrary.org
END:VEVENT
BEGIN:VEVENT
DTSTART;TZID=America/New_York:20241022T183000
DTEND;TZID=America/New_York:20241022T193000
DTSTAMP:20260425T062456
CREATED:20240923T005816Z
LAST-MODIFIED:20240923T005816Z
UID:10002006-1729621800-1729625400@hilllibrary.org
SUMMARY:Friends of the Library Meeting
DESCRIPTION:
URL:https://hilllibrary.org/event/friends-of-the-library-meeting/
LOCATION:Hill Library\, 1151 Parker Mountain Road\, Strafford\, NH\, 03884
CATEGORIES:Adult programs
ATTACH;FMTTYPE=image/png:https://hilllibrary.org/wp-content/uploads/2024/09/Friends-1080-x-400-px.png
ORGANIZER;CN="Hill Library":MAILTO:lmolloy@hilllibrary.org
END:VEVENT
BEGIN:VEVENT
DTSTART;TZID=America/New_York:20241023T130000
DTEND;TZID=America/New_York:20241023T150000
DTSTAMP:20260425T062456
CREATED:20240918T195907Z
LAST-MODIFIED:20241124T235444Z
UID:10001368-1729688400-1729695600@hilllibrary.org
SUMMARY:Mah Jongg Club
DESCRIPTION:
URL:https://hilllibrary.org/event/mah-jongg-club/2024-10-23/
LOCATION:Hill Library\, 1151 Parker Mountain Road\, Strafford\, NH\, 03884
CATEGORIES:Adult programs
ATTACH;FMTTYPE=image/png:https://hilllibrary.org/wp-content/uploads/2022/08/mahjong-1080-×-400-px.png
ORGANIZER;CN="Hill Library":MAILTO:lmolloy@hilllibrary.org
END:VEVENT
BEGIN:VEVENT
DTSTART;TZID=America/New_York:20241025T090000
DTEND;TZID=America/New_York:20241025T110000
DTSTAMP:20260425T062456
CREATED:20240916T210556Z
LAST-MODIFIED:20240926T153807Z
UID:10000512-1729846800-1729854000@hilllibrary.org
SUMMARY:A Matter of Balance Class
DESCRIPTION:
URL:https://hilllibrary.org/event/a-matter-of-balance-class-2-2/2024-10-25/
LOCATION:Hill Library\, 1151 Parker Mountain Road\, Strafford\, NH\, 03884
CATEGORIES:Adult programs
ATTACH;FMTTYPE=image/png:https://hilllibrary.org/wp-content/uploads/2024/09/Copy-of-Copy-of-Matter-of-Balance-class.png
ORGANIZER;CN="Hill Library":MAILTO:lmolloy@hilllibrary.org
END:VEVENT
BEGIN:VEVENT
DTSTART;TZID=America/New_York:20241026T090000
DTEND;TZID=America/New_York:20241026T100000
DTSTAMP:20260425T062456
CREATED:20241005T161420Z
LAST-MODIFIED:20260206T193134Z
UID:10004071-1729933200-1729936800@hilllibrary.org
SUMMARY:Gentle Flow Yoga 9am-10am
DESCRIPTION:
URL:https://hilllibrary.org/event/gentle-flow-yoga-2-2/2024-10-26/
LOCATION:Hill Library\, 1151 Parker Mountain Road\, Strafford\, NH\, 03884
CATEGORIES:Adult programs
ATTACH;FMTTYPE=image/png:https://hilllibrary.org/wp-content/uploads/2024/03/Copy-of-Copy-of-Copy-of-Copy-of-GENTLE-FLOW-YOGA.png
ORGANIZER;CN="Hill Library":MAILTO:lmolloy@hilllibrary.org
END:VEVENT
BEGIN:VEVENT
DTSTART;TZID=America/New_York:20241029T090000
DTEND;TZID=America/New_York:20241029T110000
DTSTAMP:20260425T062456
CREATED:20240916T205211Z
LAST-MODIFIED:20240926T153946Z
UID:10000505-1730192400-1730199600@hilllibrary.org
SUMMARY:A Matter of Balance Class
DESCRIPTION:
URL:https://hilllibrary.org/event/a-matter-of-balance-class/2024-10-29/
LOCATION:Hill Library\, 1151 Parker Mountain Road\, Strafford\, NH\, 03884
CATEGORIES:Adult programs
ATTACH;FMTTYPE=image/png:https://hilllibrary.org/wp-content/uploads/2024/09/Copy-of-Copy-of-Matter-of-Balance-class.png
ORGANIZER;CN="Hill Library":MAILTO:lmolloy@hilllibrary.org
END:VEVENT
BEGIN:VEVENT
DTSTART;TZID=America/New_York:20241029T120000
DTEND;TZID=America/New_York:20241029T140000
DTSTAMP:20260425T062456
CREATED:20240918T195441Z
LAST-MODIFIED:20251215T155612Z
UID:10000845-1730203200-1730210400@hilllibrary.org
SUMMARY:Handy Crafters
DESCRIPTION:
URL:https://hilllibrary.org/event/handy-crafters/2024-10-29/
LOCATION:Hill Library\, 1151 Parker Mountain Road\, Strafford\, NH\, 03884
CATEGORIES:Adult programs
ATTACH;FMTTYPE=image/png:https://hilllibrary.org/wp-content/uploads/2024/09/Copy-of-If-youre-handy-join-the-Handy-Crafters-as-they-work-on-crafting-hats-and-scarves-for-members-of-the-military.-Stop-by-for-a-pattern.png
ORGANIZER;CN="Hill Library":MAILTO:lmolloy@hilllibrary.org
END:VEVENT
BEGIN:VEVENT
DTSTART;TZID=America/New_York:20241030T130000
DTEND;TZID=America/New_York:20241030T150000
DTSTAMP:20260425T062456
CREATED:20240918T195907Z
LAST-MODIFIED:20241124T235444Z
UID:10001369-1730293200-1730300400@hilllibrary.org
SUMMARY:Mah Jongg Club
DESCRIPTION:
URL:https://hilllibrary.org/event/mah-jongg-club/2024-10-30/
LOCATION:Hill Library\, 1151 Parker Mountain Road\, Strafford\, NH\, 03884
CATEGORIES:Adult programs
ATTACH;FMTTYPE=image/png:https://hilllibrary.org/wp-content/uploads/2022/08/mahjong-1080-×-400-px.png
ORGANIZER;CN="Hill Library":MAILTO:lmolloy@hilllibrary.org
END:VEVENT
END:VCALENDAR