BEGIN:VCALENDAR
VERSION:2.0
PRODID:-//Hill Library, Strafford, NH - ECPv6.15.20//NONSGML v1.0//EN
CALSCALE:GREGORIAN
METHOD:PUBLISH
X-ORIGINAL-URL:https://hilllibrary.org
X-WR-CALDESC:Events for Hill Library, Strafford, NH
REFRESH-INTERVAL;VALUE=DURATION:PT1H
X-Robots-Tag:noindex
X-PUBLISHED-TTL:PT1H
BEGIN:VTIMEZONE
TZID:America/New_York
BEGIN:DAYLIGHT
TZOFFSETFROM:-0500
TZOFFSETTO:-0400
TZNAME:EDT
DTSTART:20240310T070000
END:DAYLIGHT
BEGIN:STANDARD
TZOFFSETFROM:-0400
TZOFFSETTO:-0500
TZNAME:EST
DTSTART:20241103T060000
END:STANDARD
BEGIN:DAYLIGHT
TZOFFSETFROM:-0500
TZOFFSETTO:-0400
TZNAME:EDT
DTSTART:20250309T070000
END:DAYLIGHT
BEGIN:STANDARD
TZOFFSETFROM:-0400
TZOFFSETTO:-0500
TZNAME:EST
DTSTART:20251102T060000
END:STANDARD
BEGIN:DAYLIGHT
TZOFFSETFROM:-0500
TZOFFSETTO:-0400
TZNAME:EDT
DTSTART:20260308T070000
END:DAYLIGHT
BEGIN:STANDARD
TZOFFSETFROM:-0400
TZOFFSETTO:-0500
TZNAME:EST
DTSTART:20261101T060000
END:STANDARD
END:VTIMEZONE
BEGIN:VEVENT
DTSTART;TZID=America/New_York:20250716T130000
DTEND;TZID=America/New_York:20250716T140000
DTSTAMP:20260424T070003
CREATED:20250625T200608Z
LAST-MODIFIED:20250625T200608Z
UID:10004037-1752670800-1752674400@hilllibrary.org
SUMMARY:Garden Art (All Ages)
DESCRIPTION:Make some beautiful art with flowers and other things found in the garden! All ages welcome\, no registration needed.
URL:https://hilllibrary.org/event/garden-art-all-ages/
LOCATION:Hill Library\, 1151 Parker Mountain Road\, Strafford\, NH\, 03884
CATEGORIES:All Ages Youth and Adult
ATTACH;FMTTYPE=image/png:https://hilllibrary.org/wp-content/uploads/2025/06/Wednesday-July-16.png
ORGANIZER;CN="Hill Library":MAILTO:lmolloy@hilllibrary.org
END:VEVENT
BEGIN:VEVENT
DTSTART;TZID=America/New_York:20250716T163000
DTEND;TZID=America/New_York:20250716T180000
DTSTAMP:20260424T070003
CREATED:20250619T181527Z
LAST-MODIFIED:20250619T181527Z
UID:10003971-1752683400-1752688800@hilllibrary.org
SUMMARY:Marilyn is retiring!
DESCRIPTION:The Hill Library will be saying goodbye to our favorite nonagenarian. Marilyn Roderick is retiring\, and we invite you to stop by to say goodbye and to have a treat to celebrate Marilyn!  \nCome by Wednesday\, July 16 from 4:30 to 6 pm to wish her well.
URL:https://hilllibrary.org/event/marilyn-is-retiring/
LOCATION:Hill Library\, 1151 Parker Mountain Road\, Strafford\, NH\, 03884
CATEGORIES:All Ages Youth and Adult
ATTACH;FMTTYPE=image/png:https://hilllibrary.org/wp-content/uploads/2025/06/Copy-of-Thank-you-Marilyn.png
ORGANIZER;CN="Hill Library":MAILTO:lmolloy@hilllibrary.org
END:VEVENT
END:VCALENDAR