BEGIN:VCALENDAR
VERSION:2.0
PRODID:-//Hill Library, Strafford, NH - ECPv6.15.20//NONSGML v1.0//EN
CALSCALE:GREGORIAN
METHOD:PUBLISH
X-WR-CALNAME:Hill Library, Strafford, NH
X-ORIGINAL-URL:https://hilllibrary.org
X-WR-CALDESC:Events for Hill Library, Strafford, NH
REFRESH-INTERVAL;VALUE=DURATION:PT1H
X-Robots-Tag:noindex
X-PUBLISHED-TTL:PT1H
BEGIN:VTIMEZONE
TZID:America/New_York
BEGIN:DAYLIGHT
TZOFFSETFROM:-0500
TZOFFSETTO:-0400
TZNAME:EDT
DTSTART:20240310T070000
END:DAYLIGHT
BEGIN:STANDARD
TZOFFSETFROM:-0400
TZOFFSETTO:-0500
TZNAME:EST
DTSTART:20241103T060000
END:STANDARD
BEGIN:DAYLIGHT
TZOFFSETFROM:-0500
TZOFFSETTO:-0400
TZNAME:EDT
DTSTART:20250309T070000
END:DAYLIGHT
BEGIN:STANDARD
TZOFFSETFROM:-0400
TZOFFSETTO:-0500
TZNAME:EST
DTSTART:20251102T060000
END:STANDARD
BEGIN:DAYLIGHT
TZOFFSETFROM:-0500
TZOFFSETTO:-0400
TZNAME:EDT
DTSTART:20260308T070000
END:DAYLIGHT
BEGIN:STANDARD
TZOFFSETFROM:-0400
TZOFFSETTO:-0500
TZNAME:EST
DTSTART:20261101T060000
END:STANDARD
END:VTIMEZONE
BEGIN:VEVENT
DTSTART;TZID=America/New_York:20250220T100000
DTEND;TZID=America/New_York:20250220T103000
DTSTAMP:20260424T150937
CREATED:20240920T193243Z
LAST-MODIFIED:20250915T174145Z
UID:10001643-1740045600-1740047400@hilllibrary.org
SUMMARY:Music and Movement
DESCRIPTION:Let’s move and groove with songs\, scarves\, egg shakers\, and our parachute! All ages welcome. Starting in October\, Music and Movement will be alternating every other week with our new program\, Sensory Playtime!
URL:https://hilllibrary.org/event/music-and-movement-2/2025-02-20/
LOCATION:Hill Library\, 1151 Parker Mountain Road\, Strafford\, NH\, 03884
CATEGORIES:Ages 0-5
ATTACH;FMTTYPE=image/png:https://hilllibrary.org/wp-content/uploads/2024/09/MM.png
ORGANIZER;CN="Hill Library":MAILTO:lmolloy@hilllibrary.org
END:VEVENT
BEGIN:VEVENT
DTSTART;TZID=America/New_York:20250220T130000
DTEND;TZID=America/New_York:20250220T150000
DTSTAMP:20260424T150937
CREATED:20241229T224919Z
LAST-MODIFIED:20251021T174443Z
UID:10002738-1740056400-1740063600@hilllibrary.org
SUMMARY:Mah Jongg Club
DESCRIPTION:
URL:https://hilllibrary.org/event/mah-jongg-club-2/2025-02-20/
LOCATION:Hill Library\, 1151 Parker Mountain Road\, Strafford\, NH\, 03884
CATEGORIES:Adult programs
ATTACH;FMTTYPE=image/png:https://hilllibrary.org/wp-content/uploads/2022/08/mahjong-1080-×-400-px.png
ORGANIZER;CN="Hill Library":MAILTO:lmolloy@hilllibrary.org
END:VEVENT
BEGIN:VEVENT
DTSTART;TZID=America/New_York:20250220T153000
DTEND;TZID=America/New_York:20250220T163000
DTSTAMP:20260424T150937
CREATED:20240920T194456Z
LAST-MODIFIED:20250527T144640Z
UID:10001902-1740065400-1740069000@hilllibrary.org
SUMMARY:Grade 5+ Games
DESCRIPTION:Join us for some fun games and snacks! All youth in grades 5 and up are welcome. No registration needed.
URL:https://hilllibrary.org/event/grade-5-games/2025-02-20/
LOCATION:Hill Library\, 1151 Parker Mountain Road\, Strafford\, NH\, 03884
CATEGORIES:Grades 5 and Up
ATTACH;FMTTYPE=image/png:https://hilllibrary.org/wp-content/uploads/2024/08/Copy-of-Copy-of-Grade-5-Game.png
ORGANIZER;CN="Hill Library":MAILTO:lmolloy@hilllibrary.org
END:VEVENT
BEGIN:VEVENT
DTSTART;TZID=America/New_York:20250220T153000
DTEND;TZID=America/New_York:20250220T163000
DTSTAMP:20260424T150937
CREATED:20250213T124302Z
LAST-MODIFIED:20250213T124302Z
UID:10003114-1740065400-1740069000@hilllibrary.org
SUMMARY:Grades 5+ Valentines Cupcake Decorating
DESCRIPTION:Decorate tasty Valentine’s Day cupcakes! Email cbeihl.hl@gmail.com to register. This program is for youth in grades 5 and up.
URL:https://hilllibrary.org/event/grades-5-valentines-cupcake-decorating-2/
LOCATION:Hill Library\, 1151 Parker Mountain Road\, Strafford\, NH\, 03884
CATEGORIES:Grades 5 and Up
ATTACH;FMTTYPE=image/png:https://hilllibrary.org/wp-content/uploads/2025/01/Valentines-Cupcake-Decorating.png
ORGANIZER;CN="Hill Library":MAILTO:lmolloy@hilllibrary.org
END:VEVENT
BEGIN:VEVENT
DTSTART;TZID=America/New_York:20250220T183000
DTEND;TZID=America/New_York:20250220T193000
DTSTAMP:20260424T150937
CREATED:20241215T231858Z
LAST-MODIFIED:20250211T165717Z
UID:10002567-1740076200-1740079800@hilllibrary.org
SUMMARY:Black Bear Happenings in NH- with NH Fish & Game Stewards
DESCRIPTION:
URL:https://hilllibrary.org/event/black-bear-happenings-in-nh-with-nh-fish-game-stewards/
LOCATION:NH
CATEGORIES:All Ages Youth and Adult
END:VEVENT
END:VCALENDAR