BEGIN:VCALENDAR
VERSION:2.0
PRODID:-//Hill Library, Strafford, NH - ECPv6.15.20//NONSGML v1.0//EN
CALSCALE:GREGORIAN
METHOD:PUBLISH
X-ORIGINAL-URL:https://hilllibrary.org
X-WR-CALDESC:Events for Hill Library, Strafford, NH
REFRESH-INTERVAL;VALUE=DURATION:PT1H
X-Robots-Tag:noindex
X-PUBLISHED-TTL:PT1H
BEGIN:VTIMEZONE
TZID:America/New_York
BEGIN:DAYLIGHT
TZOFFSETFROM:-0500
TZOFFSETTO:-0400
TZNAME:EDT
DTSTART:20240310T070000
END:DAYLIGHT
BEGIN:STANDARD
TZOFFSETFROM:-0400
TZOFFSETTO:-0500
TZNAME:EST
DTSTART:20241103T060000
END:STANDARD
BEGIN:DAYLIGHT
TZOFFSETFROM:-0500
TZOFFSETTO:-0400
TZNAME:EDT
DTSTART:20250309T070000
END:DAYLIGHT
BEGIN:STANDARD
TZOFFSETFROM:-0400
TZOFFSETTO:-0500
TZNAME:EST
DTSTART:20251102T060000
END:STANDARD
BEGIN:DAYLIGHT
TZOFFSETFROM:-0500
TZOFFSETTO:-0400
TZNAME:EDT
DTSTART:20260308T070000
END:DAYLIGHT
BEGIN:STANDARD
TZOFFSETFROM:-0400
TZOFFSETTO:-0500
TZNAME:EST
DTSTART:20261101T060000
END:STANDARD
END:VTIMEZONE
BEGIN:VEVENT
DTSTART;VALUE=DATE:20250213
DTEND;VALUE=DATE:20250214
DTSTAMP:20260424T165849
CREATED:20250213T125105Z
LAST-MODIFIED:20250213T125105Z
UID:10003116-1739404800-1739491199@hilllibrary.org
SUMMARY:Library Closed Morning and Early Afternoon
DESCRIPTION:Due to the weather conditions the library will be closed through the morning and early afternoon. We are monitoring conditions and hope to open later in the day.
URL:https://hilllibrary.org/event/library-closed-morning-and-early-afternoon/
LOCATION:Hill Library\, 1151 Parker Mountain Road\, Strafford\, NH\, 03884
ORGANIZER;CN="Hill Library":MAILTO:lmolloy@hilllibrary.org
END:VEVENT
BEGIN:VEVENT
DTSTART;TZID=America/New_York:20250213T100000
DTEND;TZID=America/New_York:20250213T103000
DTSTAMP:20260424T165849
CREATED:20240920T193243Z
LAST-MODIFIED:20250915T174145Z
UID:10004384-1739440800-1739442600@hilllibrary.org
SUMMARY:Music and Movement
DESCRIPTION:Let’s move and groove with songs\, scarves\, egg shakers\, and our parachute! All ages welcome. Starting in October\, Music and Movement will be alternating every other week with our new program\, Sensory Playtime!
URL:https://hilllibrary.org/event/music-and-movement-2/2025-02-13/
LOCATION:Hill Library\, 1151 Parker Mountain Road\, Strafford\, NH\, 03884
CATEGORIES:Ages 0-5
ATTACH;FMTTYPE=image/png:https://hilllibrary.org/wp-content/uploads/2024/09/MM.png
ORGANIZER;CN="Hill Library":MAILTO:lmolloy@hilllibrary.org
END:VEVENT
BEGIN:VEVENT
DTSTART;TZID=America/New_York:20250213T100000
DTEND;TZID=America/New_York:20250213T103000
DTSTAMP:20260424T165849
CREATED:20250213T124106Z
LAST-MODIFIED:20250213T124106Z
UID:10001642-1739440800-1739442600@hilllibrary.org
SUMMARY:CANCELLED--Music and Movement
DESCRIPTION:Music and Movement is cancelled 2/13/25 due to snow. We’ll see you next week!
URL:https://hilllibrary.org/event/music-and-movement-2-2/
LOCATION:Hill Library\, 1151 Parker Mountain Road\, Strafford\, NH\, 03884
CATEGORIES:Ages 0-5
ATTACH;FMTTYPE=image/png:https://hilllibrary.org/wp-content/uploads/2024/09/Copy-of-Copy-of-MM.png
ORGANIZER;CN="Hill Library":MAILTO:lmolloy@hilllibrary.org
END:VEVENT
BEGIN:VEVENT
DTSTART;TZID=America/New_York:20250213T130000
DTEND;TZID=America/New_York:20250213T150000
DTSTAMP:20260424T165849
CREATED:20241229T224919Z
LAST-MODIFIED:20251021T174443Z
UID:10005746-1739451600-1739458800@hilllibrary.org
SUMMARY:Mah Jongg Club
DESCRIPTION:
URL:https://hilllibrary.org/event/mah-jongg-club-2/2025-02-13/
LOCATION:Hill Library\, 1151 Parker Mountain Road\, Strafford\, NH\, 03884
CATEGORIES:Adult programs
ATTACH;FMTTYPE=image/png:https://hilllibrary.org/wp-content/uploads/2022/08/mahjong-1080-×-400-px.png
ORGANIZER;CN="Hill Library":MAILTO:lmolloy@hilllibrary.org
END:VEVENT
BEGIN:VEVENT
DTSTART;TZID=America/New_York:20250213T130000
DTEND;TZID=America/New_York:20250213T150000
DTSTAMP:20260424T165849
CREATED:20250213T124832Z
LAST-MODIFIED:20250213T124840Z
UID:10002737-1739451600-1739458800@hilllibrary.org
SUMMARY:CANCELLED--Mah Jongg Club
DESCRIPTION:
URL:https://hilllibrary.org/event/mah-jongg-club-2-3/
LOCATION:Hill Library\, 1151 Parker Mountain Road\, Strafford\, NH\, 03884
CATEGORIES:Adult programs
ATTACH;FMTTYPE=image/png:https://hilllibrary.org/wp-content/uploads/2022/08/mahjong-1080-×-400-px.png
ORGANIZER;CN="Hill Library":MAILTO:lmolloy@hilllibrary.org
END:VEVENT
BEGIN:VEVENT
DTSTART;TZID=America/New_York:20250213T153000
DTEND;TZID=America/New_York:20250213T163000
DTSTAMP:20260424T165849
CREATED:20250127T180259Z
LAST-MODIFIED:20250213T124506Z
UID:10002999-1739460600-1739464200@hilllibrary.org
SUMMARY:POSTPONED--Grades 5+ Valentines Cupcake Decorating
DESCRIPTION:This program has been postponed until Thursday\, 2/20. Email cbeihl.hl@gmail.com to register.
URL:https://hilllibrary.org/event/grades-5-valentines-cupcake-decorating/
LOCATION:Hill Library\, 1151 Parker Mountain Road\, Strafford\, NH\, 03884
CATEGORIES:Grades 5 and Up
ATTACH;FMTTYPE=image/png:https://hilllibrary.org/wp-content/uploads/2025/01/Valentines-Cupcake-Decorating.png
ORGANIZER;CN="Hill Library":MAILTO:lmolloy@hilllibrary.org
END:VEVENT
END:VCALENDAR